BEGIN:VCALENDAR
VERSION:2.0
PRODID:-//Darul Islah | Muslim Society of Bergen County - ECPv6.15.20//NONSGML v1.0//EN
CALSCALE:GREGORIAN
METHOD:PUBLISH
X-ORIGINAL-URL:https://www.darulislah.org
X-WR-CALDESC:Events for Darul Islah | Muslim Society of Bergen County
REFRESH-INTERVAL;VALUE=DURATION:PT1H
X-Robots-Tag:noindex
X-PUBLISHED-TTL:PT1H
BEGIN:VTIMEZONE
TZID:America/New_York
BEGIN:DAYLIGHT
TZOFFSETFROM:-0500
TZOFFSETTO:-0400
TZNAME:EDT
DTSTART:20240310T070000
END:DAYLIGHT
BEGIN:STANDARD
TZOFFSETFROM:-0400
TZOFFSETTO:-0500
TZNAME:EST
DTSTART:20241103T060000
END:STANDARD
BEGIN:DAYLIGHT
TZOFFSETFROM:-0500
TZOFFSETTO:-0400
TZNAME:EDT
DTSTART:20250309T070000
END:DAYLIGHT
BEGIN:STANDARD
TZOFFSETFROM:-0400
TZOFFSETTO:-0500
TZNAME:EST
DTSTART:20251102T060000
END:STANDARD
BEGIN:DAYLIGHT
TZOFFSETFROM:-0500
TZOFFSETTO:-0400
TZNAME:EDT
DTSTART:20260308T070000
END:DAYLIGHT
BEGIN:STANDARD
TZOFFSETFROM:-0400
TZOFFSETTO:-0500
TZNAME:EST
DTSTART:20261101T060000
END:STANDARD
END:VTIMEZONE
BEGIN:VEVENT
DTSTART;TZID=America/New_York:20251115T120000
DTEND;TZID=America/New_York:20251115T130000
DTSTAMP:20260424T102143
CREATED:20250902T201934Z
LAST-MODIFIED:20250902T201934Z
UID:10001812-1763208000-1763211600@www.darulislah.org
SUMMARY:Sisters' Tajweed Class
DESCRIPTION:
URL:https://www.darulislah.org/events/sisters-tajweed-class/2025-11-15/
CATEGORIES:Masjid Events
ATTACH;FMTTYPE=image/png:https://www.darulislah.org/wp-content/uploads/2025/09/Sisters-Tajweed-Class-7.png
END:VEVENT
BEGIN:VEVENT
DTSTART;TZID=America/New_York:20251116T054500
DTEND;TZID=America/New_York:20251116T063000
DTSTAMP:20260424T102143
CREATED:20250902T175939Z
LAST-MODIFIED:20250902T180641Z
UID:10000768-1763271900-1763274600@www.darulislah.org
SUMMARY:Journey through the Quran
DESCRIPTION:Fajr Khatirah with Imam Saeed Qureshi
URL:https://www.darulislah.org/events/journey-through-the-quran/2025-11-16/
CATEGORIES:Masjid Events
ATTACH;FMTTYPE=image/png:https://www.darulislah.org/wp-content/uploads/2025/04/Fajr-Khatiras-1.png
END:VEVENT
BEGIN:VEVENT
DTSTART;TZID=America/New_York:20251117T190000
DTEND;TZID=America/New_York:20251117T200000
DTSTAMP:20260424T102143
CREATED:20250902T195429Z
LAST-MODIFIED:20251007T164202Z
UID:10001029-1763406000-1763409600@www.darulislah.org
SUMMARY:40 Hadith for Youth with Sh. Waleed
DESCRIPTION:
URL:https://www.darulislah.org/events/40hadith/2025-11-17/
CATEGORIES:Masjid Events
ATTACH;FMTTYPE=image/png:https://www.darulislah.org/wp-content/uploads/2025/09/Weekdays-With-Sheikh-2.png
END:VEVENT
BEGIN:VEVENT
DTSTART;TZID=America/New_York:20251119T193000
DTEND;TZID=America/New_York:20251119T200000
DTSTAMP:20260424T102143
CREATED:20251007T164318Z
LAST-MODIFIED:20251007T164324Z
UID:10001291-1763580600-1763582400@www.darulislah.org
SUMMARY:Sh. Waleed's Post Maghrib Khatira
DESCRIPTION:
URL:https://www.darulislah.org/events/sh-waleeds-post-maghrib-khatira-2/2025-11-19/
CATEGORIES:Masjid Events
ATTACH;FMTTYPE=image/png:https://www.darulislah.org/wp-content/uploads/2025/09/Weekdays-With-Sheikh-2.png
END:VEVENT
BEGIN:VEVENT
DTSTART;TZID=America/New_York:20251121T130000
DTEND;TZID=America/New_York:20251121T150000
DTSTAMP:20260424T102143
CREATED:20250902T175228Z
LAST-MODIFIED:20250902T175229Z
UID:10000248-1763730000-1763737200@www.darulislah.org
SUMMARY:Jummah
DESCRIPTION:
URL:https://www.darulislah.org/events/jummah-3/2025-11-21/
CATEGORIES:Masjid Events
END:VEVENT
BEGIN:VEVENT
DTSTART;TZID=America/New_York:20251121T170000
DTEND;TZID=America/New_York:20251121T183000
DTSTAMP:20260424T102143
CREATED:20250911T163416Z
LAST-MODIFIED:20250911T163418Z
UID:10002074-1763744400-1763749800@www.darulislah.org
SUMMARY:DI Juniors (Girls)
DESCRIPTION:
URL:https://www.darulislah.org/events/di-juniors-girls-2/2025-11-21/
CATEGORIES:Masjid Events
END:VEVENT
BEGIN:VEVENT
DTSTART;TZID=America/New_York:20251121T190000
DTEND;TZID=America/New_York:20251121T200000
DTSTAMP:20260424T102143
CREATED:20250902T201159Z
LAST-MODIFIED:20250902T201159Z
UID:10001552-1763751600-1763755200@www.darulislah.org
SUMMARY:Sisters' Halaqa
DESCRIPTION:
URL:https://www.darulislah.org/events/sisters-halaqa/2025-11-21/
CATEGORIES:Masjid Events
ATTACH;FMTTYPE=image/png:https://www.darulislah.org/wp-content/uploads/2025/09/Sr.-Sherins-Halaqa-Real-Estate-Flyer-11.png
END:VEVENT
BEGIN:VEVENT
DTSTART;TZID=America/New_York:20251122T054500
DTEND;TZID=America/New_York:20251122T183000
DTSTAMP:20260424T102143
CREATED:20250902T180345Z
LAST-MODIFIED:20250902T194454Z
UID:10000509-1763790300-1763836200@www.darulislah.org
SUMMARY:Journey Through the Hadith
DESCRIPTION:
URL:https://www.darulislah.org/events/journey-through-the-hadith/2025-11-22/
CATEGORIES:Masjid Events
ATTACH;FMTTYPE=image/png:https://www.darulislah.org/wp-content/uploads/2025/09/Fajr-Khatiras-1.png
END:VEVENT
BEGIN:VEVENT
DTSTART;TZID=America/New_York:20251122T120000
DTEND;TZID=America/New_York:20251122T130000
DTSTAMP:20260424T102143
CREATED:20250902T201934Z
LAST-MODIFIED:20250902T201934Z
UID:10001813-1763812800-1763816400@www.darulislah.org
SUMMARY:Sisters' Tajweed Class
DESCRIPTION:
URL:https://www.darulislah.org/events/sisters-tajweed-class/2025-11-22/
CATEGORIES:Masjid Events
ATTACH;FMTTYPE=image/png:https://www.darulislah.org/wp-content/uploads/2025/09/Sisters-Tajweed-Class-7.png
END:VEVENT
BEGIN:VEVENT
DTSTART;TZID=America/New_York:20251123T054500
DTEND;TZID=America/New_York:20251123T063000
DTSTAMP:20260424T102143
CREATED:20250902T175939Z
LAST-MODIFIED:20250902T180641Z
UID:10000769-1763876700-1763879400@www.darulislah.org
SUMMARY:Journey through the Quran
DESCRIPTION:Fajr Khatirah with Imam Saeed Qureshi
URL:https://www.darulislah.org/events/journey-through-the-quran/2025-11-23/
CATEGORIES:Masjid Events
ATTACH;FMTTYPE=image/png:https://www.darulislah.org/wp-content/uploads/2025/04/Fajr-Khatiras-1.png
END:VEVENT
BEGIN:VEVENT
DTSTART;TZID=America/New_York:20251124T190000
DTEND;TZID=America/New_York:20251124T200000
DTSTAMP:20260424T102143
CREATED:20250902T195429Z
LAST-MODIFIED:20251007T164202Z
UID:10001030-1764010800-1764014400@www.darulislah.org
SUMMARY:40 Hadith for Youth with Sh. Waleed
DESCRIPTION:
URL:https://www.darulislah.org/events/40hadith/2025-11-24/
CATEGORIES:Masjid Events
ATTACH;FMTTYPE=image/png:https://www.darulislah.org/wp-content/uploads/2025/09/Weekdays-With-Sheikh-2.png
END:VEVENT
BEGIN:VEVENT
DTSTART;TZID=America/New_York:20251126T000000
DTEND;TZID=America/New_York:20251126T000000
DTSTAMP:20260424T102143
CREATED:20250826T171632Z
LAST-MODIFIED:20250826T171756Z
UID:10000223-1764115200-1764115200@www.darulislah.org
SUMMARY:Half Day - Quran Competition
DESCRIPTION:
URL:https://www.darulislah.org/events/half-day-quran-competition/
CATEGORIES:Hifz & Crescent Calendar
END:VEVENT
BEGIN:VEVENT
DTSTART;TZID=America/New_York:20251126T193000
DTEND;TZID=America/New_York:20251126T200000
DTSTAMP:20260424T102143
CREATED:20251007T164318Z
LAST-MODIFIED:20251007T164324Z
UID:10001292-1764185400-1764187200@www.darulislah.org
SUMMARY:Sh. Waleed's Post Maghrib Khatira
DESCRIPTION:
URL:https://www.darulislah.org/events/sh-waleeds-post-maghrib-khatira-2/2025-11-26/
CATEGORIES:Masjid Events
ATTACH;FMTTYPE=image/png:https://www.darulislah.org/wp-content/uploads/2025/09/Weekdays-With-Sheikh-2.png
END:VEVENT
BEGIN:VEVENT
DTSTART;TZID=America/New_York:20251127T000000
DTEND;TZID=America/New_York:20251128T000000
DTSTAMP:20260424T102143
CREATED:20250822T040113Z
LAST-MODIFIED:20250822T040113Z
UID:10000209-1764201600-1764288000@www.darulislah.org
SUMMARY:Thanksgiving Break
DESCRIPTION:
URL:https://www.darulislah.org/events/thanksgiving-break/
CATEGORIES:Evening School Calendar
END:VEVENT
BEGIN:VEVENT
DTSTART;TZID=America/New_York:20251127T000000
DTEND;TZID=America/New_York:20251128T000000
DTSTAMP:20260424T102143
CREATED:20250826T171632Z
LAST-MODIFIED:20250826T171757Z
UID:10000224-1764201600-1764288000@www.darulislah.org
SUMMARY:Thanksgiving Holiday
DESCRIPTION:
URL:https://www.darulislah.org/events/thanksgiving-holiday/
CATEGORIES:Hifz & Crescent Calendar
END:VEVENT
BEGIN:VEVENT
DTSTART;TZID=America/New_York:20251128T130000
DTEND;TZID=America/New_York:20251128T150000
DTSTAMP:20260424T102143
CREATED:20251125T180436Z
LAST-MODIFIED:20251125T180437Z
UID:10000249-1764334800-1764342000@www.darulislah.org
SUMMARY:Jummah
DESCRIPTION:
URL:https://www.darulislah.org/events/jummah-3-9/
CATEGORIES:Masjid Events
ATTACH;FMTTYPE=image/png:https://www.darulislah.org/wp-content/uploads/2025/11/Jumuah-52.png
END:VEVENT
BEGIN:VEVENT
DTSTART;TZID=America/New_York:20251128T170000
DTEND;TZID=America/New_York:20251128T183000
DTSTAMP:20260424T102143
CREATED:20250911T163416Z
LAST-MODIFIED:20250911T163418Z
UID:10002075-1764349200-1764354600@www.darulislah.org
SUMMARY:DI Juniors (Girls)
DESCRIPTION:
URL:https://www.darulislah.org/events/di-juniors-girls-2/2025-11-28/
CATEGORIES:Masjid Events
END:VEVENT
BEGIN:VEVENT
DTSTART;TZID=America/New_York:20251128T190000
DTEND;TZID=America/New_York:20251128T200000
DTSTAMP:20260424T102143
CREATED:20250902T201159Z
LAST-MODIFIED:20250902T201159Z
UID:10001553-1764356400-1764360000@www.darulislah.org
SUMMARY:Sisters' Halaqa
DESCRIPTION:
URL:https://www.darulislah.org/events/sisters-halaqa/2025-11-28/
CATEGORIES:Masjid Events
ATTACH;FMTTYPE=image/png:https://www.darulislah.org/wp-content/uploads/2025/09/Sr.-Sherins-Halaqa-Real-Estate-Flyer-11.png
END:VEVENT
BEGIN:VEVENT
DTSTART;TZID=America/New_York:20251129T054500
DTEND;TZID=America/New_York:20251129T183000
DTSTAMP:20260424T102143
CREATED:20250902T180345Z
LAST-MODIFIED:20250902T194454Z
UID:10000510-1764395100-1764441000@www.darulislah.org
SUMMARY:Journey Through the Hadith
DESCRIPTION:
URL:https://www.darulislah.org/events/journey-through-the-hadith/2025-11-29/
CATEGORIES:Masjid Events
ATTACH;FMTTYPE=image/png:https://www.darulislah.org/wp-content/uploads/2025/09/Fajr-Khatiras-1.png
END:VEVENT
BEGIN:VEVENT
DTSTART;TZID=America/New_York:20251129T120000
DTEND;TZID=America/New_York:20251129T130000
DTSTAMP:20260424T102143
CREATED:20250902T201934Z
LAST-MODIFIED:20250902T201934Z
UID:10001814-1764417600-1764421200@www.darulislah.org
SUMMARY:Sisters' Tajweed Class
DESCRIPTION:
URL:https://www.darulislah.org/events/sisters-tajweed-class/2025-11-29/
CATEGORIES:Masjid Events
ATTACH;FMTTYPE=image/png:https://www.darulislah.org/wp-content/uploads/2025/09/Sisters-Tajweed-Class-7.png
END:VEVENT
BEGIN:VEVENT
DTSTART;TZID=America/New_York:20251130T054500
DTEND;TZID=America/New_York:20251130T063000
DTSTAMP:20260424T102143
CREATED:20250902T175939Z
LAST-MODIFIED:20250902T180641Z
UID:10000770-1764481500-1764484200@www.darulislah.org
SUMMARY:Journey through the Quran
DESCRIPTION:Fajr Khatirah with Imam Saeed Qureshi
URL:https://www.darulislah.org/events/journey-through-the-quran/2025-11-30/
CATEGORIES:Masjid Events
ATTACH;FMTTYPE=image/png:https://www.darulislah.org/wp-content/uploads/2025/04/Fajr-Khatiras-1.png
END:VEVENT
BEGIN:VEVENT
DTSTART;TZID=America/New_York:20251201T190000
DTEND;TZID=America/New_York:20251201T200000
DTSTAMP:20260424T102143
CREATED:20250902T195429Z
LAST-MODIFIED:20251007T164202Z
UID:10001031-1764615600-1764619200@www.darulislah.org
SUMMARY:40 Hadith for Youth with Sh. Waleed
DESCRIPTION:
URL:https://www.darulislah.org/events/40hadith/2025-12-01/
CATEGORIES:Masjid Events
ATTACH;FMTTYPE=image/png:https://www.darulislah.org/wp-content/uploads/2025/09/Weekdays-With-Sheikh-2.png
END:VEVENT
BEGIN:VEVENT
DTSTART;TZID=America/New_York:20251203T193000
DTEND;TZID=America/New_York:20251203T200000
DTSTAMP:20260424T102143
CREATED:20251007T164318Z
LAST-MODIFIED:20251007T164324Z
UID:10001293-1764790200-1764792000@www.darulislah.org
SUMMARY:Sh. Waleed's Post Maghrib Khatira
DESCRIPTION:
URL:https://www.darulislah.org/events/sh-waleeds-post-maghrib-khatira-2/2025-12-03/
CATEGORIES:Masjid Events
ATTACH;FMTTYPE=image/png:https://www.darulislah.org/wp-content/uploads/2025/09/Weekdays-With-Sheikh-2.png
END:VEVENT
BEGIN:VEVENT
DTSTART;TZID=America/New_York:20251205T130000
DTEND;TZID=America/New_York:20251205T150000
DTSTAMP:20260424T102143
CREATED:20251203T040927Z
LAST-MODIFIED:20251203T040927Z
UID:10000250-1764939600-1764946800@www.darulislah.org
SUMMARY:Jummah
DESCRIPTION:
URL:https://www.darulislah.org/events/jummah-3-10/
CATEGORIES:Masjid Events
ATTACH;FMTTYPE=image/png:https://www.darulislah.org/wp-content/uploads/2025/09/Jumuah-54.png
END:VEVENT
BEGIN:VEVENT
DTSTART;TZID=America/New_York:20251205T170000
DTEND;TZID=America/New_York:20251205T183000
DTSTAMP:20260424T102143
CREATED:20251203T041808Z
LAST-MODIFIED:20251203T041809Z
UID:10002076-1764954000-1764959400@www.darulislah.org
SUMMARY:DI Juniors (Girls)
DESCRIPTION:
URL:https://www.darulislah.org/events/di-juniors-girls-2-9/
CATEGORIES:Masjid Events
ATTACH;FMTTYPE=image/jpeg:https://www.darulislah.org/wp-content/uploads/2025/09/WhatsApp-Image-2025-12-01-at-10.54.28-AM.jpeg
END:VEVENT
BEGIN:VEVENT
DTSTART;TZID=America/New_York:20251205T190000
DTEND;TZID=America/New_York:20251205T200000
DTSTAMP:20260424T102143
CREATED:20250902T201159Z
LAST-MODIFIED:20250902T201159Z
UID:10001554-1764961200-1764964800@www.darulislah.org
SUMMARY:Sisters' Halaqa
DESCRIPTION:
URL:https://www.darulislah.org/events/sisters-halaqa/2025-12-05/
CATEGORIES:Masjid Events
ATTACH;FMTTYPE=image/png:https://www.darulislah.org/wp-content/uploads/2025/09/Sr.-Sherins-Halaqa-Real-Estate-Flyer-11.png
END:VEVENT
BEGIN:VEVENT
DTSTART;TZID=America/New_York:20251206T054500
DTEND;TZID=America/New_York:20251206T183000
DTSTAMP:20260424T102143
CREATED:20250902T180345Z
LAST-MODIFIED:20250902T194454Z
UID:10000511-1764999900-1765045800@www.darulislah.org
SUMMARY:Journey Through the Hadith
DESCRIPTION:
URL:https://www.darulislah.org/events/journey-through-the-hadith/2025-12-06/
CATEGORIES:Masjid Events
ATTACH;FMTTYPE=image/png:https://www.darulislah.org/wp-content/uploads/2025/09/Fajr-Khatiras-1.png
END:VEVENT
BEGIN:VEVENT
DTSTART;TZID=America/New_York:20251206T120000
DTEND;TZID=America/New_York:20251206T130000
DTSTAMP:20260424T102143
CREATED:20250902T201934Z
LAST-MODIFIED:20250902T201934Z
UID:10001815-1765022400-1765026000@www.darulislah.org
SUMMARY:Sisters' Tajweed Class
DESCRIPTION:
URL:https://www.darulislah.org/events/sisters-tajweed-class/2025-12-06/
CATEGORIES:Masjid Events
ATTACH;FMTTYPE=image/png:https://www.darulislah.org/wp-content/uploads/2025/09/Sisters-Tajweed-Class-7.png
END:VEVENT
BEGIN:VEVENT
DTSTART;TZID=America/New_York:20251206T180000
DTEND;TZID=America/New_York:20251206T200000
DTSTAMP:20260424T102143
CREATED:20251204T171050Z
LAST-MODIFIED:20251204T171051Z
UID:10002375-1765044000-1765051200@www.darulislah.org
SUMMARY:Echoes of Liberation: The Future of Syria & Palestine Through A Historical Lens
DESCRIPTION:
URL:https://www.darulislah.org/events/echoes-of-liberation-the-future-of-syria-palestine-through-a-historical-lens/
CATEGORIES:Masjid Events
ATTACH;FMTTYPE=image/png:https://www.darulislah.org/wp-content/uploads/2025/12/Echoes-of-Liberation.png
END:VEVENT
BEGIN:VEVENT
DTSTART;TZID=America/New_York:20251207T054500
DTEND;TZID=America/New_York:20251207T063000
DTSTAMP:20260424T102143
CREATED:20250902T175939Z
LAST-MODIFIED:20250902T180641Z
UID:10000771-1765086300-1765089000@www.darulislah.org
SUMMARY:Journey through the Quran
DESCRIPTION:Fajr Khatirah with Imam Saeed Qureshi
URL:https://www.darulislah.org/events/journey-through-the-quran/2025-12-07/
CATEGORIES:Masjid Events
ATTACH;FMTTYPE=image/png:https://www.darulislah.org/wp-content/uploads/2025/04/Fajr-Khatiras-1.png
END:VEVENT
END:VCALENDAR