BEGIN:VCALENDAR
VERSION:2.0
PRODID:-//Darul Islah | Muslim Society of Bergen County - ECPv6.15.20//NONSGML v1.0//EN
CALSCALE:GREGORIAN
METHOD:PUBLISH
X-ORIGINAL-URL:https://www.darulislah.org
X-WR-CALDESC:Events for Darul Islah | Muslim Society of Bergen County
REFRESH-INTERVAL;VALUE=DURATION:PT1H
X-Robots-Tag:noindex
X-PUBLISHED-TTL:PT1H
BEGIN:VTIMEZONE
TZID:America/New_York
BEGIN:DAYLIGHT
TZOFFSETFROM:-0500
TZOFFSETTO:-0400
TZNAME:EDT
DTSTART:20270314T070000
END:DAYLIGHT
BEGIN:STANDARD
TZOFFSETFROM:-0400
TZOFFSETTO:-0500
TZNAME:EST
DTSTART:20271107T060000
END:STANDARD
BEGIN:DAYLIGHT
TZOFFSETFROM:-0500
TZOFFSETTO:-0400
TZNAME:EDT
DTSTART:20280312T070000
END:DAYLIGHT
BEGIN:STANDARD
TZOFFSETFROM:-0400
TZOFFSETTO:-0500
TZNAME:EST
DTSTART:20281105T060000
END:STANDARD
BEGIN:DAYLIGHT
TZOFFSETFROM:-0500
TZOFFSETTO:-0400
TZNAME:EDT
DTSTART:20290311T070000
END:DAYLIGHT
BEGIN:STANDARD
TZOFFSETFROM:-0400
TZOFFSETTO:-0500
TZNAME:EST
DTSTART:20291104T060000
END:STANDARD
END:VTIMEZONE
BEGIN:VEVENT
DTSTART;TZID=America/New_York:20280319T054500
DTEND;TZID=America/New_York:20280319T063000
DTSTAMP:20260425T070545
CREATED:20250902T175939Z
LAST-MODIFIED:20250902T180641Z
UID:10000890-1837057500-1837060200@www.darulislah.org
SUMMARY:Journey through the Quran
DESCRIPTION:Fajr Khatirah with Imam Saeed Qureshi
URL:https://www.darulislah.org/events/journey-through-the-quran/2028-03-19/
CATEGORIES:Masjid Events
ATTACH;FMTTYPE=image/png:https://www.darulislah.org/wp-content/uploads/2025/04/Fajr-Khatiras-1.png
END:VEVENT
BEGIN:VEVENT
DTSTART;TZID=America/New_York:20280322T193000
DTEND;TZID=America/New_York:20280322T200000
DTSTAMP:20260425T070545
CREATED:20260217T203400Z
LAST-MODIFIED:20260326T145414Z
UID:10001413-1837366200-1837368000@www.darulislah.org
SUMMARY:Sh. Waleed's Post Maghrib Khatira
DESCRIPTION:
URL:https://www.darulislah.org/events/sh-waleeds-post-maghrib-khatira-2-2/2028-03-22/
CATEGORIES:Masjid Events
ATTACH;FMTTYPE=image/png:https://www.darulislah.org/wp-content/uploads/2025/09/Weekdays-With-Sheikh-2.png
END:VEVENT
BEGIN:VEVENT
DTSTART;TZID=America/New_York:20280324T130000
DTEND;TZID=America/New_York:20280324T150000
DTSTAMP:20260425T070545
CREATED:20250902T175228Z
LAST-MODIFIED:20250902T175229Z
UID:10000370-1837515600-1837522800@www.darulislah.org
SUMMARY:Jummah
DESCRIPTION:
URL:https://www.darulislah.org/events/jummah-3/2028-03-24/
CATEGORIES:Masjid Events
END:VEVENT
BEGIN:VEVENT
DTSTART;TZID=America/New_York:20280324T170000
DTEND;TZID=America/New_York:20280324T183000
DTSTAMP:20260425T070545
CREATED:20250911T163416Z
LAST-MODIFIED:20250911T163418Z
UID:10002196-1837530000-1837535400@www.darulislah.org
SUMMARY:DI Juniors (Girls)
DESCRIPTION:
URL:https://www.darulislah.org/events/di-juniors-girls-2/2028-03-24/
CATEGORIES:Masjid Events
END:VEVENT
BEGIN:VEVENT
DTSTART;TZID=America/New_York:20280324T190000
DTEND;TZID=America/New_York:20280324T200000
DTSTAMP:20260425T070545
CREATED:20260217T203504Z
LAST-MODIFIED:20260326T145420Z
UID:10001674-1837537200-1837540800@www.darulislah.org
SUMMARY:Sisters' Halaqa
DESCRIPTION:
URL:https://www.darulislah.org/events/sisters-halaqa-2/2028-03-24/
CATEGORIES:Masjid Events
ATTACH;FMTTYPE=image/png:https://www.darulislah.org/wp-content/uploads/2025/09/Sr.-Sherins-Halaqa-Real-Estate-Flyer-11.png
END:VEVENT
BEGIN:VEVENT
DTSTART;TZID=America/New_York:20280325T054500
DTEND;TZID=America/New_York:20280325T183000
DTSTAMP:20260425T070545
CREATED:20260217T203709Z
LAST-MODIFIED:20260326T145434Z
UID:10000631-1837575900-1837621800@www.darulislah.org
SUMMARY:Journey Through the Hadith
DESCRIPTION:
URL:https://www.darulislah.org/events/journey-through-the-hadith-2/2028-03-25/
CATEGORIES:Masjid Events
ATTACH;FMTTYPE=image/png:https://www.darulislah.org/wp-content/uploads/2025/09/Fajr-Khatiras-1.png
END:VEVENT
BEGIN:VEVENT
DTSTART;TZID=America/New_York:20280325T120000
DTEND;TZID=America/New_York:20280325T130000
DTSTAMP:20260425T070545
CREATED:20250902T201934Z
LAST-MODIFIED:20250902T201934Z
UID:10001935-1837598400-1837602000@www.darulislah.org
SUMMARY:Sisters' Tajweed Class
DESCRIPTION:
URL:https://www.darulislah.org/events/sisters-tajweed-class/2028-03-25/
CATEGORIES:Masjid Events
ATTACH;FMTTYPE=image/png:https://www.darulislah.org/wp-content/uploads/2025/09/Sisters-Tajweed-Class-7.png
END:VEVENT
BEGIN:VEVENT
DTSTART;TZID=America/New_York:20280326T054500
DTEND;TZID=America/New_York:20280326T063000
DTSTAMP:20260425T070545
CREATED:20250902T175939Z
LAST-MODIFIED:20250902T180641Z
UID:10000891-1837662300-1837665000@www.darulislah.org
SUMMARY:Journey through the Quran
DESCRIPTION:Fajr Khatirah with Imam Saeed Qureshi
URL:https://www.darulislah.org/events/journey-through-the-quran/2028-03-26/
CATEGORIES:Masjid Events
ATTACH;FMTTYPE=image/png:https://www.darulislah.org/wp-content/uploads/2025/04/Fajr-Khatiras-1.png
END:VEVENT
BEGIN:VEVENT
DTSTART;TZID=America/New_York:20280329T193000
DTEND;TZID=America/New_York:20280329T200000
DTSTAMP:20260425T070545
CREATED:20260217T203400Z
LAST-MODIFIED:20260326T145414Z
UID:10001414-1837971000-1837972800@www.darulislah.org
SUMMARY:Sh. Waleed's Post Maghrib Khatira
DESCRIPTION:
URL:https://www.darulislah.org/events/sh-waleeds-post-maghrib-khatira-2-2/2028-03-29/
CATEGORIES:Masjid Events
ATTACH;FMTTYPE=image/png:https://www.darulislah.org/wp-content/uploads/2025/09/Weekdays-With-Sheikh-2.png
END:VEVENT
BEGIN:VEVENT
DTSTART;TZID=America/New_York:20280331T130000
DTEND;TZID=America/New_York:20280331T150000
DTSTAMP:20260425T070545
CREATED:20250902T175228Z
LAST-MODIFIED:20250902T175229Z
UID:10000371-1838120400-1838127600@www.darulislah.org
SUMMARY:Jummah
DESCRIPTION:
URL:https://www.darulislah.org/events/jummah-3/2028-03-31/
CATEGORIES:Masjid Events
END:VEVENT
BEGIN:VEVENT
DTSTART;TZID=America/New_York:20280331T170000
DTEND;TZID=America/New_York:20280331T183000
DTSTAMP:20260425T070545
CREATED:20250911T163416Z
LAST-MODIFIED:20250911T163418Z
UID:10002197-1838134800-1838140200@www.darulislah.org
SUMMARY:DI Juniors (Girls)
DESCRIPTION:
URL:https://www.darulislah.org/events/di-juniors-girls-2/2028-03-31/
CATEGORIES:Masjid Events
END:VEVENT
BEGIN:VEVENT
DTSTART;TZID=America/New_York:20280331T190000
DTEND;TZID=America/New_York:20280331T200000
DTSTAMP:20260425T070545
CREATED:20260217T203504Z
LAST-MODIFIED:20260326T145420Z
UID:10001675-1838142000-1838145600@www.darulislah.org
SUMMARY:Sisters' Halaqa
DESCRIPTION:
URL:https://www.darulislah.org/events/sisters-halaqa-2/2028-03-31/
CATEGORIES:Masjid Events
ATTACH;FMTTYPE=image/png:https://www.darulislah.org/wp-content/uploads/2025/09/Sr.-Sherins-Halaqa-Real-Estate-Flyer-11.png
END:VEVENT
BEGIN:VEVENT
DTSTART;TZID=America/New_York:20280401T054500
DTEND;TZID=America/New_York:20280401T183000
DTSTAMP:20260425T070545
CREATED:20260217T203709Z
LAST-MODIFIED:20260326T145434Z
UID:10000632-1838180700-1838226600@www.darulislah.org
SUMMARY:Journey Through the Hadith
DESCRIPTION:
URL:https://www.darulislah.org/events/journey-through-the-hadith-2/2028-04-01/
CATEGORIES:Masjid Events
ATTACH;FMTTYPE=image/png:https://www.darulislah.org/wp-content/uploads/2025/09/Fajr-Khatiras-1.png
END:VEVENT
BEGIN:VEVENT
DTSTART;TZID=America/New_York:20280401T120000
DTEND;TZID=America/New_York:20280401T130000
DTSTAMP:20260425T070545
CREATED:20250902T201934Z
LAST-MODIFIED:20250902T201934Z
UID:10001936-1838203200-1838206800@www.darulislah.org
SUMMARY:Sisters' Tajweed Class
DESCRIPTION:
URL:https://www.darulislah.org/events/sisters-tajweed-class/2028-04-01/
CATEGORIES:Masjid Events
ATTACH;FMTTYPE=image/png:https://www.darulislah.org/wp-content/uploads/2025/09/Sisters-Tajweed-Class-7.png
END:VEVENT
BEGIN:VEVENT
DTSTART;TZID=America/New_York:20280402T054500
DTEND;TZID=America/New_York:20280402T063000
DTSTAMP:20260425T070545
CREATED:20250902T175939Z
LAST-MODIFIED:20250902T180641Z
UID:10000892-1838267100-1838269800@www.darulislah.org
SUMMARY:Journey through the Quran
DESCRIPTION:Fajr Khatirah with Imam Saeed Qureshi
URL:https://www.darulislah.org/events/journey-through-the-quran/2028-04-02/
CATEGORIES:Masjid Events
ATTACH;FMTTYPE=image/png:https://www.darulislah.org/wp-content/uploads/2025/04/Fajr-Khatiras-1.png
END:VEVENT
BEGIN:VEVENT
DTSTART;TZID=America/New_York:20280405T193000
DTEND;TZID=America/New_York:20280405T200000
DTSTAMP:20260425T070545
CREATED:20260217T203400Z
LAST-MODIFIED:20260326T145414Z
UID:10001415-1838575800-1838577600@www.darulislah.org
SUMMARY:Sh. Waleed's Post Maghrib Khatira
DESCRIPTION:
URL:https://www.darulislah.org/events/sh-waleeds-post-maghrib-khatira-2-2/2028-04-05/
CATEGORIES:Masjid Events
ATTACH;FMTTYPE=image/png:https://www.darulislah.org/wp-content/uploads/2025/09/Weekdays-With-Sheikh-2.png
END:VEVENT
BEGIN:VEVENT
DTSTART;TZID=America/New_York:20280407T130000
DTEND;TZID=America/New_York:20280407T150000
DTSTAMP:20260425T070545
CREATED:20250902T175228Z
LAST-MODIFIED:20250902T175229Z
UID:10000372-1838725200-1838732400@www.darulislah.org
SUMMARY:Jummah
DESCRIPTION:
URL:https://www.darulislah.org/events/jummah-3/2028-04-07/
CATEGORIES:Masjid Events
END:VEVENT
BEGIN:VEVENT
DTSTART;TZID=America/New_York:20280407T170000
DTEND;TZID=America/New_York:20280407T183000
DTSTAMP:20260425T070545
CREATED:20250911T163416Z
LAST-MODIFIED:20250911T163418Z
UID:10002198-1838739600-1838745000@www.darulislah.org
SUMMARY:DI Juniors (Girls)
DESCRIPTION:
URL:https://www.darulislah.org/events/di-juniors-girls-2/2028-04-07/
CATEGORIES:Masjid Events
END:VEVENT
BEGIN:VEVENT
DTSTART;TZID=America/New_York:20280407T190000
DTEND;TZID=America/New_York:20280407T200000
DTSTAMP:20260425T070545
CREATED:20260217T203504Z
LAST-MODIFIED:20260326T145420Z
UID:10001676-1838746800-1838750400@www.darulislah.org
SUMMARY:Sisters' Halaqa
DESCRIPTION:
URL:https://www.darulislah.org/events/sisters-halaqa-2/2028-04-07/
CATEGORIES:Masjid Events
ATTACH;FMTTYPE=image/png:https://www.darulislah.org/wp-content/uploads/2025/09/Sr.-Sherins-Halaqa-Real-Estate-Flyer-11.png
END:VEVENT
BEGIN:VEVENT
DTSTART;TZID=America/New_York:20280408T054500
DTEND;TZID=America/New_York:20280408T183000
DTSTAMP:20260425T070545
CREATED:20260217T203709Z
LAST-MODIFIED:20260326T145434Z
UID:10000633-1838785500-1838831400@www.darulislah.org
SUMMARY:Journey Through the Hadith
DESCRIPTION:
URL:https://www.darulislah.org/events/journey-through-the-hadith-2/2028-04-08/
CATEGORIES:Masjid Events
ATTACH;FMTTYPE=image/png:https://www.darulislah.org/wp-content/uploads/2025/09/Fajr-Khatiras-1.png
END:VEVENT
BEGIN:VEVENT
DTSTART;TZID=America/New_York:20280408T120000
DTEND;TZID=America/New_York:20280408T130000
DTSTAMP:20260425T070545
CREATED:20250902T201934Z
LAST-MODIFIED:20250902T201934Z
UID:10001937-1838808000-1838811600@www.darulislah.org
SUMMARY:Sisters' Tajweed Class
DESCRIPTION:
URL:https://www.darulislah.org/events/sisters-tajweed-class/2028-04-08/
CATEGORIES:Masjid Events
ATTACH;FMTTYPE=image/png:https://www.darulislah.org/wp-content/uploads/2025/09/Sisters-Tajweed-Class-7.png
END:VEVENT
BEGIN:VEVENT
DTSTART;TZID=America/New_York:20280409T054500
DTEND;TZID=America/New_York:20280409T063000
DTSTAMP:20260425T070545
CREATED:20250902T175939Z
LAST-MODIFIED:20250902T180641Z
UID:10000893-1838871900-1838874600@www.darulislah.org
SUMMARY:Journey through the Quran
DESCRIPTION:Fajr Khatirah with Imam Saeed Qureshi
URL:https://www.darulislah.org/events/journey-through-the-quran/2028-04-09/
CATEGORIES:Masjid Events
ATTACH;FMTTYPE=image/png:https://www.darulislah.org/wp-content/uploads/2025/04/Fajr-Khatiras-1.png
END:VEVENT
BEGIN:VEVENT
DTSTART;TZID=America/New_York:20280412T193000
DTEND;TZID=America/New_York:20280412T200000
DTSTAMP:20260425T070545
CREATED:20260217T203400Z
LAST-MODIFIED:20260326T145414Z
UID:10001416-1839180600-1839182400@www.darulislah.org
SUMMARY:Sh. Waleed's Post Maghrib Khatira
DESCRIPTION:
URL:https://www.darulislah.org/events/sh-waleeds-post-maghrib-khatira-2-2/2028-04-12/
CATEGORIES:Masjid Events
ATTACH;FMTTYPE=image/png:https://www.darulislah.org/wp-content/uploads/2025/09/Weekdays-With-Sheikh-2.png
END:VEVENT
BEGIN:VEVENT
DTSTART;TZID=America/New_York:20280414T130000
DTEND;TZID=America/New_York:20280414T150000
DTSTAMP:20260425T070545
CREATED:20250902T175228Z
LAST-MODIFIED:20250902T175229Z
UID:10000373-1839330000-1839337200@www.darulislah.org
SUMMARY:Jummah
DESCRIPTION:
URL:https://www.darulislah.org/events/jummah-3/2028-04-14/
CATEGORIES:Masjid Events
END:VEVENT
BEGIN:VEVENT
DTSTART;TZID=America/New_York:20280414T170000
DTEND;TZID=America/New_York:20280414T183000
DTSTAMP:20260425T070545
CREATED:20250911T163416Z
LAST-MODIFIED:20250911T163418Z
UID:10002199-1839344400-1839349800@www.darulislah.org
SUMMARY:DI Juniors (Girls)
DESCRIPTION:
URL:https://www.darulislah.org/events/di-juniors-girls-2/2028-04-14/
CATEGORIES:Masjid Events
END:VEVENT
BEGIN:VEVENT
DTSTART;TZID=America/New_York:20280414T190000
DTEND;TZID=America/New_York:20280414T200000
DTSTAMP:20260425T070545
CREATED:20260217T203504Z
LAST-MODIFIED:20260326T145420Z
UID:10001677-1839351600-1839355200@www.darulislah.org
SUMMARY:Sisters' Halaqa
DESCRIPTION:
URL:https://www.darulislah.org/events/sisters-halaqa-2/2028-04-14/
CATEGORIES:Masjid Events
ATTACH;FMTTYPE=image/png:https://www.darulislah.org/wp-content/uploads/2025/09/Sr.-Sherins-Halaqa-Real-Estate-Flyer-11.png
END:VEVENT
BEGIN:VEVENT
DTSTART;TZID=America/New_York:20280415T054500
DTEND;TZID=America/New_York:20280415T183000
DTSTAMP:20260425T070545
CREATED:20260217T203709Z
LAST-MODIFIED:20260326T145434Z
UID:10000634-1839390300-1839436200@www.darulislah.org
SUMMARY:Journey Through the Hadith
DESCRIPTION:
URL:https://www.darulislah.org/events/journey-through-the-hadith-2/2028-04-15/
CATEGORIES:Masjid Events
ATTACH;FMTTYPE=image/png:https://www.darulislah.org/wp-content/uploads/2025/09/Fajr-Khatiras-1.png
END:VEVENT
BEGIN:VEVENT
DTSTART;TZID=America/New_York:20280415T120000
DTEND;TZID=America/New_York:20280415T130000
DTSTAMP:20260425T070545
CREATED:20250902T201934Z
LAST-MODIFIED:20250902T201934Z
UID:10001938-1839412800-1839416400@www.darulislah.org
SUMMARY:Sisters' Tajweed Class
DESCRIPTION:
URL:https://www.darulislah.org/events/sisters-tajweed-class/2028-04-15/
CATEGORIES:Masjid Events
ATTACH;FMTTYPE=image/png:https://www.darulislah.org/wp-content/uploads/2025/09/Sisters-Tajweed-Class-7.png
END:VEVENT
BEGIN:VEVENT
DTSTART;TZID=America/New_York:20280416T054500
DTEND;TZID=America/New_York:20280416T063000
DTSTAMP:20260425T070545
CREATED:20250902T175939Z
LAST-MODIFIED:20250902T180641Z
UID:10000894-1839476700-1839479400@www.darulislah.org
SUMMARY:Journey through the Quran
DESCRIPTION:Fajr Khatirah with Imam Saeed Qureshi
URL:https://www.darulislah.org/events/journey-through-the-quran/2028-04-16/
CATEGORIES:Masjid Events
ATTACH;FMTTYPE=image/png:https://www.darulislah.org/wp-content/uploads/2025/04/Fajr-Khatiras-1.png
END:VEVENT
BEGIN:VEVENT
DTSTART;TZID=America/New_York:20280419T193000
DTEND;TZID=America/New_York:20280419T200000
DTSTAMP:20260425T070545
CREATED:20260217T203400Z
LAST-MODIFIED:20260326T145414Z
UID:10001417-1839785400-1839787200@www.darulislah.org
SUMMARY:Sh. Waleed's Post Maghrib Khatira
DESCRIPTION:
URL:https://www.darulislah.org/events/sh-waleeds-post-maghrib-khatira-2-2/2028-04-19/
CATEGORIES:Masjid Events
ATTACH;FMTTYPE=image/png:https://www.darulislah.org/wp-content/uploads/2025/09/Weekdays-With-Sheikh-2.png
END:VEVENT
END:VCALENDAR