BEGIN:VCALENDAR
VERSION:2.0
PRODID:-//Darul Islah | Muslim Society of Bergen County - ECPv6.15.20//NONSGML v1.0//EN
CALSCALE:GREGORIAN
METHOD:PUBLISH
X-WR-CALNAME:Darul Islah | Muslim Society of Bergen County
X-ORIGINAL-URL:https://www.darulislah.org
X-WR-CALDESC:Events for Darul Islah | Muslim Society of Bergen County
REFRESH-INTERVAL;VALUE=DURATION:PT1H
X-Robots-Tag:noindex
X-PUBLISHED-TTL:PT1H
BEGIN:VTIMEZONE
TZID:America/New_York
BEGIN:DAYLIGHT
TZOFFSETFROM:-0500
TZOFFSETTO:-0400
TZNAME:EDT
DTSTART:20260308T070000
END:DAYLIGHT
BEGIN:STANDARD
TZOFFSETFROM:-0400
TZOFFSETTO:-0500
TZNAME:EST
DTSTART:20261101T060000
END:STANDARD
BEGIN:DAYLIGHT
TZOFFSETFROM:-0500
TZOFFSETTO:-0400
TZNAME:EDT
DTSTART:20270314T070000
END:DAYLIGHT
BEGIN:STANDARD
TZOFFSETFROM:-0400
TZOFFSETTO:-0500
TZNAME:EST
DTSTART:20271107T060000
END:STANDARD
BEGIN:DAYLIGHT
TZOFFSETFROM:-0500
TZOFFSETTO:-0400
TZNAME:EDT
DTSTART:20280312T070000
END:DAYLIGHT
BEGIN:STANDARD
TZOFFSETFROM:-0400
TZOFFSETTO:-0500
TZNAME:EST
DTSTART:20281105T060000
END:STANDARD
END:VTIMEZONE
BEGIN:VEVENT
DTSTART;TZID=America/New_York:20271224T130000
DTEND;TZID=America/New_York:20271224T150000
DTSTAMP:20260425T070628
CREATED:20250902T175228Z
LAST-MODIFIED:20250902T175229Z
UID:10000357-1829653200-1829660400@www.darulislah.org
SUMMARY:Jummah
DESCRIPTION:
URL:https://www.darulislah.org/events/jummah-3/2027-12-24/
CATEGORIES:Masjid Events
END:VEVENT
BEGIN:VEVENT
DTSTART;TZID=America/New_York:20271222T193000
DTEND;TZID=America/New_York:20271222T200000
DTSTAMP:20260425T070628
CREATED:20260217T203400Z
LAST-MODIFIED:20260326T145414Z
UID:10001400-1829503800-1829505600@www.darulislah.org
SUMMARY:Sh. Waleed's Post Maghrib Khatira
DESCRIPTION:
URL:https://www.darulislah.org/events/sh-waleeds-post-maghrib-khatira-2-2/2027-12-22/
CATEGORIES:Masjid Events
ATTACH;FMTTYPE=image/png:https://www.darulislah.org/wp-content/uploads/2025/09/Weekdays-With-Sheikh-2.png
END:VEVENT
BEGIN:VEVENT
DTSTART;TZID=America/New_York:20271219T054500
DTEND;TZID=America/New_York:20271219T063000
DTSTAMP:20260425T070628
CREATED:20250902T175939Z
LAST-MODIFIED:20250902T180641Z
UID:10000877-1829195100-1829197800@www.darulislah.org
SUMMARY:Journey through the Quran
DESCRIPTION:Fajr Khatirah with Imam Saeed Qureshi
URL:https://www.darulislah.org/events/journey-through-the-quran/2027-12-19/
CATEGORIES:Masjid Events
ATTACH;FMTTYPE=image/png:https://www.darulislah.org/wp-content/uploads/2025/04/Fajr-Khatiras-1.png
END:VEVENT
BEGIN:VEVENT
DTSTART;TZID=America/New_York:20271218T120000
DTEND;TZID=America/New_York:20271218T130000
DTSTAMP:20260425T070628
CREATED:20250902T201934Z
LAST-MODIFIED:20250902T201934Z
UID:10001921-1829131200-1829134800@www.darulislah.org
SUMMARY:Sisters' Tajweed Class
DESCRIPTION:
URL:https://www.darulislah.org/events/sisters-tajweed-class/2027-12-18/
CATEGORIES:Masjid Events
ATTACH;FMTTYPE=image/png:https://www.darulislah.org/wp-content/uploads/2025/09/Sisters-Tajweed-Class-7.png
END:VEVENT
BEGIN:VEVENT
DTSTART;TZID=America/New_York:20271218T054500
DTEND;TZID=America/New_York:20271218T183000
DTSTAMP:20260425T070628
CREATED:20260217T203709Z
LAST-MODIFIED:20260326T145434Z
UID:10000617-1829108700-1829154600@www.darulislah.org
SUMMARY:Journey Through the Hadith
DESCRIPTION:
URL:https://www.darulislah.org/events/journey-through-the-hadith-2/2027-12-18/
CATEGORIES:Masjid Events
ATTACH;FMTTYPE=image/png:https://www.darulislah.org/wp-content/uploads/2025/09/Fajr-Khatiras-1.png
END:VEVENT
BEGIN:VEVENT
DTSTART;TZID=America/New_York:20271217T190000
DTEND;TZID=America/New_York:20271217T200000
DTSTAMP:20260425T070628
CREATED:20260217T203504Z
LAST-MODIFIED:20260326T145420Z
UID:10001660-1829070000-1829073600@www.darulislah.org
SUMMARY:Sisters' Halaqa
DESCRIPTION:
URL:https://www.darulislah.org/events/sisters-halaqa-2/2027-12-17/
CATEGORIES:Masjid Events
ATTACH;FMTTYPE=image/png:https://www.darulislah.org/wp-content/uploads/2025/09/Sr.-Sherins-Halaqa-Real-Estate-Flyer-11.png
END:VEVENT
BEGIN:VEVENT
DTSTART;TZID=America/New_York:20271217T170000
DTEND;TZID=America/New_York:20271217T183000
DTSTAMP:20260425T070628
CREATED:20250911T163416Z
LAST-MODIFIED:20250911T163418Z
UID:10002182-1829062800-1829068200@www.darulislah.org
SUMMARY:DI Juniors (Girls)
DESCRIPTION:
URL:https://www.darulislah.org/events/di-juniors-girls-2/2027-12-17/
CATEGORIES:Masjid Events
END:VEVENT
BEGIN:VEVENT
DTSTART;TZID=America/New_York:20271217T130000
DTEND;TZID=America/New_York:20271217T150000
DTSTAMP:20260425T070628
CREATED:20250902T175228Z
LAST-MODIFIED:20250902T175229Z
UID:10000356-1829048400-1829055600@www.darulislah.org
SUMMARY:Jummah
DESCRIPTION:
URL:https://www.darulislah.org/events/jummah-3/2027-12-17/
CATEGORIES:Masjid Events
END:VEVENT
BEGIN:VEVENT
DTSTART;TZID=America/New_York:20271215T193000
DTEND;TZID=America/New_York:20271215T200000
DTSTAMP:20260425T070628
CREATED:20260217T203400Z
LAST-MODIFIED:20260326T145414Z
UID:10001399-1828899000-1828900800@www.darulislah.org
SUMMARY:Sh. Waleed's Post Maghrib Khatira
DESCRIPTION:
URL:https://www.darulislah.org/events/sh-waleeds-post-maghrib-khatira-2-2/2027-12-15/
CATEGORIES:Masjid Events
ATTACH;FMTTYPE=image/png:https://www.darulislah.org/wp-content/uploads/2025/09/Weekdays-With-Sheikh-2.png
END:VEVENT
BEGIN:VEVENT
DTSTART;TZID=America/New_York:20271212T054500
DTEND;TZID=America/New_York:20271212T063000
DTSTAMP:20260425T070628
CREATED:20250902T175939Z
LAST-MODIFIED:20250902T180641Z
UID:10000876-1828590300-1828593000@www.darulislah.org
SUMMARY:Journey through the Quran
DESCRIPTION:Fajr Khatirah with Imam Saeed Qureshi
URL:https://www.darulislah.org/events/journey-through-the-quran/2027-12-12/
CATEGORIES:Masjid Events
ATTACH;FMTTYPE=image/png:https://www.darulislah.org/wp-content/uploads/2025/04/Fajr-Khatiras-1.png
END:VEVENT
BEGIN:VEVENT
DTSTART;TZID=America/New_York:20271211T120000
DTEND;TZID=America/New_York:20271211T130000
DTSTAMP:20260425T070628
CREATED:20250902T201934Z
LAST-MODIFIED:20250902T201934Z
UID:10001920-1828526400-1828530000@www.darulislah.org
SUMMARY:Sisters' Tajweed Class
DESCRIPTION:
URL:https://www.darulislah.org/events/sisters-tajweed-class/2027-12-11/
CATEGORIES:Masjid Events
ATTACH;FMTTYPE=image/png:https://www.darulislah.org/wp-content/uploads/2025/09/Sisters-Tajweed-Class-7.png
END:VEVENT
BEGIN:VEVENT
DTSTART;TZID=America/New_York:20271211T054500
DTEND;TZID=America/New_York:20271211T183000
DTSTAMP:20260425T070628
CREATED:20260217T203709Z
LAST-MODIFIED:20260326T145434Z
UID:10000616-1828503900-1828549800@www.darulislah.org
SUMMARY:Journey Through the Hadith
DESCRIPTION:
URL:https://www.darulislah.org/events/journey-through-the-hadith-2/2027-12-11/
CATEGORIES:Masjid Events
ATTACH;FMTTYPE=image/png:https://www.darulislah.org/wp-content/uploads/2025/09/Fajr-Khatiras-1.png
END:VEVENT
BEGIN:VEVENT
DTSTART;TZID=America/New_York:20271210T190000
DTEND;TZID=America/New_York:20271210T200000
DTSTAMP:20260425T070628
CREATED:20260217T203504Z
LAST-MODIFIED:20260326T145420Z
UID:10001659-1828465200-1828468800@www.darulislah.org
SUMMARY:Sisters' Halaqa
DESCRIPTION:
URL:https://www.darulislah.org/events/sisters-halaqa-2/2027-12-10/
CATEGORIES:Masjid Events
ATTACH;FMTTYPE=image/png:https://www.darulislah.org/wp-content/uploads/2025/09/Sr.-Sherins-Halaqa-Real-Estate-Flyer-11.png
END:VEVENT
BEGIN:VEVENT
DTSTART;TZID=America/New_York:20271210T170000
DTEND;TZID=America/New_York:20271210T183000
DTSTAMP:20260425T070628
CREATED:20250911T163416Z
LAST-MODIFIED:20250911T163418Z
UID:10002181-1828458000-1828463400@www.darulislah.org
SUMMARY:DI Juniors (Girls)
DESCRIPTION:
URL:https://www.darulislah.org/events/di-juniors-girls-2/2027-12-10/
CATEGORIES:Masjid Events
END:VEVENT
BEGIN:VEVENT
DTSTART;TZID=America/New_York:20271210T130000
DTEND;TZID=America/New_York:20271210T150000
DTSTAMP:20260425T070628
CREATED:20250902T175228Z
LAST-MODIFIED:20250902T175229Z
UID:10000355-1828443600-1828450800@www.darulislah.org
SUMMARY:Jummah
DESCRIPTION:
URL:https://www.darulislah.org/events/jummah-3/2027-12-10/
CATEGORIES:Masjid Events
END:VEVENT
BEGIN:VEVENT
DTSTART;TZID=America/New_York:20271208T193000
DTEND;TZID=America/New_York:20271208T200000
DTSTAMP:20260425T070628
CREATED:20260217T203400Z
LAST-MODIFIED:20260326T145414Z
UID:10001398-1828294200-1828296000@www.darulislah.org
SUMMARY:Sh. Waleed's Post Maghrib Khatira
DESCRIPTION:
URL:https://www.darulislah.org/events/sh-waleeds-post-maghrib-khatira-2-2/2027-12-08/
CATEGORIES:Masjid Events
ATTACH;FMTTYPE=image/png:https://www.darulislah.org/wp-content/uploads/2025/09/Weekdays-With-Sheikh-2.png
END:VEVENT
BEGIN:VEVENT
DTSTART;TZID=America/New_York:20271205T054500
DTEND;TZID=America/New_York:20271205T063000
DTSTAMP:20260425T070628
CREATED:20250902T175939Z
LAST-MODIFIED:20250902T180641Z
UID:10000875-1827985500-1827988200@www.darulislah.org
SUMMARY:Journey through the Quran
DESCRIPTION:Fajr Khatirah with Imam Saeed Qureshi
URL:https://www.darulislah.org/events/journey-through-the-quran/2027-12-05/
CATEGORIES:Masjid Events
ATTACH;FMTTYPE=image/png:https://www.darulislah.org/wp-content/uploads/2025/04/Fajr-Khatiras-1.png
END:VEVENT
BEGIN:VEVENT
DTSTART;TZID=America/New_York:20271204T120000
DTEND;TZID=America/New_York:20271204T130000
DTSTAMP:20260425T070628
CREATED:20250902T201934Z
LAST-MODIFIED:20250902T201934Z
UID:10001919-1827921600-1827925200@www.darulislah.org
SUMMARY:Sisters' Tajweed Class
DESCRIPTION:
URL:https://www.darulislah.org/events/sisters-tajweed-class/2027-12-04/
CATEGORIES:Masjid Events
ATTACH;FMTTYPE=image/png:https://www.darulislah.org/wp-content/uploads/2025/09/Sisters-Tajweed-Class-7.png
END:VEVENT
BEGIN:VEVENT
DTSTART;TZID=America/New_York:20271204T054500
DTEND;TZID=America/New_York:20271204T183000
DTSTAMP:20260425T070628
CREATED:20260217T203709Z
LAST-MODIFIED:20260326T145434Z
UID:10000615-1827899100-1827945000@www.darulislah.org
SUMMARY:Journey Through the Hadith
DESCRIPTION:
URL:https://www.darulislah.org/events/journey-through-the-hadith-2/2027-12-04/
CATEGORIES:Masjid Events
ATTACH;FMTTYPE=image/png:https://www.darulislah.org/wp-content/uploads/2025/09/Fajr-Khatiras-1.png
END:VEVENT
BEGIN:VEVENT
DTSTART;TZID=America/New_York:20271203T190000
DTEND;TZID=America/New_York:20271203T200000
DTSTAMP:20260425T070628
CREATED:20260217T203504Z
LAST-MODIFIED:20260326T145420Z
UID:10001658-1827860400-1827864000@www.darulislah.org
SUMMARY:Sisters' Halaqa
DESCRIPTION:
URL:https://www.darulislah.org/events/sisters-halaqa-2/2027-12-03/
CATEGORIES:Masjid Events
ATTACH;FMTTYPE=image/png:https://www.darulislah.org/wp-content/uploads/2025/09/Sr.-Sherins-Halaqa-Real-Estate-Flyer-11.png
END:VEVENT
BEGIN:VEVENT
DTSTART;TZID=America/New_York:20271203T170000
DTEND;TZID=America/New_York:20271203T183000
DTSTAMP:20260425T070628
CREATED:20250911T163416Z
LAST-MODIFIED:20250911T163418Z
UID:10002180-1827853200-1827858600@www.darulislah.org
SUMMARY:DI Juniors (Girls)
DESCRIPTION:
URL:https://www.darulislah.org/events/di-juniors-girls-2/2027-12-03/
CATEGORIES:Masjid Events
END:VEVENT
BEGIN:VEVENT
DTSTART;TZID=America/New_York:20271203T130000
DTEND;TZID=America/New_York:20271203T150000
DTSTAMP:20260425T070628
CREATED:20250902T175228Z
LAST-MODIFIED:20250902T175229Z
UID:10000354-1827838800-1827846000@www.darulislah.org
SUMMARY:Jummah
DESCRIPTION:
URL:https://www.darulislah.org/events/jummah-3/2027-12-03/
CATEGORIES:Masjid Events
END:VEVENT
BEGIN:VEVENT
DTSTART;TZID=America/New_York:20271201T193000
DTEND;TZID=America/New_York:20271201T200000
DTSTAMP:20260425T070628
CREATED:20260217T203400Z
LAST-MODIFIED:20260326T145414Z
UID:10001397-1827689400-1827691200@www.darulislah.org
SUMMARY:Sh. Waleed's Post Maghrib Khatira
DESCRIPTION:
URL:https://www.darulislah.org/events/sh-waleeds-post-maghrib-khatira-2-2/2027-12-01/
CATEGORIES:Masjid Events
ATTACH;FMTTYPE=image/png:https://www.darulislah.org/wp-content/uploads/2025/09/Weekdays-With-Sheikh-2.png
END:VEVENT
BEGIN:VEVENT
DTSTART;TZID=America/New_York:20271128T054500
DTEND;TZID=America/New_York:20271128T063000
DTSTAMP:20260425T070628
CREATED:20250902T175939Z
LAST-MODIFIED:20250902T180641Z
UID:10000874-1827380700-1827383400@www.darulislah.org
SUMMARY:Journey through the Quran
DESCRIPTION:Fajr Khatirah with Imam Saeed Qureshi
URL:https://www.darulislah.org/events/journey-through-the-quran/2027-11-28/
CATEGORIES:Masjid Events
ATTACH;FMTTYPE=image/png:https://www.darulislah.org/wp-content/uploads/2025/04/Fajr-Khatiras-1.png
END:VEVENT
BEGIN:VEVENT
DTSTART;TZID=America/New_York:20271127T120000
DTEND;TZID=America/New_York:20271127T130000
DTSTAMP:20260425T070628
CREATED:20250902T201934Z
LAST-MODIFIED:20250902T201934Z
UID:10001918-1827316800-1827320400@www.darulislah.org
SUMMARY:Sisters' Tajweed Class
DESCRIPTION:
URL:https://www.darulislah.org/events/sisters-tajweed-class/2027-11-27/
CATEGORIES:Masjid Events
ATTACH;FMTTYPE=image/png:https://www.darulislah.org/wp-content/uploads/2025/09/Sisters-Tajweed-Class-7.png
END:VEVENT
BEGIN:VEVENT
DTSTART;TZID=America/New_York:20271127T054500
DTEND;TZID=America/New_York:20271127T183000
DTSTAMP:20260425T070628
CREATED:20260217T203709Z
LAST-MODIFIED:20260326T145434Z
UID:10000614-1827294300-1827340200@www.darulislah.org
SUMMARY:Journey Through the Hadith
DESCRIPTION:
URL:https://www.darulislah.org/events/journey-through-the-hadith-2/2027-11-27/
CATEGORIES:Masjid Events
ATTACH;FMTTYPE=image/png:https://www.darulislah.org/wp-content/uploads/2025/09/Fajr-Khatiras-1.png
END:VEVENT
BEGIN:VEVENT
DTSTART;TZID=America/New_York:20271126T190000
DTEND;TZID=America/New_York:20271126T200000
DTSTAMP:20260425T070628
CREATED:20260217T203504Z
LAST-MODIFIED:20260326T145420Z
UID:10001657-1827255600-1827259200@www.darulislah.org
SUMMARY:Sisters' Halaqa
DESCRIPTION:
URL:https://www.darulislah.org/events/sisters-halaqa-2/2027-11-26/
CATEGORIES:Masjid Events
ATTACH;FMTTYPE=image/png:https://www.darulislah.org/wp-content/uploads/2025/09/Sr.-Sherins-Halaqa-Real-Estate-Flyer-11.png
END:VEVENT
BEGIN:VEVENT
DTSTART;TZID=America/New_York:20271126T170000
DTEND;TZID=America/New_York:20271126T183000
DTSTAMP:20260425T070628
CREATED:20250911T163416Z
LAST-MODIFIED:20250911T163418Z
UID:10002179-1827248400-1827253800@www.darulislah.org
SUMMARY:DI Juniors (Girls)
DESCRIPTION:
URL:https://www.darulislah.org/events/di-juniors-girls-2/2027-11-26/
CATEGORIES:Masjid Events
END:VEVENT
BEGIN:VEVENT
DTSTART;TZID=America/New_York:20271126T130000
DTEND;TZID=America/New_York:20271126T150000
DTSTAMP:20260425T070628
CREATED:20250902T175228Z
LAST-MODIFIED:20250902T175229Z
UID:10000353-1827234000-1827241200@www.darulislah.org
SUMMARY:Jummah
DESCRIPTION:
URL:https://www.darulislah.org/events/jummah-3/2027-11-26/
CATEGORIES:Masjid Events
END:VEVENT
BEGIN:VEVENT
DTSTART;TZID=America/New_York:20271124T193000
DTEND;TZID=America/New_York:20271124T200000
DTSTAMP:20260425T070628
CREATED:20260217T203400Z
LAST-MODIFIED:20260326T145414Z
UID:10001396-1827084600-1827086400@www.darulislah.org
SUMMARY:Sh. Waleed's Post Maghrib Khatira
DESCRIPTION:
URL:https://www.darulislah.org/events/sh-waleeds-post-maghrib-khatira-2-2/2027-11-24/
CATEGORIES:Masjid Events
ATTACH;FMTTYPE=image/png:https://www.darulislah.org/wp-content/uploads/2025/09/Weekdays-With-Sheikh-2.png
END:VEVENT
END:VCALENDAR