BEGIN:VCALENDAR
VERSION:2.0
PRODID:-//Darul Islah | Muslim Society of Bergen County - ECPv6.15.20//NONSGML v1.0//EN
CALSCALE:GREGORIAN
METHOD:PUBLISH
X-ORIGINAL-URL:https://www.darulislah.org
X-WR-CALDESC:Events for Darul Islah | Muslim Society of Bergen County
REFRESH-INTERVAL;VALUE=DURATION:PT1H
X-Robots-Tag:noindex
X-PUBLISHED-TTL:PT1H
BEGIN:VTIMEZONE
TZID:America/New_York
BEGIN:DAYLIGHT
TZOFFSETFROM:-0500
TZOFFSETTO:-0400
TZNAME:EDT
DTSTART:20270314T070000
END:DAYLIGHT
BEGIN:STANDARD
TZOFFSETFROM:-0400
TZOFFSETTO:-0500
TZNAME:EST
DTSTART:20271107T060000
END:STANDARD
BEGIN:DAYLIGHT
TZOFFSETFROM:-0500
TZOFFSETTO:-0400
TZNAME:EDT
DTSTART:20280312T070000
END:DAYLIGHT
BEGIN:STANDARD
TZOFFSETFROM:-0400
TZOFFSETTO:-0500
TZNAME:EST
DTSTART:20281105T060000
END:STANDARD
BEGIN:DAYLIGHT
TZOFFSETFROM:-0500
TZOFFSETTO:-0400
TZNAME:EDT
DTSTART:20290311T070000
END:DAYLIGHT
BEGIN:STANDARD
TZOFFSETFROM:-0400
TZOFFSETTO:-0500
TZNAME:EST
DTSTART:20291104T060000
END:STANDARD
END:VTIMEZONE
BEGIN:VEVENT
DTSTART;TZID=America/New_York:20280915T190000
DTEND;TZID=America/New_York:20280915T200000
DTSTAMP:20260425T113856
CREATED:20260217T203504Z
LAST-MODIFIED:20260326T145420Z
UID:10001699-1852657200-1852660800@www.darulislah.org
SUMMARY:Sisters' Halaqa
DESCRIPTION:
URL:https://www.darulislah.org/events/sisters-halaqa-2/2028-09-15/
CATEGORIES:Masjid Events
ATTACH;FMTTYPE=image/png:https://www.darulislah.org/wp-content/uploads/2025/09/Sr.-Sherins-Halaqa-Real-Estate-Flyer-11.png
END:VEVENT
BEGIN:VEVENT
DTSTART;TZID=America/New_York:20280916T054500
DTEND;TZID=America/New_York:20280916T183000
DTSTAMP:20260425T113856
CREATED:20260217T203709Z
LAST-MODIFIED:20260326T145434Z
UID:10000656-1852695900-1852741800@www.darulislah.org
SUMMARY:Journey Through the Hadith
DESCRIPTION:
URL:https://www.darulislah.org/events/journey-through-the-hadith-2/2028-09-16/
CATEGORIES:Masjid Events
ATTACH;FMTTYPE=image/png:https://www.darulislah.org/wp-content/uploads/2025/09/Fajr-Khatiras-1.png
END:VEVENT
BEGIN:VEVENT
DTSTART;TZID=America/New_York:20280916T120000
DTEND;TZID=America/New_York:20280916T130000
DTSTAMP:20260425T113856
CREATED:20250902T201934Z
LAST-MODIFIED:20250902T201934Z
UID:10001960-1852718400-1852722000@www.darulislah.org
SUMMARY:Sisters' Tajweed Class
DESCRIPTION:
URL:https://www.darulislah.org/events/sisters-tajweed-class/2028-09-16/
CATEGORIES:Masjid Events
ATTACH;FMTTYPE=image/png:https://www.darulislah.org/wp-content/uploads/2025/09/Sisters-Tajweed-Class-7.png
END:VEVENT
BEGIN:VEVENT
DTSTART;TZID=America/New_York:20280917T054500
DTEND;TZID=America/New_York:20280917T063000
DTSTAMP:20260425T113856
CREATED:20250902T175939Z
LAST-MODIFIED:20250902T180641Z
UID:10000916-1852782300-1852785000@www.darulislah.org
SUMMARY:Journey through the Quran
DESCRIPTION:Fajr Khatirah with Imam Saeed Qureshi
URL:https://www.darulislah.org/events/journey-through-the-quran/2028-09-17/
CATEGORIES:Masjid Events
ATTACH;FMTTYPE=image/png:https://www.darulislah.org/wp-content/uploads/2025/04/Fajr-Khatiras-1.png
END:VEVENT
BEGIN:VEVENT
DTSTART;TZID=America/New_York:20280920T193000
DTEND;TZID=America/New_York:20280920T200000
DTSTAMP:20260425T113856
CREATED:20260217T203400Z
LAST-MODIFIED:20260326T145414Z
UID:10001439-1853091000-1853092800@www.darulislah.org
SUMMARY:Sh. Waleed's Post Maghrib Khatira
DESCRIPTION:
URL:https://www.darulislah.org/events/sh-waleeds-post-maghrib-khatira-2-2/2028-09-20/
CATEGORIES:Masjid Events
ATTACH;FMTTYPE=image/png:https://www.darulislah.org/wp-content/uploads/2025/09/Weekdays-With-Sheikh-2.png
END:VEVENT
BEGIN:VEVENT
DTSTART;TZID=America/New_York:20280922T130000
DTEND;TZID=America/New_York:20280922T150000
DTSTAMP:20260425T113856
CREATED:20250902T175228Z
LAST-MODIFIED:20250902T175229Z
UID:10000396-1853240400-1853247600@www.darulislah.org
SUMMARY:Jummah
DESCRIPTION:
URL:https://www.darulislah.org/events/jummah-3/2028-09-22/
CATEGORIES:Masjid Events
END:VEVENT
BEGIN:VEVENT
DTSTART;TZID=America/New_York:20280922T170000
DTEND;TZID=America/New_York:20280922T183000
DTSTAMP:20260425T113856
CREATED:20250911T163416Z
LAST-MODIFIED:20250911T163418Z
UID:10002222-1853254800-1853260200@www.darulislah.org
SUMMARY:DI Juniors (Girls)
DESCRIPTION:
URL:https://www.darulislah.org/events/di-juniors-girls-2/2028-09-22/
CATEGORIES:Masjid Events
END:VEVENT
BEGIN:VEVENT
DTSTART;TZID=America/New_York:20280922T190000
DTEND;TZID=America/New_York:20280922T200000
DTSTAMP:20260425T113856
CREATED:20260217T203504Z
LAST-MODIFIED:20260326T145420Z
UID:10001700-1853262000-1853265600@www.darulislah.org
SUMMARY:Sisters' Halaqa
DESCRIPTION:
URL:https://www.darulislah.org/events/sisters-halaqa-2/2028-09-22/
CATEGORIES:Masjid Events
ATTACH;FMTTYPE=image/png:https://www.darulislah.org/wp-content/uploads/2025/09/Sr.-Sherins-Halaqa-Real-Estate-Flyer-11.png
END:VEVENT
BEGIN:VEVENT
DTSTART;TZID=America/New_York:20280923T054500
DTEND;TZID=America/New_York:20280923T183000
DTSTAMP:20260425T113856
CREATED:20260217T203709Z
LAST-MODIFIED:20260326T145434Z
UID:10000657-1853300700-1853346600@www.darulislah.org
SUMMARY:Journey Through the Hadith
DESCRIPTION:
URL:https://www.darulislah.org/events/journey-through-the-hadith-2/2028-09-23/
CATEGORIES:Masjid Events
ATTACH;FMTTYPE=image/png:https://www.darulislah.org/wp-content/uploads/2025/09/Fajr-Khatiras-1.png
END:VEVENT
BEGIN:VEVENT
DTSTART;TZID=America/New_York:20280923T120000
DTEND;TZID=America/New_York:20280923T130000
DTSTAMP:20260425T113856
CREATED:20250902T201934Z
LAST-MODIFIED:20250902T201934Z
UID:10001961-1853323200-1853326800@www.darulislah.org
SUMMARY:Sisters' Tajweed Class
DESCRIPTION:
URL:https://www.darulislah.org/events/sisters-tajweed-class/2028-09-23/
CATEGORIES:Masjid Events
ATTACH;FMTTYPE=image/png:https://www.darulislah.org/wp-content/uploads/2025/09/Sisters-Tajweed-Class-7.png
END:VEVENT
BEGIN:VEVENT
DTSTART;TZID=America/New_York:20280924T054500
DTEND;TZID=America/New_York:20280924T063000
DTSTAMP:20260425T113856
CREATED:20250902T175939Z
LAST-MODIFIED:20250902T180641Z
UID:10000917-1853387100-1853389800@www.darulislah.org
SUMMARY:Journey through the Quran
DESCRIPTION:Fajr Khatirah with Imam Saeed Qureshi
URL:https://www.darulislah.org/events/journey-through-the-quran/2028-09-24/
CATEGORIES:Masjid Events
ATTACH;FMTTYPE=image/png:https://www.darulislah.org/wp-content/uploads/2025/04/Fajr-Khatiras-1.png
END:VEVENT
BEGIN:VEVENT
DTSTART;TZID=America/New_York:20280927T193000
DTEND;TZID=America/New_York:20280927T200000
DTSTAMP:20260425T113856
CREATED:20260217T203400Z
LAST-MODIFIED:20260326T145414Z
UID:10001440-1853695800-1853697600@www.darulislah.org
SUMMARY:Sh. Waleed's Post Maghrib Khatira
DESCRIPTION:
URL:https://www.darulislah.org/events/sh-waleeds-post-maghrib-khatira-2-2/2028-09-27/
CATEGORIES:Masjid Events
ATTACH;FMTTYPE=image/png:https://www.darulislah.org/wp-content/uploads/2025/09/Weekdays-With-Sheikh-2.png
END:VEVENT
BEGIN:VEVENT
DTSTART;TZID=America/New_York:20280929T130000
DTEND;TZID=America/New_York:20280929T150000
DTSTAMP:20260425T113856
CREATED:20250902T175228Z
LAST-MODIFIED:20250902T175229Z
UID:10000397-1853845200-1853852400@www.darulislah.org
SUMMARY:Jummah
DESCRIPTION:
URL:https://www.darulislah.org/events/jummah-3/2028-09-29/
CATEGORIES:Masjid Events
END:VEVENT
BEGIN:VEVENT
DTSTART;TZID=America/New_York:20280929T170000
DTEND;TZID=America/New_York:20280929T183000
DTSTAMP:20260425T113856
CREATED:20250911T163416Z
LAST-MODIFIED:20250911T163418Z
UID:10002223-1853859600-1853865000@www.darulislah.org
SUMMARY:DI Juniors (Girls)
DESCRIPTION:
URL:https://www.darulislah.org/events/di-juniors-girls-2/2028-09-29/
CATEGORIES:Masjid Events
END:VEVENT
BEGIN:VEVENT
DTSTART;TZID=America/New_York:20280929T190000
DTEND;TZID=America/New_York:20280929T200000
DTSTAMP:20260425T113856
CREATED:20260217T203504Z
LAST-MODIFIED:20260326T145420Z
UID:10001701-1853866800-1853870400@www.darulislah.org
SUMMARY:Sisters' Halaqa
DESCRIPTION:
URL:https://www.darulislah.org/events/sisters-halaqa-2/2028-09-29/
CATEGORIES:Masjid Events
ATTACH;FMTTYPE=image/png:https://www.darulislah.org/wp-content/uploads/2025/09/Sr.-Sherins-Halaqa-Real-Estate-Flyer-11.png
END:VEVENT
BEGIN:VEVENT
DTSTART;TZID=America/New_York:20280930T054500
DTEND;TZID=America/New_York:20280930T183000
DTSTAMP:20260425T113856
CREATED:20260217T203709Z
LAST-MODIFIED:20260326T145434Z
UID:10000658-1853905500-1853951400@www.darulislah.org
SUMMARY:Journey Through the Hadith
DESCRIPTION:
URL:https://www.darulislah.org/events/journey-through-the-hadith-2/2028-09-30/
CATEGORIES:Masjid Events
ATTACH;FMTTYPE=image/png:https://www.darulislah.org/wp-content/uploads/2025/09/Fajr-Khatiras-1.png
END:VEVENT
BEGIN:VEVENT
DTSTART;TZID=America/New_York:20280930T120000
DTEND;TZID=America/New_York:20280930T130000
DTSTAMP:20260425T113856
CREATED:20250902T201934Z
LAST-MODIFIED:20250902T201934Z
UID:10001962-1853928000-1853931600@www.darulislah.org
SUMMARY:Sisters' Tajweed Class
DESCRIPTION:
URL:https://www.darulislah.org/events/sisters-tajweed-class/2028-09-30/
CATEGORIES:Masjid Events
ATTACH;FMTTYPE=image/png:https://www.darulislah.org/wp-content/uploads/2025/09/Sisters-Tajweed-Class-7.png
END:VEVENT
BEGIN:VEVENT
DTSTART;TZID=America/New_York:20281001T054500
DTEND;TZID=America/New_York:20281001T063000
DTSTAMP:20260425T113856
CREATED:20250902T175939Z
LAST-MODIFIED:20250902T180641Z
UID:10000918-1853991900-1853994600@www.darulislah.org
SUMMARY:Journey through the Quran
DESCRIPTION:Fajr Khatirah with Imam Saeed Qureshi
URL:https://www.darulislah.org/events/journey-through-the-quran/2028-10-01/
CATEGORIES:Masjid Events
ATTACH;FMTTYPE=image/png:https://www.darulislah.org/wp-content/uploads/2025/04/Fajr-Khatiras-1.png
END:VEVENT
BEGIN:VEVENT
DTSTART;TZID=America/New_York:20281004T193000
DTEND;TZID=America/New_York:20281004T200000
DTSTAMP:20260425T113856
CREATED:20260217T203400Z
LAST-MODIFIED:20260326T145414Z
UID:10001441-1854300600-1854302400@www.darulislah.org
SUMMARY:Sh. Waleed's Post Maghrib Khatira
DESCRIPTION:
URL:https://www.darulislah.org/events/sh-waleeds-post-maghrib-khatira-2-2/2028-10-04/
CATEGORIES:Masjid Events
ATTACH;FMTTYPE=image/png:https://www.darulislah.org/wp-content/uploads/2025/09/Weekdays-With-Sheikh-2.png
END:VEVENT
BEGIN:VEVENT
DTSTART;TZID=America/New_York:20281006T130000
DTEND;TZID=America/New_York:20281006T150000
DTSTAMP:20260425T113856
CREATED:20250902T175228Z
LAST-MODIFIED:20250902T175229Z
UID:10000398-1854450000-1854457200@www.darulislah.org
SUMMARY:Jummah
DESCRIPTION:
URL:https://www.darulislah.org/events/jummah-3/2028-10-06/
CATEGORIES:Masjid Events
END:VEVENT
BEGIN:VEVENT
DTSTART;TZID=America/New_York:20281006T170000
DTEND;TZID=America/New_York:20281006T183000
DTSTAMP:20260425T113856
CREATED:20250911T163416Z
LAST-MODIFIED:20250911T163418Z
UID:10002224-1854464400-1854469800@www.darulislah.org
SUMMARY:DI Juniors (Girls)
DESCRIPTION:
URL:https://www.darulislah.org/events/di-juniors-girls-2/2028-10-06/
CATEGORIES:Masjid Events
END:VEVENT
BEGIN:VEVENT
DTSTART;TZID=America/New_York:20281006T190000
DTEND;TZID=America/New_York:20281006T200000
DTSTAMP:20260425T113856
CREATED:20260217T203504Z
LAST-MODIFIED:20260326T145420Z
UID:10001702-1854471600-1854475200@www.darulislah.org
SUMMARY:Sisters' Halaqa
DESCRIPTION:
URL:https://www.darulislah.org/events/sisters-halaqa-2/2028-10-06/
CATEGORIES:Masjid Events
ATTACH;FMTTYPE=image/png:https://www.darulislah.org/wp-content/uploads/2025/09/Sr.-Sherins-Halaqa-Real-Estate-Flyer-11.png
END:VEVENT
BEGIN:VEVENT
DTSTART;TZID=America/New_York:20281007T054500
DTEND;TZID=America/New_York:20281007T183000
DTSTAMP:20260425T113856
CREATED:20260217T203709Z
LAST-MODIFIED:20260326T145434Z
UID:10000659-1854510300-1854556200@www.darulislah.org
SUMMARY:Journey Through the Hadith
DESCRIPTION:
URL:https://www.darulislah.org/events/journey-through-the-hadith-2/2028-10-07/
CATEGORIES:Masjid Events
ATTACH;FMTTYPE=image/png:https://www.darulislah.org/wp-content/uploads/2025/09/Fajr-Khatiras-1.png
END:VEVENT
BEGIN:VEVENT
DTSTART;TZID=America/New_York:20281007T120000
DTEND;TZID=America/New_York:20281007T130000
DTSTAMP:20260425T113856
CREATED:20250902T201934Z
LAST-MODIFIED:20250902T201934Z
UID:10001963-1854532800-1854536400@www.darulislah.org
SUMMARY:Sisters' Tajweed Class
DESCRIPTION:
URL:https://www.darulislah.org/events/sisters-tajweed-class/2028-10-07/
CATEGORIES:Masjid Events
ATTACH;FMTTYPE=image/png:https://www.darulislah.org/wp-content/uploads/2025/09/Sisters-Tajweed-Class-7.png
END:VEVENT
BEGIN:VEVENT
DTSTART;TZID=America/New_York:20281008T054500
DTEND;TZID=America/New_York:20281008T063000
DTSTAMP:20260425T113856
CREATED:20250902T175939Z
LAST-MODIFIED:20250902T180641Z
UID:10000919-1854596700-1854599400@www.darulislah.org
SUMMARY:Journey through the Quran
DESCRIPTION:Fajr Khatirah with Imam Saeed Qureshi
URL:https://www.darulislah.org/events/journey-through-the-quran/2028-10-08/
CATEGORIES:Masjid Events
ATTACH;FMTTYPE=image/png:https://www.darulislah.org/wp-content/uploads/2025/04/Fajr-Khatiras-1.png
END:VEVENT
BEGIN:VEVENT
DTSTART;TZID=America/New_York:20281011T193000
DTEND;TZID=America/New_York:20281011T200000
DTSTAMP:20260425T113856
CREATED:20260217T203400Z
LAST-MODIFIED:20260326T145414Z
UID:10001442-1854905400-1854907200@www.darulislah.org
SUMMARY:Sh. Waleed's Post Maghrib Khatira
DESCRIPTION:
URL:https://www.darulislah.org/events/sh-waleeds-post-maghrib-khatira-2-2/2028-10-11/
CATEGORIES:Masjid Events
ATTACH;FMTTYPE=image/png:https://www.darulislah.org/wp-content/uploads/2025/09/Weekdays-With-Sheikh-2.png
END:VEVENT
BEGIN:VEVENT
DTSTART;TZID=America/New_York:20281013T130000
DTEND;TZID=America/New_York:20281013T150000
DTSTAMP:20260425T113856
CREATED:20250902T175228Z
LAST-MODIFIED:20250902T175229Z
UID:10000399-1855054800-1855062000@www.darulislah.org
SUMMARY:Jummah
DESCRIPTION:
URL:https://www.darulislah.org/events/jummah-3/2028-10-13/
CATEGORIES:Masjid Events
END:VEVENT
BEGIN:VEVENT
DTSTART;TZID=America/New_York:20281013T170000
DTEND;TZID=America/New_York:20281013T183000
DTSTAMP:20260425T113856
CREATED:20250911T163416Z
LAST-MODIFIED:20250911T163418Z
UID:10002225-1855069200-1855074600@www.darulislah.org
SUMMARY:DI Juniors (Girls)
DESCRIPTION:
URL:https://www.darulislah.org/events/di-juniors-girls-2/2028-10-13/
CATEGORIES:Masjid Events
END:VEVENT
BEGIN:VEVENT
DTSTART;TZID=America/New_York:20281013T190000
DTEND;TZID=America/New_York:20281013T200000
DTSTAMP:20260425T113856
CREATED:20260217T203504Z
LAST-MODIFIED:20260326T145420Z
UID:10001703-1855076400-1855080000@www.darulislah.org
SUMMARY:Sisters' Halaqa
DESCRIPTION:
URL:https://www.darulislah.org/events/sisters-halaqa-2/2028-10-13/
CATEGORIES:Masjid Events
ATTACH;FMTTYPE=image/png:https://www.darulislah.org/wp-content/uploads/2025/09/Sr.-Sherins-Halaqa-Real-Estate-Flyer-11.png
END:VEVENT
BEGIN:VEVENT
DTSTART;TZID=America/New_York:20281014T054500
DTEND;TZID=America/New_York:20281014T183000
DTSTAMP:20260425T113856
CREATED:20260217T203709Z
LAST-MODIFIED:20260326T145434Z
UID:10000660-1855115100-1855161000@www.darulislah.org
SUMMARY:Journey Through the Hadith
DESCRIPTION:
URL:https://www.darulislah.org/events/journey-through-the-hadith-2/2028-10-14/
CATEGORIES:Masjid Events
ATTACH;FMTTYPE=image/png:https://www.darulislah.org/wp-content/uploads/2025/09/Fajr-Khatiras-1.png
END:VEVENT
END:VCALENDAR