BEGIN:VCALENDAR
VERSION:2.0
PRODID:-//Darul Islah | Muslim Society of Bergen County - ECPv6.15.20//NONSGML v1.0//EN
CALSCALE:GREGORIAN
METHOD:PUBLISH
X-WR-CALNAME:Darul Islah | Muslim Society of Bergen County
X-ORIGINAL-URL:https://www.darulislah.org
X-WR-CALDESC:Events for Darul Islah | Muslim Society of Bergen County
REFRESH-INTERVAL;VALUE=DURATION:PT1H
X-Robots-Tag:noindex
X-PUBLISHED-TTL:PT1H
BEGIN:VTIMEZONE
TZID:America/New_York
BEGIN:DAYLIGHT
TZOFFSETFROM:-0500
TZOFFSETTO:-0400
TZNAME:EDT
DTSTART:20250309T070000
END:DAYLIGHT
BEGIN:STANDARD
TZOFFSETFROM:-0400
TZOFFSETTO:-0500
TZNAME:EST
DTSTART:20251102T060000
END:STANDARD
BEGIN:DAYLIGHT
TZOFFSETFROM:-0500
TZOFFSETTO:-0400
TZNAME:EDT
DTSTART:20260308T070000
END:DAYLIGHT
BEGIN:STANDARD
TZOFFSETFROM:-0400
TZOFFSETTO:-0500
TZNAME:EST
DTSTART:20261101T060000
END:STANDARD
BEGIN:DAYLIGHT
TZOFFSETFROM:-0500
TZOFFSETTO:-0400
TZNAME:EDT
DTSTART:20270314T070000
END:DAYLIGHT
BEGIN:STANDARD
TZOFFSETFROM:-0400
TZOFFSETTO:-0500
TZNAME:EST
DTSTART:20271107T060000
END:STANDARD
END:VTIMEZONE
BEGIN:VEVENT
DTSTART;TZID=America/New_York:20260216T000000
DTEND;TZID=America/New_York:20260216T000000
DTSTAMP:20260423T191540
CREATED:20250822T040114Z
LAST-MODIFIED:20250822T040114Z
UID:10000211-1771200000-1771200000@www.darulislah.org
SUMMARY:Presidents Day
DESCRIPTION:
URL:https://www.darulislah.org/events/presidents-day/
CATEGORIES:Evening School Calendar
END:VEVENT
BEGIN:VEVENT
DTSTART;TZID=America/New_York:20260215T054500
DTEND;TZID=America/New_York:20260215T063000
DTSTAMP:20260423T191540
CREATED:20250902T175939Z
LAST-MODIFIED:20250902T180641Z
UID:10000781-1771134300-1771137000@www.darulislah.org
SUMMARY:Journey through the Quran
DESCRIPTION:Fajr Khatirah with Imam Saeed Qureshi
URL:https://www.darulislah.org/events/journey-through-the-quran/2026-02-15/
CATEGORIES:Masjid Events
ATTACH;FMTTYPE=image/png:https://www.darulislah.org/wp-content/uploads/2025/04/Fajr-Khatiras-1.png
END:VEVENT
BEGIN:VEVENT
DTSTART;TZID=America/New_York:20260214T120000
DTEND;TZID=America/New_York:20260214T130000
DTSTAMP:20260423T191540
CREATED:20250902T201934Z
LAST-MODIFIED:20250902T201934Z
UID:10001825-1771070400-1771074000@www.darulislah.org
SUMMARY:Sisters' Tajweed Class
DESCRIPTION:
URL:https://www.darulislah.org/events/sisters-tajweed-class/2026-02-14/
CATEGORIES:Masjid Events
ATTACH;FMTTYPE=image/png:https://www.darulislah.org/wp-content/uploads/2025/09/Sisters-Tajweed-Class-7.png
END:VEVENT
BEGIN:VEVENT
DTSTART;TZID=America/New_York:20260213T190000
DTEND;TZID=America/New_York:20260213T200000
DTSTAMP:20260423T191540
CREATED:20250902T201159Z
LAST-MODIFIED:20250902T201159Z
UID:10001564-1771009200-1771012800@www.darulislah.org
SUMMARY:Sisters' Halaqa
DESCRIPTION:
URL:https://www.darulislah.org/events/sisters-halaqa/2026-02-13/
CATEGORIES:Masjid Events
ATTACH;FMTTYPE=image/png:https://www.darulislah.org/wp-content/uploads/2025/09/Sr.-Sherins-Halaqa-Real-Estate-Flyer-11.png
END:VEVENT
BEGIN:VEVENT
DTSTART;TZID=America/New_York:20260213T180000
DTEND;TZID=America/New_York:20260213T210000
DTSTAMP:20260423T191540
CREATED:20260203T025035Z
LAST-MODIFIED:20260203T025046Z
UID:10002396-1771005600-1771016400@www.darulislah.org
SUMMARY:Welcoming Ramadan with Ust. AbdelRahman Murphy
DESCRIPTION:
URL:https://www.darulislah.org/events/welcomingramadan/
CATEGORIES:Masjid Events
ATTACH;FMTTYPE=image/jpeg:https://www.darulislah.org/wp-content/uploads/2026/02/WhatsApp-Image-2026-02-01-at-9.42.02-PM.jpeg
END:VEVENT
BEGIN:VEVENT
DTSTART;TZID=America/New_York:20260213T170000
DTEND;TZID=America/New_York:20260213T183000
DTSTAMP:20260423T191540
CREATED:20250911T163416Z
LAST-MODIFIED:20250911T163418Z
UID:10002086-1771002000-1771007400@www.darulislah.org
SUMMARY:DI Juniors (Girls)
DESCRIPTION:
URL:https://www.darulislah.org/events/di-juniors-girls-2/2026-02-13/
CATEGORIES:Masjid Events
END:VEVENT
BEGIN:VEVENT
DTSTART;TZID=America/New_York:20260213T130000
DTEND;TZID=America/New_York:20260213T150000
DTSTAMP:20260423T191540
CREATED:20250902T175228Z
LAST-MODIFIED:20250902T175229Z
UID:10000260-1770987600-1770994800@www.darulislah.org
SUMMARY:Jummah
DESCRIPTION:
URL:https://www.darulislah.org/events/jummah-3/2026-02-13/
CATEGORIES:Masjid Events
END:VEVENT
BEGIN:VEVENT
DTSTART;TZID=America/New_York:20260212T183000
DTEND;TZID=America/New_York:20260212T200000
DTSTAMP:20260423T191540
CREATED:20260203T024940Z
LAST-MODIFIED:20260203T024941Z
UID:10002395-1770921000-1770926400@www.darulislah.org
SUMMARY:Teaneck Township's Welcome Ramadan Program at the Rodda Center!
DESCRIPTION:
URL:https://www.darulislah.org/events/teaneckwelcomeramadan/
CATEGORIES:Masjid Events
ATTACH;FMTTYPE=image/png:https://www.darulislah.org/wp-content/uploads/2026/02/Welcome-Ramadan-in-Teaneck.png
END:VEVENT
BEGIN:VEVENT
DTSTART;TZID=America/New_York:20260211T193000
DTEND;TZID=America/New_York:20260211T200000
DTSTAMP:20260423T191540
CREATED:20251007T164318Z
LAST-MODIFIED:20251007T164324Z
UID:10001303-1770838200-1770840000@www.darulislah.org
SUMMARY:Sh. Waleed's Post Maghrib Khatira
DESCRIPTION:
URL:https://www.darulislah.org/events/sh-waleeds-post-maghrib-khatira-2/2026-02-11/
CATEGORIES:Masjid Events
ATTACH;FMTTYPE=image/png:https://www.darulislah.org/wp-content/uploads/2025/09/Weekdays-With-Sheikh-2.png
END:VEVENT
BEGIN:VEVENT
DTSTART;TZID=America/New_York:20260209T190000
DTEND;TZID=America/New_York:20260209T200000
DTSTAMP:20260423T191540
CREATED:20250902T195429Z
LAST-MODIFIED:20251007T164202Z
UID:10001041-1770663600-1770667200@www.darulislah.org
SUMMARY:40 Hadith for Youth with Sh. Waleed
DESCRIPTION:
URL:https://www.darulislah.org/events/40hadith/2026-02-09/
CATEGORIES:Masjid Events
ATTACH;FMTTYPE=image/png:https://www.darulislah.org/wp-content/uploads/2025/09/Weekdays-With-Sheikh-2.png
END:VEVENT
BEGIN:VEVENT
DTSTART;TZID=America/New_York:20260208T054500
DTEND;TZID=America/New_York:20260208T063000
DTSTAMP:20260423T191540
CREATED:20250902T175939Z
LAST-MODIFIED:20250902T180641Z
UID:10000780-1770529500-1770532200@www.darulislah.org
SUMMARY:Journey through the Quran
DESCRIPTION:Fajr Khatirah with Imam Saeed Qureshi
URL:https://www.darulislah.org/events/journey-through-the-quran/2026-02-08/
CATEGORIES:Masjid Events
ATTACH;FMTTYPE=image/png:https://www.darulislah.org/wp-content/uploads/2025/04/Fajr-Khatiras-1.png
END:VEVENT
BEGIN:VEVENT
DTSTART;TZID=America/New_York:20260207T120000
DTEND;TZID=America/New_York:20260207T130000
DTSTAMP:20260423T191540
CREATED:20250902T201934Z
LAST-MODIFIED:20250902T201934Z
UID:10001824-1770465600-1770469200@www.darulislah.org
SUMMARY:Sisters' Tajweed Class
DESCRIPTION:
URL:https://www.darulislah.org/events/sisters-tajweed-class/2026-02-07/
CATEGORIES:Masjid Events
ATTACH;FMTTYPE=image/png:https://www.darulislah.org/wp-content/uploads/2025/09/Sisters-Tajweed-Class-7.png
END:VEVENT
BEGIN:VEVENT
DTSTART;TZID=America/New_York:20260207T054500
DTEND;TZID=America/New_York:20260207T183000
DTSTAMP:20260423T191540
CREATED:20250902T180345Z
LAST-MODIFIED:20250902T194454Z
UID:10000520-1770443100-1770489000@www.darulislah.org
SUMMARY:Journey Through the Hadith
DESCRIPTION:
URL:https://www.darulislah.org/events/journey-through-the-hadith/2026-02-07/
CATEGORIES:Masjid Events
ATTACH;FMTTYPE=image/png:https://www.darulislah.org/wp-content/uploads/2025/09/Fajr-Khatiras-1.png
END:VEVENT
BEGIN:VEVENT
DTSTART;TZID=America/New_York:20260206T190000
DTEND;TZID=America/New_York:20260206T200000
DTSTAMP:20260423T191540
CREATED:20250902T201159Z
LAST-MODIFIED:20250902T201159Z
UID:10001563-1770404400-1770408000@www.darulislah.org
SUMMARY:Sisters' Halaqa
DESCRIPTION:
URL:https://www.darulislah.org/events/sisters-halaqa/2026-02-06/
CATEGORIES:Masjid Events
ATTACH;FMTTYPE=image/png:https://www.darulislah.org/wp-content/uploads/2025/09/Sr.-Sherins-Halaqa-Real-Estate-Flyer-11.png
END:VEVENT
BEGIN:VEVENT
DTSTART;TZID=America/New_York:20260206T180000
DTEND;TZID=America/New_York:20260206T210000
DTSTAMP:20260423T191540
CREATED:20260126T181444Z
LAST-MODIFIED:20260126T181444Z
UID:10002385-1770400800-1770411600@www.darulislah.org
SUMMARY:YM Teaneck Family Night
DESCRIPTION:Assalamu Alaikum Teaneck Families! 🌟 \nJoin Young Muslims Teaneck for a special Family Night! We invite you to an evening of community and connection as we share an inside look at how YM Teaneck operates and the impact we’re making together. \n🍽️ Presentation & Dinner included! 📅 Date: February 6th 🕕 Time: 6:00 PM 📍 Location: Darul Islah \nDon’t miss out—please RSVP via the QR code in the flyer or the link below to help us with the food count! \nRSVP here by clicking here. \nFor questions\, contact: 👤 Br. Ahmmad: (908) 878-1494 👤 Sr. Zainab: (551) 275-8691 \n 
URL:https://www.darulislah.org/events/ym-teaneck-family-night/
ATTACH;FMTTYPE=image/jpeg:https://www.darulislah.org/wp-content/uploads/2026/01/WhatsApp-Image-2026-01-26-at-12.43.41-PM.jpeg
END:VEVENT
BEGIN:VEVENT
DTSTART;TZID=America/New_York:20260206T170000
DTEND;TZID=America/New_York:20260206T183000
DTSTAMP:20260423T191540
CREATED:20250911T163416Z
LAST-MODIFIED:20250911T163418Z
UID:10002085-1770397200-1770402600@www.darulislah.org
SUMMARY:DI Juniors (Girls)
DESCRIPTION:
URL:https://www.darulislah.org/events/di-juniors-girls-2/2026-02-06/
CATEGORIES:Masjid Events
END:VEVENT
BEGIN:VEVENT
DTSTART;TZID=America/New_York:20260206T130000
DTEND;TZID=America/New_York:20260206T150000
DTSTAMP:20260423T191540
CREATED:20260203T035818Z
LAST-MODIFIED:20260203T035848Z
UID:10000259-1770382800-1770390000@www.darulislah.org
SUMMARY:Jummah
DESCRIPTION:
URL:https://www.darulislah.org/events/jummah-3-18/
CATEGORIES:Masjid Events
ATTACH;FMTTYPE=image/jpeg:https://www.darulislah.org/wp-content/uploads/2025/09/WhatsApp-Image-2026-02-02-at-4.57.53-PM.jpeg
END:VEVENT
BEGIN:VEVENT
DTSTART;TZID=America/New_York:20260204T193000
DTEND;TZID=America/New_York:20260204T200000
DTSTAMP:20260423T191540
CREATED:20251007T164318Z
LAST-MODIFIED:20251007T164324Z
UID:10001302-1770233400-1770235200@www.darulislah.org
SUMMARY:Sh. Waleed's Post Maghrib Khatira
DESCRIPTION:
URL:https://www.darulislah.org/events/sh-waleeds-post-maghrib-khatira-2/2026-02-04/
CATEGORIES:Masjid Events
ATTACH;FMTTYPE=image/png:https://www.darulislah.org/wp-content/uploads/2025/09/Weekdays-With-Sheikh-2.png
END:VEVENT
BEGIN:VEVENT
DTSTART;TZID=America/New_York:20260202T190000
DTEND;TZID=America/New_York:20260202T200000
DTSTAMP:20260423T191540
CREATED:20250902T195429Z
LAST-MODIFIED:20251007T164202Z
UID:10001040-1770058800-1770062400@www.darulislah.org
SUMMARY:40 Hadith for Youth with Sh. Waleed
DESCRIPTION:
URL:https://www.darulislah.org/events/40hadith/2026-02-02/
CATEGORIES:Masjid Events
ATTACH;FMTTYPE=image/png:https://www.darulislah.org/wp-content/uploads/2025/09/Weekdays-With-Sheikh-2.png
END:VEVENT
BEGIN:VEVENT
DTSTART;TZID=America/New_York:20260201T054500
DTEND;TZID=America/New_York:20260201T063000
DTSTAMP:20260423T191540
CREATED:20250902T175939Z
LAST-MODIFIED:20250902T180641Z
UID:10000779-1769924700-1769927400@www.darulislah.org
SUMMARY:Journey through the Quran
DESCRIPTION:Fajr Khatirah with Imam Saeed Qureshi
URL:https://www.darulislah.org/events/journey-through-the-quran/2026-02-01/
CATEGORIES:Masjid Events
ATTACH;FMTTYPE=image/png:https://www.darulislah.org/wp-content/uploads/2025/04/Fajr-Khatiras-1.png
END:VEVENT
BEGIN:VEVENT
DTSTART;TZID=America/New_York:20260131T120000
DTEND;TZID=America/New_York:20260131T130000
DTSTAMP:20260423T191540
CREATED:20250902T201934Z
LAST-MODIFIED:20250902T201934Z
UID:10001823-1769860800-1769864400@www.darulislah.org
SUMMARY:Sisters' Tajweed Class
DESCRIPTION:
URL:https://www.darulislah.org/events/sisters-tajweed-class/2026-01-31/
CATEGORIES:Masjid Events
ATTACH;FMTTYPE=image/png:https://www.darulislah.org/wp-content/uploads/2025/09/Sisters-Tajweed-Class-7.png
END:VEVENT
BEGIN:VEVENT
DTSTART;TZID=America/New_York:20260131T100000
DTEND;TZID=America/New_York:20260131T120000
DTSTAMP:20260423T191540
CREATED:20260123T163300Z
LAST-MODIFIED:20260123T163300Z
UID:10002384-1769853600-1769860800@www.darulislah.org
SUMMARY:Mommy & Me
DESCRIPTION:A space for mothers to connect and children to grow in a faith-centered environment. \nOur Mommy & Me program is designed to create a vibrant social circle for mothers while providing a nurturing Islamic atmosphere for our youngest community members. Whether you are looking for parenting support or a fun morning out with your little ones\, this is the place for you! \nProgram Details\n\n\nWho: Mothers and children (Ages 6 and under). \n\n\nWhen: Meets twice a month (Check the masjid calendar for the latest Saturday dates). \n\n\nTime: Usually held in the morning (approx. 10:00 AM – 11:00 AM). \n\n\nRegistration: $5 per child. \n\n\nWhat to Expect\n\n\nIslamic Story Time: Engaging stories that introduce children to the beauty of faith. \n\n\nArts & Crafts: Creative\, hands-on activities to develop fine motor skills. \n\n\nPlaytime: A safe\, open space for kids to socialize and mothers to share experiences. \n\n\nCommunity: Meet other local moms in a supportive\, relaxed setting. \n\n\n\nContact Information: \n\n\nRegistration: darulislah.org/mommyandme \n\n\nEmail: MommyAndMe@darulislah.org
URL:https://www.darulislah.org/events/mommy-me/
END:VEVENT
BEGIN:VEVENT
DTSTART;TZID=America/New_York:20260131T054500
DTEND;TZID=America/New_York:20260131T183000
DTSTAMP:20260423T191540
CREATED:20250902T180345Z
LAST-MODIFIED:20250902T194454Z
UID:10000519-1769838300-1769884200@www.darulislah.org
SUMMARY:Journey Through the Hadith
DESCRIPTION:
URL:https://www.darulislah.org/events/journey-through-the-hadith/2026-01-31/
CATEGORIES:Masjid Events
ATTACH;FMTTYPE=image/png:https://www.darulislah.org/wp-content/uploads/2025/09/Fajr-Khatiras-1.png
END:VEVENT
BEGIN:VEVENT
DTSTART;TZID=America/New_York:20260130T190000
DTEND;TZID=America/New_York:20260130T200000
DTSTAMP:20260423T191540
CREATED:20250902T201159Z
LAST-MODIFIED:20250902T201159Z
UID:10001562-1769799600-1769803200@www.darulislah.org
SUMMARY:Sisters' Halaqa
DESCRIPTION:
URL:https://www.darulislah.org/events/sisters-halaqa/2026-01-30/
CATEGORIES:Masjid Events
ATTACH;FMTTYPE=image/png:https://www.darulislah.org/wp-content/uploads/2025/09/Sr.-Sherins-Halaqa-Real-Estate-Flyer-11.png
END:VEVENT
BEGIN:VEVENT
DTSTART;TZID=America/New_York:20260130T130000
DTEND;TZID=America/New_York:20260130T150000
DTSTAMP:20260423T191540
CREATED:20260127T140217Z
LAST-MODIFIED:20260127T140303Z
UID:10000258-1769778000-1769785200@www.darulislah.org
SUMMARY:Jummah
DESCRIPTION:
URL:https://www.darulislah.org/events/jummah-3-17/
CATEGORIES:Masjid Events
ATTACH;FMTTYPE=image/png:https://www.darulislah.org/wp-content/uploads/2026/01/Jumuah-65.png
END:VEVENT
BEGIN:VEVENT
DTSTART;TZID=America/New_York:20260128T193000
DTEND;TZID=America/New_York:20260128T200000
DTSTAMP:20260423T191540
CREATED:20251007T164318Z
LAST-MODIFIED:20251007T164324Z
UID:10001301-1769628600-1769630400@www.darulislah.org
SUMMARY:Sh. Waleed's Post Maghrib Khatira
DESCRIPTION:
URL:https://www.darulislah.org/events/sh-waleeds-post-maghrib-khatira-2/2026-01-28/
CATEGORIES:Masjid Events
ATTACH;FMTTYPE=image/png:https://www.darulislah.org/wp-content/uploads/2025/09/Weekdays-With-Sheikh-2.png
END:VEVENT
BEGIN:VEVENT
DTSTART;TZID=America/New_York:20260126T190000
DTEND;TZID=America/New_York:20260126T200000
DTSTAMP:20260423T191540
CREATED:20250902T195429Z
LAST-MODIFIED:20251007T164202Z
UID:10001039-1769454000-1769457600@www.darulislah.org
SUMMARY:40 Hadith for Youth with Sh. Waleed
DESCRIPTION:
URL:https://www.darulislah.org/events/40hadith/2026-01-26/
CATEGORIES:Masjid Events
ATTACH;FMTTYPE=image/png:https://www.darulislah.org/wp-content/uploads/2025/09/Weekdays-With-Sheikh-2.png
END:VEVENT
BEGIN:VEVENT
DTSTART;TZID=America/New_York:20260125T054500
DTEND;TZID=America/New_York:20260125T063000
DTSTAMP:20260423T191540
CREATED:20250902T175939Z
LAST-MODIFIED:20250902T180641Z
UID:10000778-1769319900-1769322600@www.darulislah.org
SUMMARY:Journey through the Quran
DESCRIPTION:Fajr Khatirah with Imam Saeed Qureshi
URL:https://www.darulislah.org/events/journey-through-the-quran/2026-01-25/
CATEGORIES:Masjid Events
ATTACH;FMTTYPE=image/png:https://www.darulislah.org/wp-content/uploads/2025/04/Fajr-Khatiras-1.png
END:VEVENT
BEGIN:VEVENT
DTSTART;TZID=America/New_York:20260124T133000
DTEND;TZID=America/New_York:20260124T153000
DTSTAMP:20260423T191540
CREATED:20260123T163123Z
LAST-MODIFIED:20260123T211718Z
UID:10002383-1769261400-1769268600@www.darulislah.org
SUMMARY:Confidence. Modestly. Empowerment. Dr. Suzy Ismail
DESCRIPTION:Join Dr. Suzy Ismail for an empowering session focused on the intersection of faith\, identity\, and personal growth. This event is designed to foster a sense of community and provide actionable insights for women of all backgrounds. \nEvent Details\n\n\nDate: Saturday\, January 24 \n\n\nTime: 2:00 PM \n\n\nLocation: Darul Islah (Muslim Society of Bergen County) \n\n\nTarget Audience: Women only (All faiths welcome) \n\n\n\nHighlights & Amenities\n\n\nSpeaker: Dr. Suzy Ismail is a renowned author\, communication expert\, and the Founding Director of Cornerstone. She specializes in marriage\, family dynamics\, and women’s empowerment. \n\n\nRefreshments: Food and drinks will be served to all attendees. \n\n\nChildcare: Complimentary babysitting is available for children aged 4 and older. \n\n\nRegistration: Attendees can register by scanning the QR code on the flyer or clicking here. \n\n\nContact & Social Media\n\n\nEmail: MuslimHeritage@darulislah.org \n\n\nWebsite: darulislah.org \n\n\nInstagram: @darul.islah
URL:https://www.darulislah.org/events/confidence-modestly-empowerment-dr-suzy-ismail/
ATTACH;FMTTYPE=image/png:https://www.darulislah.org/wp-content/uploads/2026/01/MHM-Dr.-Suzy-2.png
END:VEVENT
BEGIN:VEVENT
DTSTART;TZID=America/New_York:20260124T120000
DTEND;TZID=America/New_York:20260124T130000
DTSTAMP:20260423T191540
CREATED:20250902T201934Z
LAST-MODIFIED:20250902T201934Z
UID:10001822-1769256000-1769259600@www.darulislah.org
SUMMARY:Sisters' Tajweed Class
DESCRIPTION:
URL:https://www.darulislah.org/events/sisters-tajweed-class/2026-01-24/
CATEGORIES:Masjid Events
ATTACH;FMTTYPE=image/png:https://www.darulislah.org/wp-content/uploads/2025/09/Sisters-Tajweed-Class-7.png
END:VEVENT
END:VCALENDAR