BEGIN:VCALENDAR
VERSION:2.0
PRODID:-//Darul Islah | Muslim Society of Bergen County - ECPv6.15.20//NONSGML v1.0//EN
CALSCALE:GREGORIAN
METHOD:PUBLISH
X-WR-CALNAME:Darul Islah | Muslim Society of Bergen County
X-ORIGINAL-URL:https://www.darulislah.org
X-WR-CALDESC:Events for Darul Islah | Muslim Society of Bergen County
REFRESH-INTERVAL;VALUE=DURATION:PT1H
X-Robots-Tag:noindex
X-PUBLISHED-TTL:PT1H
BEGIN:VTIMEZONE
TZID:America/New_York
BEGIN:DAYLIGHT
TZOFFSETFROM:-0500
TZOFFSETTO:-0400
TZNAME:EDT
DTSTART:20260308T070000
END:DAYLIGHT
BEGIN:STANDARD
TZOFFSETFROM:-0400
TZOFFSETTO:-0500
TZNAME:EST
DTSTART:20261101T060000
END:STANDARD
BEGIN:DAYLIGHT
TZOFFSETFROM:-0500
TZOFFSETTO:-0400
TZNAME:EDT
DTSTART:20270314T070000
END:DAYLIGHT
BEGIN:STANDARD
TZOFFSETFROM:-0400
TZOFFSETTO:-0500
TZNAME:EST
DTSTART:20271107T060000
END:STANDARD
BEGIN:DAYLIGHT
TZOFFSETFROM:-0500
TZOFFSETTO:-0400
TZNAME:EDT
DTSTART:20280312T070000
END:DAYLIGHT
BEGIN:STANDARD
TZOFFSETFROM:-0400
TZOFFSETTO:-0500
TZNAME:EST
DTSTART:20281105T060000
END:STANDARD
END:VTIMEZONE
BEGIN:VEVENT
DTSTART;TZID=America/New_York:20270410T054500
DTEND;TZID=America/New_York:20270410T183000
DTSTAMP:20260425T101007
CREATED:20260217T203709Z
LAST-MODIFIED:20260326T145434Z
UID:10000581-1807335900-1807381800@www.darulislah.org
SUMMARY:Journey Through the Hadith
DESCRIPTION:
URL:https://www.darulislah.org/events/journey-through-the-hadith-2/2027-04-10/
CATEGORIES:Masjid Events
ATTACH;FMTTYPE=image/png:https://www.darulislah.org/wp-content/uploads/2025/09/Fajr-Khatiras-1.png
END:VEVENT
BEGIN:VEVENT
DTSTART;TZID=America/New_York:20270410T120000
DTEND;TZID=America/New_York:20270410T130000
DTSTAMP:20260425T101007
CREATED:20250902T201934Z
LAST-MODIFIED:20250902T201934Z
UID:10001885-1807358400-1807362000@www.darulislah.org
SUMMARY:Sisters' Tajweed Class
DESCRIPTION:
URL:https://www.darulislah.org/events/sisters-tajweed-class/2027-04-10/
CATEGORIES:Masjid Events
ATTACH;FMTTYPE=image/png:https://www.darulislah.org/wp-content/uploads/2025/09/Sisters-Tajweed-Class-7.png
END:VEVENT
BEGIN:VEVENT
DTSTART;TZID=America/New_York:20270411T054500
DTEND;TZID=America/New_York:20270411T063000
DTSTAMP:20260425T101007
CREATED:20250902T175939Z
LAST-MODIFIED:20250902T180641Z
UID:10000841-1807422300-1807425000@www.darulislah.org
SUMMARY:Journey through the Quran
DESCRIPTION:Fajr Khatirah with Imam Saeed Qureshi
URL:https://www.darulislah.org/events/journey-through-the-quran/2027-04-11/
CATEGORIES:Masjid Events
ATTACH;FMTTYPE=image/png:https://www.darulislah.org/wp-content/uploads/2025/04/Fajr-Khatiras-1.png
END:VEVENT
BEGIN:VEVENT
DTSTART;TZID=America/New_York:20270414T193000
DTEND;TZID=America/New_York:20270414T200000
DTSTAMP:20260425T101007
CREATED:20260217T203400Z
LAST-MODIFIED:20260326T145414Z
UID:10001364-1807731000-1807732800@www.darulislah.org
SUMMARY:Sh. Waleed's Post Maghrib Khatira
DESCRIPTION:
URL:https://www.darulislah.org/events/sh-waleeds-post-maghrib-khatira-2-2/2027-04-14/
CATEGORIES:Masjid Events
ATTACH;FMTTYPE=image/png:https://www.darulislah.org/wp-content/uploads/2025/09/Weekdays-With-Sheikh-2.png
END:VEVENT
BEGIN:VEVENT
DTSTART;TZID=America/New_York:20270416T130000
DTEND;TZID=America/New_York:20270416T150000
DTSTAMP:20260425T101007
CREATED:20250902T175228Z
LAST-MODIFIED:20250902T175229Z
UID:10000321-1807880400-1807887600@www.darulislah.org
SUMMARY:Jummah
DESCRIPTION:
URL:https://www.darulislah.org/events/jummah-3/2027-04-16/
CATEGORIES:Masjid Events
END:VEVENT
BEGIN:VEVENT
DTSTART;TZID=America/New_York:20270416T170000
DTEND;TZID=America/New_York:20270416T183000
DTSTAMP:20260425T101007
CREATED:20250911T163416Z
LAST-MODIFIED:20250911T163418Z
UID:10002147-1807894800-1807900200@www.darulislah.org
SUMMARY:DI Juniors (Girls)
DESCRIPTION:
URL:https://www.darulislah.org/events/di-juniors-girls-2/2027-04-16/
CATEGORIES:Masjid Events
END:VEVENT
BEGIN:VEVENT
DTSTART;TZID=America/New_York:20270416T190000
DTEND;TZID=America/New_York:20270416T200000
DTSTAMP:20260425T101007
CREATED:20260217T203504Z
LAST-MODIFIED:20260326T145420Z
UID:10001625-1807902000-1807905600@www.darulislah.org
SUMMARY:Sisters' Halaqa
DESCRIPTION:
URL:https://www.darulislah.org/events/sisters-halaqa-2/2027-04-16/
CATEGORIES:Masjid Events
ATTACH;FMTTYPE=image/png:https://www.darulislah.org/wp-content/uploads/2025/09/Sr.-Sherins-Halaqa-Real-Estate-Flyer-11.png
END:VEVENT
BEGIN:VEVENT
DTSTART;TZID=America/New_York:20270417T054500
DTEND;TZID=America/New_York:20270417T183000
DTSTAMP:20260425T101007
CREATED:20260217T203709Z
LAST-MODIFIED:20260326T145434Z
UID:10000582-1807940700-1807986600@www.darulislah.org
SUMMARY:Journey Through the Hadith
DESCRIPTION:
URL:https://www.darulislah.org/events/journey-through-the-hadith-2/2027-04-17/
CATEGORIES:Masjid Events
ATTACH;FMTTYPE=image/png:https://www.darulislah.org/wp-content/uploads/2025/09/Fajr-Khatiras-1.png
END:VEVENT
BEGIN:VEVENT
DTSTART;TZID=America/New_York:20270417T120000
DTEND;TZID=America/New_York:20270417T130000
DTSTAMP:20260425T101007
CREATED:20250902T201934Z
LAST-MODIFIED:20250902T201934Z
UID:10001886-1807963200-1807966800@www.darulislah.org
SUMMARY:Sisters' Tajweed Class
DESCRIPTION:
URL:https://www.darulislah.org/events/sisters-tajweed-class/2027-04-17/
CATEGORIES:Masjid Events
ATTACH;FMTTYPE=image/png:https://www.darulislah.org/wp-content/uploads/2025/09/Sisters-Tajweed-Class-7.png
END:VEVENT
BEGIN:VEVENT
DTSTART;TZID=America/New_York:20270418T054500
DTEND;TZID=America/New_York:20270418T063000
DTSTAMP:20260425T101007
CREATED:20250902T175939Z
LAST-MODIFIED:20250902T180641Z
UID:10000842-1808027100-1808029800@www.darulislah.org
SUMMARY:Journey through the Quran
DESCRIPTION:Fajr Khatirah with Imam Saeed Qureshi
URL:https://www.darulislah.org/events/journey-through-the-quran/2027-04-18/
CATEGORIES:Masjid Events
ATTACH;FMTTYPE=image/png:https://www.darulislah.org/wp-content/uploads/2025/04/Fajr-Khatiras-1.png
END:VEVENT
BEGIN:VEVENT
DTSTART;TZID=America/New_York:20270421T193000
DTEND;TZID=America/New_York:20270421T200000
DTSTAMP:20260425T101007
CREATED:20260217T203400Z
LAST-MODIFIED:20260326T145414Z
UID:10001365-1808335800-1808337600@www.darulislah.org
SUMMARY:Sh. Waleed's Post Maghrib Khatira
DESCRIPTION:
URL:https://www.darulislah.org/events/sh-waleeds-post-maghrib-khatira-2-2/2027-04-21/
CATEGORIES:Masjid Events
ATTACH;FMTTYPE=image/png:https://www.darulislah.org/wp-content/uploads/2025/09/Weekdays-With-Sheikh-2.png
END:VEVENT
BEGIN:VEVENT
DTSTART;TZID=America/New_York:20270423T130000
DTEND;TZID=America/New_York:20270423T150000
DTSTAMP:20260425T101007
CREATED:20250902T175228Z
LAST-MODIFIED:20250902T175229Z
UID:10000322-1808485200-1808492400@www.darulislah.org
SUMMARY:Jummah
DESCRIPTION:
URL:https://www.darulislah.org/events/jummah-3/2027-04-23/
CATEGORIES:Masjid Events
END:VEVENT
BEGIN:VEVENT
DTSTART;TZID=America/New_York:20270423T170000
DTEND;TZID=America/New_York:20270423T183000
DTSTAMP:20260425T101007
CREATED:20250911T163416Z
LAST-MODIFIED:20250911T163418Z
UID:10002148-1808499600-1808505000@www.darulislah.org
SUMMARY:DI Juniors (Girls)
DESCRIPTION:
URL:https://www.darulislah.org/events/di-juniors-girls-2/2027-04-23/
CATEGORIES:Masjid Events
END:VEVENT
BEGIN:VEVENT
DTSTART;TZID=America/New_York:20270423T190000
DTEND;TZID=America/New_York:20270423T200000
DTSTAMP:20260425T101007
CREATED:20260217T203504Z
LAST-MODIFIED:20260326T145420Z
UID:10001626-1808506800-1808510400@www.darulislah.org
SUMMARY:Sisters' Halaqa
DESCRIPTION:
URL:https://www.darulislah.org/events/sisters-halaqa-2/2027-04-23/
CATEGORIES:Masjid Events
ATTACH;FMTTYPE=image/png:https://www.darulislah.org/wp-content/uploads/2025/09/Sr.-Sherins-Halaqa-Real-Estate-Flyer-11.png
END:VEVENT
BEGIN:VEVENT
DTSTART;TZID=America/New_York:20270424T054500
DTEND;TZID=America/New_York:20270424T183000
DTSTAMP:20260425T101007
CREATED:20260217T203709Z
LAST-MODIFIED:20260326T145434Z
UID:10000583-1808545500-1808591400@www.darulislah.org
SUMMARY:Journey Through the Hadith
DESCRIPTION:
URL:https://www.darulislah.org/events/journey-through-the-hadith-2/2027-04-24/
CATEGORIES:Masjid Events
ATTACH;FMTTYPE=image/png:https://www.darulislah.org/wp-content/uploads/2025/09/Fajr-Khatiras-1.png
END:VEVENT
BEGIN:VEVENT
DTSTART;TZID=America/New_York:20270424T120000
DTEND;TZID=America/New_York:20270424T130000
DTSTAMP:20260425T101007
CREATED:20250902T201934Z
LAST-MODIFIED:20250902T201934Z
UID:10001887-1808568000-1808571600@www.darulislah.org
SUMMARY:Sisters' Tajweed Class
DESCRIPTION:
URL:https://www.darulislah.org/events/sisters-tajweed-class/2027-04-24/
CATEGORIES:Masjid Events
ATTACH;FMTTYPE=image/png:https://www.darulislah.org/wp-content/uploads/2025/09/Sisters-Tajweed-Class-7.png
END:VEVENT
BEGIN:VEVENT
DTSTART;TZID=America/New_York:20270425T054500
DTEND;TZID=America/New_York:20270425T063000
DTSTAMP:20260425T101007
CREATED:20250902T175939Z
LAST-MODIFIED:20250902T180641Z
UID:10000843-1808631900-1808634600@www.darulislah.org
SUMMARY:Journey through the Quran
DESCRIPTION:Fajr Khatirah with Imam Saeed Qureshi
URL:https://www.darulislah.org/events/journey-through-the-quran/2027-04-25/
CATEGORIES:Masjid Events
ATTACH;FMTTYPE=image/png:https://www.darulislah.org/wp-content/uploads/2025/04/Fajr-Khatiras-1.png
END:VEVENT
BEGIN:VEVENT
DTSTART;TZID=America/New_York:20270428T193000
DTEND;TZID=America/New_York:20270428T200000
DTSTAMP:20260425T101007
CREATED:20260217T203400Z
LAST-MODIFIED:20260326T145414Z
UID:10001366-1808940600-1808942400@www.darulislah.org
SUMMARY:Sh. Waleed's Post Maghrib Khatira
DESCRIPTION:
URL:https://www.darulislah.org/events/sh-waleeds-post-maghrib-khatira-2-2/2027-04-28/
CATEGORIES:Masjid Events
ATTACH;FMTTYPE=image/png:https://www.darulislah.org/wp-content/uploads/2025/09/Weekdays-With-Sheikh-2.png
END:VEVENT
BEGIN:VEVENT
DTSTART;TZID=America/New_York:20270430T130000
DTEND;TZID=America/New_York:20270430T150000
DTSTAMP:20260425T101007
CREATED:20250902T175228Z
LAST-MODIFIED:20250902T175229Z
UID:10000323-1809090000-1809097200@www.darulislah.org
SUMMARY:Jummah
DESCRIPTION:
URL:https://www.darulislah.org/events/jummah-3/2027-04-30/
CATEGORIES:Masjid Events
END:VEVENT
BEGIN:VEVENT
DTSTART;TZID=America/New_York:20270430T170000
DTEND;TZID=America/New_York:20270430T183000
DTSTAMP:20260425T101007
CREATED:20250911T163416Z
LAST-MODIFIED:20250911T163418Z
UID:10002149-1809104400-1809109800@www.darulislah.org
SUMMARY:DI Juniors (Girls)
DESCRIPTION:
URL:https://www.darulislah.org/events/di-juniors-girls-2/2027-04-30/
CATEGORIES:Masjid Events
END:VEVENT
BEGIN:VEVENT
DTSTART;TZID=America/New_York:20270430T190000
DTEND;TZID=America/New_York:20270430T200000
DTSTAMP:20260425T101007
CREATED:20260217T203504Z
LAST-MODIFIED:20260326T145420Z
UID:10001627-1809111600-1809115200@www.darulislah.org
SUMMARY:Sisters' Halaqa
DESCRIPTION:
URL:https://www.darulislah.org/events/sisters-halaqa-2/2027-04-30/
CATEGORIES:Masjid Events
ATTACH;FMTTYPE=image/png:https://www.darulislah.org/wp-content/uploads/2025/09/Sr.-Sherins-Halaqa-Real-Estate-Flyer-11.png
END:VEVENT
BEGIN:VEVENT
DTSTART;TZID=America/New_York:20270501T054500
DTEND;TZID=America/New_York:20270501T183000
DTSTAMP:20260425T101007
CREATED:20260217T203709Z
LAST-MODIFIED:20260326T145434Z
UID:10000584-1809150300-1809196200@www.darulislah.org
SUMMARY:Journey Through the Hadith
DESCRIPTION:
URL:https://www.darulislah.org/events/journey-through-the-hadith-2/2027-05-01/
CATEGORIES:Masjid Events
ATTACH;FMTTYPE=image/png:https://www.darulislah.org/wp-content/uploads/2025/09/Fajr-Khatiras-1.png
END:VEVENT
BEGIN:VEVENT
DTSTART;TZID=America/New_York:20270501T120000
DTEND;TZID=America/New_York:20270501T130000
DTSTAMP:20260425T101007
CREATED:20250902T201934Z
LAST-MODIFIED:20250902T201934Z
UID:10001888-1809172800-1809176400@www.darulislah.org
SUMMARY:Sisters' Tajweed Class
DESCRIPTION:
URL:https://www.darulislah.org/events/sisters-tajweed-class/2027-05-01/
CATEGORIES:Masjid Events
ATTACH;FMTTYPE=image/png:https://www.darulislah.org/wp-content/uploads/2025/09/Sisters-Tajweed-Class-7.png
END:VEVENT
BEGIN:VEVENT
DTSTART;TZID=America/New_York:20270502T054500
DTEND;TZID=America/New_York:20270502T063000
DTSTAMP:20260425T101007
CREATED:20250902T175939Z
LAST-MODIFIED:20250902T180641Z
UID:10000844-1809236700-1809239400@www.darulislah.org
SUMMARY:Journey through the Quran
DESCRIPTION:Fajr Khatirah with Imam Saeed Qureshi
URL:https://www.darulislah.org/events/journey-through-the-quran/2027-05-02/
CATEGORIES:Masjid Events
ATTACH;FMTTYPE=image/png:https://www.darulislah.org/wp-content/uploads/2025/04/Fajr-Khatiras-1.png
END:VEVENT
BEGIN:VEVENT
DTSTART;TZID=America/New_York:20270505T193000
DTEND;TZID=America/New_York:20270505T200000
DTSTAMP:20260425T101007
CREATED:20260217T203400Z
LAST-MODIFIED:20260326T145414Z
UID:10001367-1809545400-1809547200@www.darulislah.org
SUMMARY:Sh. Waleed's Post Maghrib Khatira
DESCRIPTION:
URL:https://www.darulislah.org/events/sh-waleeds-post-maghrib-khatira-2-2/2027-05-05/
CATEGORIES:Masjid Events
ATTACH;FMTTYPE=image/png:https://www.darulislah.org/wp-content/uploads/2025/09/Weekdays-With-Sheikh-2.png
END:VEVENT
BEGIN:VEVENT
DTSTART;TZID=America/New_York:20270507T130000
DTEND;TZID=America/New_York:20270507T150000
DTSTAMP:20260425T101007
CREATED:20250902T175228Z
LAST-MODIFIED:20250902T175229Z
UID:10000324-1809694800-1809702000@www.darulislah.org
SUMMARY:Jummah
DESCRIPTION:
URL:https://www.darulislah.org/events/jummah-3/2027-05-07/
CATEGORIES:Masjid Events
END:VEVENT
BEGIN:VEVENT
DTSTART;TZID=America/New_York:20270507T170000
DTEND;TZID=America/New_York:20270507T183000
DTSTAMP:20260425T101007
CREATED:20250911T163416Z
LAST-MODIFIED:20250911T163418Z
UID:10002150-1809709200-1809714600@www.darulislah.org
SUMMARY:DI Juniors (Girls)
DESCRIPTION:
URL:https://www.darulislah.org/events/di-juniors-girls-2/2027-05-07/
CATEGORIES:Masjid Events
END:VEVENT
BEGIN:VEVENT
DTSTART;TZID=America/New_York:20270507T190000
DTEND;TZID=America/New_York:20270507T200000
DTSTAMP:20260425T101007
CREATED:20260217T203504Z
LAST-MODIFIED:20260326T145420Z
UID:10001628-1809716400-1809720000@www.darulislah.org
SUMMARY:Sisters' Halaqa
DESCRIPTION:
URL:https://www.darulislah.org/events/sisters-halaqa-2/2027-05-07/
CATEGORIES:Masjid Events
ATTACH;FMTTYPE=image/png:https://www.darulislah.org/wp-content/uploads/2025/09/Sr.-Sherins-Halaqa-Real-Estate-Flyer-11.png
END:VEVENT
BEGIN:VEVENT
DTSTART;TZID=America/New_York:20270508T054500
DTEND;TZID=America/New_York:20270508T183000
DTSTAMP:20260425T101007
CREATED:20260217T203709Z
LAST-MODIFIED:20260326T145434Z
UID:10000585-1809755100-1809801000@www.darulislah.org
SUMMARY:Journey Through the Hadith
DESCRIPTION:
URL:https://www.darulislah.org/events/journey-through-the-hadith-2/2027-05-08/
CATEGORIES:Masjid Events
ATTACH;FMTTYPE=image/png:https://www.darulislah.org/wp-content/uploads/2025/09/Fajr-Khatiras-1.png
END:VEVENT
BEGIN:VEVENT
DTSTART;TZID=America/New_York:20270508T120000
DTEND;TZID=America/New_York:20270508T130000
DTSTAMP:20260425T101007
CREATED:20250902T201934Z
LAST-MODIFIED:20250902T201934Z
UID:10001889-1809777600-1809781200@www.darulislah.org
SUMMARY:Sisters' Tajweed Class
DESCRIPTION:
URL:https://www.darulislah.org/events/sisters-tajweed-class/2027-05-08/
CATEGORIES:Masjid Events
ATTACH;FMTTYPE=image/png:https://www.darulislah.org/wp-content/uploads/2025/09/Sisters-Tajweed-Class-7.png
END:VEVENT
END:VCALENDAR