BEGIN:VCALENDAR
VERSION:2.0
PRODID:-//Darul Islah | Muslim Society of Bergen County - ECPv6.15.20//NONSGML v1.0//EN
CALSCALE:GREGORIAN
METHOD:PUBLISH
X-ORIGINAL-URL:https://www.darulislah.org
X-WR-CALDESC:Events for Darul Islah | Muslim Society of Bergen County
REFRESH-INTERVAL;VALUE=DURATION:PT1H
X-Robots-Tag:noindex
X-PUBLISHED-TTL:PT1H
BEGIN:VTIMEZONE
TZID:America/New_York
BEGIN:DAYLIGHT
TZOFFSETFROM:-0500
TZOFFSETTO:-0400
TZNAME:EDT
DTSTART:20260308T070000
END:DAYLIGHT
BEGIN:STANDARD
TZOFFSETFROM:-0400
TZOFFSETTO:-0500
TZNAME:EST
DTSTART:20261101T060000
END:STANDARD
BEGIN:DAYLIGHT
TZOFFSETFROM:-0500
TZOFFSETTO:-0400
TZNAME:EDT
DTSTART:20270314T070000
END:DAYLIGHT
BEGIN:STANDARD
TZOFFSETFROM:-0400
TZOFFSETTO:-0500
TZNAME:EST
DTSTART:20271107T060000
END:STANDARD
BEGIN:DAYLIGHT
TZOFFSETFROM:-0500
TZOFFSETTO:-0400
TZNAME:EDT
DTSTART:20280312T070000
END:DAYLIGHT
BEGIN:STANDARD
TZOFFSETFROM:-0400
TZOFFSETTO:-0500
TZNAME:EST
DTSTART:20281105T060000
END:STANDARD
END:VTIMEZONE
BEGIN:VEVENT
DTSTART;TZID=America/New_York:20270703T120000
DTEND;TZID=America/New_York:20270703T130000
DTSTAMP:20260425T082518
CREATED:20250902T201934Z
LAST-MODIFIED:20250902T201934Z
UID:10001897-1814616000-1814619600@www.darulislah.org
SUMMARY:Sisters' Tajweed Class
DESCRIPTION:
URL:https://www.darulislah.org/events/sisters-tajweed-class/2027-07-03/
CATEGORIES:Masjid Events
ATTACH;FMTTYPE=image/png:https://www.darulislah.org/wp-content/uploads/2025/09/Sisters-Tajweed-Class-7.png
END:VEVENT
BEGIN:VEVENT
DTSTART;TZID=America/New_York:20270704T054500
DTEND;TZID=America/New_York:20270704T063000
DTSTAMP:20260425T082518
CREATED:20250902T175939Z
LAST-MODIFIED:20250902T180641Z
UID:10000853-1814679900-1814682600@www.darulislah.org
SUMMARY:Journey through the Quran
DESCRIPTION:Fajr Khatirah with Imam Saeed Qureshi
URL:https://www.darulislah.org/events/journey-through-the-quran/2027-07-04/
CATEGORIES:Masjid Events
ATTACH;FMTTYPE=image/png:https://www.darulislah.org/wp-content/uploads/2025/04/Fajr-Khatiras-1.png
END:VEVENT
BEGIN:VEVENT
DTSTART;TZID=America/New_York:20270707T193000
DTEND;TZID=America/New_York:20270707T200000
DTSTAMP:20260425T082518
CREATED:20260217T203400Z
LAST-MODIFIED:20260326T145414Z
UID:10001376-1814988600-1814990400@www.darulislah.org
SUMMARY:Sh. Waleed's Post Maghrib Khatira
DESCRIPTION:
URL:https://www.darulislah.org/events/sh-waleeds-post-maghrib-khatira-2-2/2027-07-07/
CATEGORIES:Masjid Events
ATTACH;FMTTYPE=image/png:https://www.darulislah.org/wp-content/uploads/2025/09/Weekdays-With-Sheikh-2.png
END:VEVENT
BEGIN:VEVENT
DTSTART;TZID=America/New_York:20270709T130000
DTEND;TZID=America/New_York:20270709T150000
DTSTAMP:20260425T082518
CREATED:20250902T175228Z
LAST-MODIFIED:20250902T175229Z
UID:10000333-1815138000-1815145200@www.darulislah.org
SUMMARY:Jummah
DESCRIPTION:
URL:https://www.darulislah.org/events/jummah-3/2027-07-09/
CATEGORIES:Masjid Events
END:VEVENT
BEGIN:VEVENT
DTSTART;TZID=America/New_York:20270709T170000
DTEND;TZID=America/New_York:20270709T183000
DTSTAMP:20260425T082518
CREATED:20250911T163416Z
LAST-MODIFIED:20250911T163418Z
UID:10002159-1815152400-1815157800@www.darulislah.org
SUMMARY:DI Juniors (Girls)
DESCRIPTION:
URL:https://www.darulislah.org/events/di-juniors-girls-2/2027-07-09/
CATEGORIES:Masjid Events
END:VEVENT
BEGIN:VEVENT
DTSTART;TZID=America/New_York:20270709T190000
DTEND;TZID=America/New_York:20270709T200000
DTSTAMP:20260425T082518
CREATED:20260217T203504Z
LAST-MODIFIED:20260326T145420Z
UID:10001637-1815159600-1815163200@www.darulislah.org
SUMMARY:Sisters' Halaqa
DESCRIPTION:
URL:https://www.darulislah.org/events/sisters-halaqa-2/2027-07-09/
CATEGORIES:Masjid Events
ATTACH;FMTTYPE=image/png:https://www.darulislah.org/wp-content/uploads/2025/09/Sr.-Sherins-Halaqa-Real-Estate-Flyer-11.png
END:VEVENT
BEGIN:VEVENT
DTSTART;TZID=America/New_York:20270710T054500
DTEND;TZID=America/New_York:20270710T183000
DTSTAMP:20260425T082518
CREATED:20260217T203709Z
LAST-MODIFIED:20260326T145434Z
UID:10000594-1815198300-1815244200@www.darulislah.org
SUMMARY:Journey Through the Hadith
DESCRIPTION:
URL:https://www.darulislah.org/events/journey-through-the-hadith-2/2027-07-10/
CATEGORIES:Masjid Events
ATTACH;FMTTYPE=image/png:https://www.darulislah.org/wp-content/uploads/2025/09/Fajr-Khatiras-1.png
END:VEVENT
BEGIN:VEVENT
DTSTART;TZID=America/New_York:20270710T120000
DTEND;TZID=America/New_York:20270710T130000
DTSTAMP:20260425T082518
CREATED:20250902T201934Z
LAST-MODIFIED:20250902T201934Z
UID:10001898-1815220800-1815224400@www.darulislah.org
SUMMARY:Sisters' Tajweed Class
DESCRIPTION:
URL:https://www.darulislah.org/events/sisters-tajweed-class/2027-07-10/
CATEGORIES:Masjid Events
ATTACH;FMTTYPE=image/png:https://www.darulislah.org/wp-content/uploads/2025/09/Sisters-Tajweed-Class-7.png
END:VEVENT
BEGIN:VEVENT
DTSTART;TZID=America/New_York:20270711T054500
DTEND;TZID=America/New_York:20270711T063000
DTSTAMP:20260425T082518
CREATED:20250902T175939Z
LAST-MODIFIED:20250902T180641Z
UID:10000854-1815284700-1815287400@www.darulislah.org
SUMMARY:Journey through the Quran
DESCRIPTION:Fajr Khatirah with Imam Saeed Qureshi
URL:https://www.darulislah.org/events/journey-through-the-quran/2027-07-11/
CATEGORIES:Masjid Events
ATTACH;FMTTYPE=image/png:https://www.darulislah.org/wp-content/uploads/2025/04/Fajr-Khatiras-1.png
END:VEVENT
BEGIN:VEVENT
DTSTART;TZID=America/New_York:20270714T193000
DTEND;TZID=America/New_York:20270714T200000
DTSTAMP:20260425T082518
CREATED:20260217T203400Z
LAST-MODIFIED:20260326T145414Z
UID:10001377-1815593400-1815595200@www.darulislah.org
SUMMARY:Sh. Waleed's Post Maghrib Khatira
DESCRIPTION:
URL:https://www.darulislah.org/events/sh-waleeds-post-maghrib-khatira-2-2/2027-07-14/
CATEGORIES:Masjid Events
ATTACH;FMTTYPE=image/png:https://www.darulislah.org/wp-content/uploads/2025/09/Weekdays-With-Sheikh-2.png
END:VEVENT
BEGIN:VEVENT
DTSTART;TZID=America/New_York:20270716T130000
DTEND;TZID=America/New_York:20270716T150000
DTSTAMP:20260425T082518
CREATED:20250902T175228Z
LAST-MODIFIED:20250902T175229Z
UID:10000334-1815742800-1815750000@www.darulislah.org
SUMMARY:Jummah
DESCRIPTION:
URL:https://www.darulislah.org/events/jummah-3/2027-07-16/
CATEGORIES:Masjid Events
END:VEVENT
BEGIN:VEVENT
DTSTART;TZID=America/New_York:20270716T170000
DTEND;TZID=America/New_York:20270716T183000
DTSTAMP:20260425T082518
CREATED:20250911T163416Z
LAST-MODIFIED:20250911T163418Z
UID:10002160-1815757200-1815762600@www.darulislah.org
SUMMARY:DI Juniors (Girls)
DESCRIPTION:
URL:https://www.darulislah.org/events/di-juniors-girls-2/2027-07-16/
CATEGORIES:Masjid Events
END:VEVENT
BEGIN:VEVENT
DTSTART;TZID=America/New_York:20270716T190000
DTEND;TZID=America/New_York:20270716T200000
DTSTAMP:20260425T082518
CREATED:20260217T203504Z
LAST-MODIFIED:20260326T145420Z
UID:10001638-1815764400-1815768000@www.darulislah.org
SUMMARY:Sisters' Halaqa
DESCRIPTION:
URL:https://www.darulislah.org/events/sisters-halaqa-2/2027-07-16/
CATEGORIES:Masjid Events
ATTACH;FMTTYPE=image/png:https://www.darulislah.org/wp-content/uploads/2025/09/Sr.-Sherins-Halaqa-Real-Estate-Flyer-11.png
END:VEVENT
BEGIN:VEVENT
DTSTART;TZID=America/New_York:20270717T054500
DTEND;TZID=America/New_York:20270717T183000
DTSTAMP:20260425T082518
CREATED:20260217T203709Z
LAST-MODIFIED:20260326T145434Z
UID:10000595-1815803100-1815849000@www.darulislah.org
SUMMARY:Journey Through the Hadith
DESCRIPTION:
URL:https://www.darulislah.org/events/journey-through-the-hadith-2/2027-07-17/
CATEGORIES:Masjid Events
ATTACH;FMTTYPE=image/png:https://www.darulislah.org/wp-content/uploads/2025/09/Fajr-Khatiras-1.png
END:VEVENT
BEGIN:VEVENT
DTSTART;TZID=America/New_York:20270717T120000
DTEND;TZID=America/New_York:20270717T130000
DTSTAMP:20260425T082518
CREATED:20250902T201934Z
LAST-MODIFIED:20250902T201934Z
UID:10001899-1815825600-1815829200@www.darulislah.org
SUMMARY:Sisters' Tajweed Class
DESCRIPTION:
URL:https://www.darulislah.org/events/sisters-tajweed-class/2027-07-17/
CATEGORIES:Masjid Events
ATTACH;FMTTYPE=image/png:https://www.darulislah.org/wp-content/uploads/2025/09/Sisters-Tajweed-Class-7.png
END:VEVENT
BEGIN:VEVENT
DTSTART;TZID=America/New_York:20270718T054500
DTEND;TZID=America/New_York:20270718T063000
DTSTAMP:20260425T082518
CREATED:20250902T175939Z
LAST-MODIFIED:20250902T180641Z
UID:10000855-1815889500-1815892200@www.darulislah.org
SUMMARY:Journey through the Quran
DESCRIPTION:Fajr Khatirah with Imam Saeed Qureshi
URL:https://www.darulislah.org/events/journey-through-the-quran/2027-07-18/
CATEGORIES:Masjid Events
ATTACH;FMTTYPE=image/png:https://www.darulislah.org/wp-content/uploads/2025/04/Fajr-Khatiras-1.png
END:VEVENT
BEGIN:VEVENT
DTSTART;TZID=America/New_York:20270721T193000
DTEND;TZID=America/New_York:20270721T200000
DTSTAMP:20260425T082518
CREATED:20260217T203400Z
LAST-MODIFIED:20260326T145414Z
UID:10001378-1816198200-1816200000@www.darulislah.org
SUMMARY:Sh. Waleed's Post Maghrib Khatira
DESCRIPTION:
URL:https://www.darulislah.org/events/sh-waleeds-post-maghrib-khatira-2-2/2027-07-21/
CATEGORIES:Masjid Events
ATTACH;FMTTYPE=image/png:https://www.darulislah.org/wp-content/uploads/2025/09/Weekdays-With-Sheikh-2.png
END:VEVENT
BEGIN:VEVENT
DTSTART;TZID=America/New_York:20270723T130000
DTEND;TZID=America/New_York:20270723T150000
DTSTAMP:20260425T082518
CREATED:20250902T175228Z
LAST-MODIFIED:20250902T175229Z
UID:10000335-1816347600-1816354800@www.darulislah.org
SUMMARY:Jummah
DESCRIPTION:
URL:https://www.darulislah.org/events/jummah-3/2027-07-23/
CATEGORIES:Masjid Events
END:VEVENT
BEGIN:VEVENT
DTSTART;TZID=America/New_York:20270723T170000
DTEND;TZID=America/New_York:20270723T183000
DTSTAMP:20260425T082518
CREATED:20250911T163416Z
LAST-MODIFIED:20250911T163418Z
UID:10002161-1816362000-1816367400@www.darulislah.org
SUMMARY:DI Juniors (Girls)
DESCRIPTION:
URL:https://www.darulislah.org/events/di-juniors-girls-2/2027-07-23/
CATEGORIES:Masjid Events
END:VEVENT
BEGIN:VEVENT
DTSTART;TZID=America/New_York:20270723T190000
DTEND;TZID=America/New_York:20270723T200000
DTSTAMP:20260425T082518
CREATED:20260217T203504Z
LAST-MODIFIED:20260326T145420Z
UID:10001639-1816369200-1816372800@www.darulislah.org
SUMMARY:Sisters' Halaqa
DESCRIPTION:
URL:https://www.darulislah.org/events/sisters-halaqa-2/2027-07-23/
CATEGORIES:Masjid Events
ATTACH;FMTTYPE=image/png:https://www.darulislah.org/wp-content/uploads/2025/09/Sr.-Sherins-Halaqa-Real-Estate-Flyer-11.png
END:VEVENT
BEGIN:VEVENT
DTSTART;TZID=America/New_York:20270724T054500
DTEND;TZID=America/New_York:20270724T183000
DTSTAMP:20260425T082518
CREATED:20260217T203709Z
LAST-MODIFIED:20260326T145434Z
UID:10000596-1816407900-1816453800@www.darulislah.org
SUMMARY:Journey Through the Hadith
DESCRIPTION:
URL:https://www.darulislah.org/events/journey-through-the-hadith-2/2027-07-24/
CATEGORIES:Masjid Events
ATTACH;FMTTYPE=image/png:https://www.darulislah.org/wp-content/uploads/2025/09/Fajr-Khatiras-1.png
END:VEVENT
BEGIN:VEVENT
DTSTART;TZID=America/New_York:20270724T120000
DTEND;TZID=America/New_York:20270724T130000
DTSTAMP:20260425T082518
CREATED:20250902T201934Z
LAST-MODIFIED:20250902T201934Z
UID:10001900-1816430400-1816434000@www.darulislah.org
SUMMARY:Sisters' Tajweed Class
DESCRIPTION:
URL:https://www.darulislah.org/events/sisters-tajweed-class/2027-07-24/
CATEGORIES:Masjid Events
ATTACH;FMTTYPE=image/png:https://www.darulislah.org/wp-content/uploads/2025/09/Sisters-Tajweed-Class-7.png
END:VEVENT
BEGIN:VEVENT
DTSTART;TZID=America/New_York:20270725T054500
DTEND;TZID=America/New_York:20270725T063000
DTSTAMP:20260425T082518
CREATED:20250902T175939Z
LAST-MODIFIED:20250902T180641Z
UID:10000856-1816494300-1816497000@www.darulislah.org
SUMMARY:Journey through the Quran
DESCRIPTION:Fajr Khatirah with Imam Saeed Qureshi
URL:https://www.darulislah.org/events/journey-through-the-quran/2027-07-25/
CATEGORIES:Masjid Events
ATTACH;FMTTYPE=image/png:https://www.darulislah.org/wp-content/uploads/2025/04/Fajr-Khatiras-1.png
END:VEVENT
BEGIN:VEVENT
DTSTART;TZID=America/New_York:20270728T193000
DTEND;TZID=America/New_York:20270728T200000
DTSTAMP:20260425T082518
CREATED:20260217T203400Z
LAST-MODIFIED:20260326T145414Z
UID:10001379-1816803000-1816804800@www.darulislah.org
SUMMARY:Sh. Waleed's Post Maghrib Khatira
DESCRIPTION:
URL:https://www.darulislah.org/events/sh-waleeds-post-maghrib-khatira-2-2/2027-07-28/
CATEGORIES:Masjid Events
ATTACH;FMTTYPE=image/png:https://www.darulislah.org/wp-content/uploads/2025/09/Weekdays-With-Sheikh-2.png
END:VEVENT
BEGIN:VEVENT
DTSTART;TZID=America/New_York:20270730T130000
DTEND;TZID=America/New_York:20270730T150000
DTSTAMP:20260425T082518
CREATED:20250902T175228Z
LAST-MODIFIED:20250902T175229Z
UID:10000336-1816952400-1816959600@www.darulislah.org
SUMMARY:Jummah
DESCRIPTION:
URL:https://www.darulislah.org/events/jummah-3/2027-07-30/
CATEGORIES:Masjid Events
END:VEVENT
BEGIN:VEVENT
DTSTART;TZID=America/New_York:20270730T170000
DTEND;TZID=America/New_York:20270730T183000
DTSTAMP:20260425T082518
CREATED:20250911T163416Z
LAST-MODIFIED:20250911T163418Z
UID:10002162-1816966800-1816972200@www.darulislah.org
SUMMARY:DI Juniors (Girls)
DESCRIPTION:
URL:https://www.darulislah.org/events/di-juniors-girls-2/2027-07-30/
CATEGORIES:Masjid Events
END:VEVENT
BEGIN:VEVENT
DTSTART;TZID=America/New_York:20270730T190000
DTEND;TZID=America/New_York:20270730T200000
DTSTAMP:20260425T082518
CREATED:20260217T203504Z
LAST-MODIFIED:20260326T145420Z
UID:10001640-1816974000-1816977600@www.darulislah.org
SUMMARY:Sisters' Halaqa
DESCRIPTION:
URL:https://www.darulislah.org/events/sisters-halaqa-2/2027-07-30/
CATEGORIES:Masjid Events
ATTACH;FMTTYPE=image/png:https://www.darulislah.org/wp-content/uploads/2025/09/Sr.-Sherins-Halaqa-Real-Estate-Flyer-11.png
END:VEVENT
BEGIN:VEVENT
DTSTART;TZID=America/New_York:20270731T054500
DTEND;TZID=America/New_York:20270731T183000
DTSTAMP:20260425T082518
CREATED:20260217T203709Z
LAST-MODIFIED:20260326T145434Z
UID:10000597-1817012700-1817058600@www.darulislah.org
SUMMARY:Journey Through the Hadith
DESCRIPTION:
URL:https://www.darulislah.org/events/journey-through-the-hadith-2/2027-07-31/
CATEGORIES:Masjid Events
ATTACH;FMTTYPE=image/png:https://www.darulislah.org/wp-content/uploads/2025/09/Fajr-Khatiras-1.png
END:VEVENT
BEGIN:VEVENT
DTSTART;TZID=America/New_York:20270731T120000
DTEND;TZID=America/New_York:20270731T130000
DTSTAMP:20260425T082518
CREATED:20250902T201934Z
LAST-MODIFIED:20250902T201934Z
UID:10001901-1817035200-1817038800@www.darulislah.org
SUMMARY:Sisters' Tajweed Class
DESCRIPTION:
URL:https://www.darulislah.org/events/sisters-tajweed-class/2027-07-31/
CATEGORIES:Masjid Events
ATTACH;FMTTYPE=image/png:https://www.darulislah.org/wp-content/uploads/2025/09/Sisters-Tajweed-Class-7.png
END:VEVENT
BEGIN:VEVENT
DTSTART;TZID=America/New_York:20270801T054500
DTEND;TZID=America/New_York:20270801T063000
DTSTAMP:20260425T082518
CREATED:20250902T175939Z
LAST-MODIFIED:20250902T180641Z
UID:10000857-1817099100-1817101800@www.darulislah.org
SUMMARY:Journey through the Quran
DESCRIPTION:Fajr Khatirah with Imam Saeed Qureshi
URL:https://www.darulislah.org/events/journey-through-the-quran/2027-08-01/
CATEGORIES:Masjid Events
ATTACH;FMTTYPE=image/png:https://www.darulislah.org/wp-content/uploads/2025/04/Fajr-Khatiras-1.png
END:VEVENT
END:VCALENDAR