BEGIN:VCALENDAR
VERSION:2.0
PRODID:-//Darul Islah | Muslim Society of Bergen County - ECPv6.15.20//NONSGML v1.0//EN
CALSCALE:GREGORIAN
METHOD:PUBLISH
X-WR-CALNAME:Darul Islah | Muslim Society of Bergen County
X-ORIGINAL-URL:https://www.darulislah.org
X-WR-CALDESC:Events for Darul Islah | Muslim Society of Bergen County
REFRESH-INTERVAL;VALUE=DURATION:PT1H
X-Robots-Tag:noindex
X-PUBLISHED-TTL:PT1H
BEGIN:VTIMEZONE
TZID:America/New_York
BEGIN:DAYLIGHT
TZOFFSETFROM:-0500
TZOFFSETTO:-0400
TZNAME:EDT
DTSTART:20250309T070000
END:DAYLIGHT
BEGIN:STANDARD
TZOFFSETFROM:-0400
TZOFFSETTO:-0500
TZNAME:EST
DTSTART:20251102T060000
END:STANDARD
BEGIN:DAYLIGHT
TZOFFSETFROM:-0500
TZOFFSETTO:-0400
TZNAME:EDT
DTSTART:20260308T070000
END:DAYLIGHT
BEGIN:STANDARD
TZOFFSETFROM:-0400
TZOFFSETTO:-0500
TZNAME:EST
DTSTART:20261101T060000
END:STANDARD
BEGIN:DAYLIGHT
TZOFFSETFROM:-0500
TZOFFSETTO:-0400
TZNAME:EDT
DTSTART:20270314T070000
END:DAYLIGHT
BEGIN:STANDARD
TZOFFSETFROM:-0400
TZOFFSETTO:-0500
TZNAME:EST
DTSTART:20271107T060000
END:STANDARD
END:VTIMEZONE
BEGIN:VEVENT
DTSTART;TZID=America/New_York:20260107T193000
DTEND;TZID=America/New_York:20260107T200000
DTSTAMP:20260423T191414
CREATED:20251007T164318Z
LAST-MODIFIED:20251007T164324Z
UID:10001298-1767814200-1767816000@www.darulislah.org
SUMMARY:Sh. Waleed's Post Maghrib Khatira
DESCRIPTION:
URL:https://www.darulislah.org/events/sh-waleeds-post-maghrib-khatira-2/2026-01-07/
CATEGORIES:Masjid Events
ATTACH;FMTTYPE=image/png:https://www.darulislah.org/wp-content/uploads/2025/09/Weekdays-With-Sheikh-2.png
END:VEVENT
BEGIN:VEVENT
DTSTART;TZID=America/New_York:20260109T130000
DTEND;TZID=America/New_York:20260109T150000
DTSTAMP:20260423T191414
CREATED:20260107T203414Z
LAST-MODIFIED:20260107T203415Z
UID:10000255-1767963600-1767970800@www.darulislah.org
SUMMARY:Jummah
DESCRIPTION:
URL:https://www.darulislah.org/events/jummah-3-14/
CATEGORIES:Masjid Events
ATTACH;FMTTYPE=image/png:https://www.darulislah.org/wp-content/uploads/2026/01/Jumuah.png
END:VEVENT
BEGIN:VEVENT
DTSTART;TZID=America/New_York:20260109T170000
DTEND;TZID=America/New_York:20260109T183000
DTSTAMP:20260423T191414
CREATED:20250911T163416Z
LAST-MODIFIED:20250911T163418Z
UID:10002081-1767978000-1767983400@www.darulislah.org
SUMMARY:DI Juniors (Girls)
DESCRIPTION:
URL:https://www.darulislah.org/events/di-juniors-girls-2/2026-01-09/
CATEGORIES:Masjid Events
END:VEVENT
BEGIN:VEVENT
DTSTART;TZID=America/New_York:20260109T190000
DTEND;TZID=America/New_York:20260109T200000
DTSTAMP:20260423T191414
CREATED:20250902T201159Z
LAST-MODIFIED:20250902T201159Z
UID:10001559-1767985200-1767988800@www.darulislah.org
SUMMARY:Sisters' Halaqa
DESCRIPTION:
URL:https://www.darulislah.org/events/sisters-halaqa/2026-01-09/
CATEGORIES:Masjid Events
ATTACH;FMTTYPE=image/png:https://www.darulislah.org/wp-content/uploads/2025/09/Sr.-Sherins-Halaqa-Real-Estate-Flyer-11.png
END:VEVENT
BEGIN:VEVENT
DTSTART;TZID=America/New_York:20260110T054500
DTEND;TZID=America/New_York:20260110T183000
DTSTAMP:20260423T191414
CREATED:20250902T180345Z
LAST-MODIFIED:20250902T194454Z
UID:10000516-1768023900-1768069800@www.darulislah.org
SUMMARY:Journey Through the Hadith
DESCRIPTION:
URL:https://www.darulislah.org/events/journey-through-the-hadith/2026-01-10/
CATEGORIES:Masjid Events
ATTACH;FMTTYPE=image/png:https://www.darulislah.org/wp-content/uploads/2025/09/Fajr-Khatiras-1.png
END:VEVENT
BEGIN:VEVENT
DTSTART;TZID=America/New_York:20260110T120000
DTEND;TZID=America/New_York:20260110T130000
DTSTAMP:20260423T191414
CREATED:20250902T201934Z
LAST-MODIFIED:20250902T201934Z
UID:10001820-1768046400-1768050000@www.darulislah.org
SUMMARY:Sisters' Tajweed Class
DESCRIPTION:
URL:https://www.darulislah.org/events/sisters-tajweed-class/2026-01-10/
CATEGORIES:Masjid Events
ATTACH;FMTTYPE=image/png:https://www.darulislah.org/wp-content/uploads/2025/09/Sisters-Tajweed-Class-7.png
END:VEVENT
BEGIN:VEVENT
DTSTART;TZID=America/New_York:20260111T054500
DTEND;TZID=America/New_York:20260111T063000
DTSTAMP:20260423T191414
CREATED:20250902T175939Z
LAST-MODIFIED:20250902T180641Z
UID:10000776-1768110300-1768113000@www.darulislah.org
SUMMARY:Journey through the Quran
DESCRIPTION:Fajr Khatirah with Imam Saeed Qureshi
URL:https://www.darulislah.org/events/journey-through-the-quran/2026-01-11/
CATEGORIES:Masjid Events
ATTACH;FMTTYPE=image/png:https://www.darulislah.org/wp-content/uploads/2025/04/Fajr-Khatiras-1.png
END:VEVENT
BEGIN:VEVENT
DTSTART;TZID=America/New_York:20260112T190000
DTEND;TZID=America/New_York:20260112T200000
DTSTAMP:20260423T191414
CREATED:20250902T195429Z
LAST-MODIFIED:20251007T164202Z
UID:10001037-1768244400-1768248000@www.darulislah.org
SUMMARY:40 Hadith for Youth with Sh. Waleed
DESCRIPTION:
URL:https://www.darulislah.org/events/40hadith/2026-01-12/
CATEGORIES:Masjid Events
ATTACH;FMTTYPE=image/png:https://www.darulislah.org/wp-content/uploads/2025/09/Weekdays-With-Sheikh-2.png
END:VEVENT
BEGIN:VEVENT
DTSTART;TZID=America/New_York:20260114T193000
DTEND;TZID=America/New_York:20260114T200000
DTSTAMP:20260423T191414
CREATED:20251007T164318Z
LAST-MODIFIED:20251007T164324Z
UID:10001299-1768419000-1768420800@www.darulislah.org
SUMMARY:Sh. Waleed's Post Maghrib Khatira
DESCRIPTION:
URL:https://www.darulislah.org/events/sh-waleeds-post-maghrib-khatira-2/2026-01-14/
CATEGORIES:Masjid Events
ATTACH;FMTTYPE=image/png:https://www.darulislah.org/wp-content/uploads/2025/09/Weekdays-With-Sheikh-2.png
END:VEVENT
BEGIN:VEVENT
DTSTART;TZID=America/New_York:20260116T130000
DTEND;TZID=America/New_York:20260116T150000
DTSTAMP:20260423T191414
CREATED:20260115T040412Z
LAST-MODIFIED:20260115T040413Z
UID:10000256-1768568400-1768575600@www.darulislah.org
SUMMARY:Jummah
DESCRIPTION:
URL:https://www.darulislah.org/events/jummah-3-15/
CATEGORIES:Masjid Events
ATTACH;FMTTYPE=image/jpeg:https://www.darulislah.org/wp-content/uploads/2026/01/WhatsApp-Image-2026-01-14-at-9.01.35-PM.jpeg
END:VEVENT
BEGIN:VEVENT
DTSTART;TZID=America/New_York:20260116T170000
DTEND;TZID=America/New_York:20260116T183000
DTSTAMP:20260423T191414
CREATED:20250911T163416Z
LAST-MODIFIED:20250911T163418Z
UID:10002082-1768582800-1768588200@www.darulislah.org
SUMMARY:DI Juniors (Girls)
DESCRIPTION:
URL:https://www.darulislah.org/events/di-juniors-girls-2/2026-01-16/
CATEGORIES:Masjid Events
END:VEVENT
BEGIN:VEVENT
DTSTART;TZID=America/New_York:20260116T190000
DTEND;TZID=America/New_York:20260116T200000
DTSTAMP:20260423T191414
CREATED:20250902T201159Z
LAST-MODIFIED:20250902T201159Z
UID:10001560-1768590000-1768593600@www.darulislah.org
SUMMARY:Sisters' Halaqa
DESCRIPTION:
URL:https://www.darulislah.org/events/sisters-halaqa/2026-01-16/
CATEGORIES:Masjid Events
ATTACH;FMTTYPE=image/png:https://www.darulislah.org/wp-content/uploads/2025/09/Sr.-Sherins-Halaqa-Real-Estate-Flyer-11.png
END:VEVENT
BEGIN:VEVENT
DTSTART;TZID=America/New_York:20260117T054500
DTEND;TZID=America/New_York:20260117T183000
DTSTAMP:20260423T191414
CREATED:20250902T180345Z
LAST-MODIFIED:20250902T194454Z
UID:10000517-1768628700-1768674600@www.darulislah.org
SUMMARY:Journey Through the Hadith
DESCRIPTION:
URL:https://www.darulislah.org/events/journey-through-the-hadith/2026-01-17/
CATEGORIES:Masjid Events
ATTACH;FMTTYPE=image/png:https://www.darulislah.org/wp-content/uploads/2025/09/Fajr-Khatiras-1.png
END:VEVENT
BEGIN:VEVENT
DTSTART;TZID=America/New_York:20260117T120000
DTEND;TZID=America/New_York:20260117T130000
DTSTAMP:20260423T191414
CREATED:20250902T201934Z
LAST-MODIFIED:20250902T201934Z
UID:10001821-1768651200-1768654800@www.darulislah.org
SUMMARY:Sisters' Tajweed Class
DESCRIPTION:
URL:https://www.darulislah.org/events/sisters-tajweed-class/2026-01-17/
CATEGORIES:Masjid Events
ATTACH;FMTTYPE=image/png:https://www.darulislah.org/wp-content/uploads/2025/09/Sisters-Tajweed-Class-7.png
END:VEVENT
BEGIN:VEVENT
DTSTART;TZID=America/New_York:20260118T054500
DTEND;TZID=America/New_York:20260118T063000
DTSTAMP:20260423T191414
CREATED:20250902T175939Z
LAST-MODIFIED:20250902T180641Z
UID:10000777-1768715100-1768717800@www.darulislah.org
SUMMARY:Journey through the Quran
DESCRIPTION:Fajr Khatirah with Imam Saeed Qureshi
URL:https://www.darulislah.org/events/journey-through-the-quran/2026-01-18/
CATEGORIES:Masjid Events
ATTACH;FMTTYPE=image/png:https://www.darulislah.org/wp-content/uploads/2025/04/Fajr-Khatiras-1.png
END:VEVENT
BEGIN:VEVENT
DTSTART;TZID=America/New_York:20260119T190000
DTEND;TZID=America/New_York:20260119T200000
DTSTAMP:20260423T191414
CREATED:20250902T195429Z
LAST-MODIFIED:20251007T164202Z
UID:10001038-1768849200-1768852800@www.darulislah.org
SUMMARY:40 Hadith for Youth with Sh. Waleed
DESCRIPTION:
URL:https://www.darulislah.org/events/40hadith/2026-01-19/
CATEGORIES:Masjid Events
ATTACH;FMTTYPE=image/png:https://www.darulislah.org/wp-content/uploads/2025/09/Weekdays-With-Sheikh-2.png
END:VEVENT
BEGIN:VEVENT
DTSTART;TZID=America/New_York:20260121T193000
DTEND;TZID=America/New_York:20260121T200000
DTSTAMP:20260423T191414
CREATED:20251007T164318Z
LAST-MODIFIED:20251007T164324Z
UID:10001300-1769023800-1769025600@www.darulislah.org
SUMMARY:Sh. Waleed's Post Maghrib Khatira
DESCRIPTION:
URL:https://www.darulislah.org/events/sh-waleeds-post-maghrib-khatira-2/2026-01-21/
CATEGORIES:Masjid Events
ATTACH;FMTTYPE=image/png:https://www.darulislah.org/wp-content/uploads/2025/09/Weekdays-With-Sheikh-2.png
END:VEVENT
BEGIN:VEVENT
DTSTART;TZID=America/New_York:20260123T130000
DTEND;TZID=America/New_York:20260123T150000
DTSTAMP:20260423T191414
CREATED:20260121T060450Z
LAST-MODIFIED:20260121T060451Z
UID:10000257-1769173200-1769180400@www.darulislah.org
SUMMARY:Jummah
DESCRIPTION:
URL:https://www.darulislah.org/events/jummah-3-16/
CATEGORIES:Masjid Events
ATTACH;FMTTYPE=image/png:https://www.darulislah.org/wp-content/uploads/2026/01/Jumuah-64.png
END:VEVENT
BEGIN:VEVENT
DTSTART;TZID=America/New_York:20260123T170000
DTEND;TZID=America/New_York:20260123T183000
DTSTAMP:20260423T191414
CREATED:20250911T163416Z
LAST-MODIFIED:20250911T163418Z
UID:10002083-1769187600-1769193000@www.darulislah.org
SUMMARY:DI Juniors (Girls)
DESCRIPTION:
URL:https://www.darulislah.org/events/di-juniors-girls-2/2026-01-23/
CATEGORIES:Masjid Events
END:VEVENT
BEGIN:VEVENT
DTSTART;TZID=America/New_York:20260123T190000
DTEND;TZID=America/New_York:20260123T200000
DTSTAMP:20260423T191414
CREATED:20250902T201159Z
LAST-MODIFIED:20250902T201159Z
UID:10001561-1769194800-1769198400@www.darulislah.org
SUMMARY:Sisters' Halaqa
DESCRIPTION:
URL:https://www.darulislah.org/events/sisters-halaqa/2026-01-23/
CATEGORIES:Masjid Events
ATTACH;FMTTYPE=image/png:https://www.darulislah.org/wp-content/uploads/2025/09/Sr.-Sherins-Halaqa-Real-Estate-Flyer-11.png
END:VEVENT
BEGIN:VEVENT
DTSTART;TZID=America/New_York:20260124T054500
DTEND;TZID=America/New_York:20260124T183000
DTSTAMP:20260423T191414
CREATED:20250902T180345Z
LAST-MODIFIED:20250902T194454Z
UID:10000518-1769233500-1769279400@www.darulislah.org
SUMMARY:Journey Through the Hadith
DESCRIPTION:
URL:https://www.darulislah.org/events/journey-through-the-hadith/2026-01-24/
CATEGORIES:Masjid Events
ATTACH;FMTTYPE=image/png:https://www.darulislah.org/wp-content/uploads/2025/09/Fajr-Khatiras-1.png
END:VEVENT
BEGIN:VEVENT
DTSTART;TZID=America/New_York:20260124T120000
DTEND;TZID=America/New_York:20260124T130000
DTSTAMP:20260423T191414
CREATED:20250902T201934Z
LAST-MODIFIED:20250902T201934Z
UID:10001822-1769256000-1769259600@www.darulislah.org
SUMMARY:Sisters' Tajweed Class
DESCRIPTION:
URL:https://www.darulislah.org/events/sisters-tajweed-class/2026-01-24/
CATEGORIES:Masjid Events
ATTACH;FMTTYPE=image/png:https://www.darulislah.org/wp-content/uploads/2025/09/Sisters-Tajweed-Class-7.png
END:VEVENT
BEGIN:VEVENT
DTSTART;TZID=America/New_York:20260124T133000
DTEND;TZID=America/New_York:20260124T153000
DTSTAMP:20260423T191414
CREATED:20260123T163123Z
LAST-MODIFIED:20260123T211718Z
UID:10002383-1769261400-1769268600@www.darulislah.org
SUMMARY:Confidence. Modestly. Empowerment. Dr. Suzy Ismail
DESCRIPTION:Join Dr. Suzy Ismail for an empowering session focused on the intersection of faith\, identity\, and personal growth. This event is designed to foster a sense of community and provide actionable insights for women of all backgrounds. \nEvent Details\n\n\nDate: Saturday\, January 24 \n\n\nTime: 2:00 PM \n\n\nLocation: Darul Islah (Muslim Society of Bergen County) \n\n\nTarget Audience: Women only (All faiths welcome) \n\n\n\nHighlights & Amenities\n\n\nSpeaker: Dr. Suzy Ismail is a renowned author\, communication expert\, and the Founding Director of Cornerstone. She specializes in marriage\, family dynamics\, and women’s empowerment. \n\n\nRefreshments: Food and drinks will be served to all attendees. \n\n\nChildcare: Complimentary babysitting is available for children aged 4 and older. \n\n\nRegistration: Attendees can register by scanning the QR code on the flyer or clicking here. \n\n\nContact & Social Media\n\n\nEmail: MuslimHeritage@darulislah.org \n\n\nWebsite: darulislah.org \n\n\nInstagram: @darul.islah
URL:https://www.darulislah.org/events/confidence-modestly-empowerment-dr-suzy-ismail/
ATTACH;FMTTYPE=image/png:https://www.darulislah.org/wp-content/uploads/2026/01/MHM-Dr.-Suzy-2.png
END:VEVENT
BEGIN:VEVENT
DTSTART;TZID=America/New_York:20260125T054500
DTEND;TZID=America/New_York:20260125T063000
DTSTAMP:20260423T191414
CREATED:20250902T175939Z
LAST-MODIFIED:20250902T180641Z
UID:10000778-1769319900-1769322600@www.darulislah.org
SUMMARY:Journey through the Quran
DESCRIPTION:Fajr Khatirah with Imam Saeed Qureshi
URL:https://www.darulislah.org/events/journey-through-the-quran/2026-01-25/
CATEGORIES:Masjid Events
ATTACH;FMTTYPE=image/png:https://www.darulislah.org/wp-content/uploads/2025/04/Fajr-Khatiras-1.png
END:VEVENT
BEGIN:VEVENT
DTSTART;TZID=America/New_York:20260126T190000
DTEND;TZID=America/New_York:20260126T200000
DTSTAMP:20260423T191414
CREATED:20250902T195429Z
LAST-MODIFIED:20251007T164202Z
UID:10001039-1769454000-1769457600@www.darulislah.org
SUMMARY:40 Hadith for Youth with Sh. Waleed
DESCRIPTION:
URL:https://www.darulislah.org/events/40hadith/2026-01-26/
CATEGORIES:Masjid Events
ATTACH;FMTTYPE=image/png:https://www.darulislah.org/wp-content/uploads/2025/09/Weekdays-With-Sheikh-2.png
END:VEVENT
BEGIN:VEVENT
DTSTART;TZID=America/New_York:20260128T193000
DTEND;TZID=America/New_York:20260128T200000
DTSTAMP:20260423T191414
CREATED:20251007T164318Z
LAST-MODIFIED:20251007T164324Z
UID:10001301-1769628600-1769630400@www.darulislah.org
SUMMARY:Sh. Waleed's Post Maghrib Khatira
DESCRIPTION:
URL:https://www.darulislah.org/events/sh-waleeds-post-maghrib-khatira-2/2026-01-28/
CATEGORIES:Masjid Events
ATTACH;FMTTYPE=image/png:https://www.darulislah.org/wp-content/uploads/2025/09/Weekdays-With-Sheikh-2.png
END:VEVENT
BEGIN:VEVENT
DTSTART;TZID=America/New_York:20260130T130000
DTEND;TZID=America/New_York:20260130T150000
DTSTAMP:20260423T191414
CREATED:20260127T140217Z
LAST-MODIFIED:20260127T140303Z
UID:10000258-1769778000-1769785200@www.darulislah.org
SUMMARY:Jummah
DESCRIPTION:
URL:https://www.darulislah.org/events/jummah-3-17/
CATEGORIES:Masjid Events
ATTACH;FMTTYPE=image/png:https://www.darulislah.org/wp-content/uploads/2026/01/Jumuah-65.png
END:VEVENT
BEGIN:VEVENT
DTSTART;TZID=America/New_York:20260130T190000
DTEND;TZID=America/New_York:20260130T200000
DTSTAMP:20260423T191414
CREATED:20250902T201159Z
LAST-MODIFIED:20250902T201159Z
UID:10001562-1769799600-1769803200@www.darulislah.org
SUMMARY:Sisters' Halaqa
DESCRIPTION:
URL:https://www.darulislah.org/events/sisters-halaqa/2026-01-30/
CATEGORIES:Masjid Events
ATTACH;FMTTYPE=image/png:https://www.darulislah.org/wp-content/uploads/2025/09/Sr.-Sherins-Halaqa-Real-Estate-Flyer-11.png
END:VEVENT
BEGIN:VEVENT
DTSTART;TZID=America/New_York:20260131T054500
DTEND;TZID=America/New_York:20260131T183000
DTSTAMP:20260423T191414
CREATED:20250902T180345Z
LAST-MODIFIED:20250902T194454Z
UID:10000519-1769838300-1769884200@www.darulislah.org
SUMMARY:Journey Through the Hadith
DESCRIPTION:
URL:https://www.darulislah.org/events/journey-through-the-hadith/2026-01-31/
CATEGORIES:Masjid Events
ATTACH;FMTTYPE=image/png:https://www.darulislah.org/wp-content/uploads/2025/09/Fajr-Khatiras-1.png
END:VEVENT
BEGIN:VEVENT
DTSTART;TZID=America/New_York:20260131T100000
DTEND;TZID=America/New_York:20260131T120000
DTSTAMP:20260423T191414
CREATED:20260123T163300Z
LAST-MODIFIED:20260123T163300Z
UID:10002384-1769853600-1769860800@www.darulislah.org
SUMMARY:Mommy & Me
DESCRIPTION:A space for mothers to connect and children to grow in a faith-centered environment. \nOur Mommy & Me program is designed to create a vibrant social circle for mothers while providing a nurturing Islamic atmosphere for our youngest community members. Whether you are looking for parenting support or a fun morning out with your little ones\, this is the place for you! \nProgram Details\n\n\nWho: Mothers and children (Ages 6 and under). \n\n\nWhen: Meets twice a month (Check the masjid calendar for the latest Saturday dates). \n\n\nTime: Usually held in the morning (approx. 10:00 AM – 11:00 AM). \n\n\nRegistration: $5 per child. \n\n\nWhat to Expect\n\n\nIslamic Story Time: Engaging stories that introduce children to the beauty of faith. \n\n\nArts & Crafts: Creative\, hands-on activities to develop fine motor skills. \n\n\nPlaytime: A safe\, open space for kids to socialize and mothers to share experiences. \n\n\nCommunity: Meet other local moms in a supportive\, relaxed setting. \n\n\n\nContact Information: \n\n\nRegistration: darulislah.org/mommyandme \n\n\nEmail: MommyAndMe@darulislah.org
URL:https://www.darulislah.org/events/mommy-me/
END:VEVENT
END:VCALENDAR