BEGIN:VCALENDAR
VERSION:2.0
PRODID:-//Darul Islah | Muslim Society of Bergen County - ECPv6.15.20//NONSGML v1.0//EN
CALSCALE:GREGORIAN
METHOD:PUBLISH
X-WR-CALNAME:Darul Islah | Muslim Society of Bergen County
X-ORIGINAL-URL:https://www.darulislah.org
X-WR-CALDESC:Events for Darul Islah | Muslim Society of Bergen County
REFRESH-INTERVAL;VALUE=DURATION:PT1H
X-Robots-Tag:noindex
X-PUBLISHED-TTL:PT1H
BEGIN:VTIMEZONE
TZID:America/New_York
BEGIN:DAYLIGHT
TZOFFSETFROM:-0500
TZOFFSETTO:-0400
TZNAME:EDT
DTSTART:20250309T070000
END:DAYLIGHT
BEGIN:STANDARD
TZOFFSETFROM:-0400
TZOFFSETTO:-0500
TZNAME:EST
DTSTART:20251102T060000
END:STANDARD
BEGIN:DAYLIGHT
TZOFFSETFROM:-0500
TZOFFSETTO:-0400
TZNAME:EDT
DTSTART:20260308T070000
END:DAYLIGHT
BEGIN:STANDARD
TZOFFSETFROM:-0400
TZOFFSETTO:-0500
TZNAME:EST
DTSTART:20261101T060000
END:STANDARD
BEGIN:DAYLIGHT
TZOFFSETFROM:-0500
TZOFFSETTO:-0400
TZNAME:EDT
DTSTART:20270314T070000
END:DAYLIGHT
BEGIN:STANDARD
TZOFFSETFROM:-0400
TZOFFSETTO:-0500
TZNAME:EST
DTSTART:20271107T060000
END:STANDARD
END:VTIMEZONE
BEGIN:VEVENT
DTSTART;TZID=America/New_York:20260321T120000
DTEND;TZID=America/New_York:20260321T130000
DTSTAMP:20260423T191504
CREATED:20250902T201934Z
LAST-MODIFIED:20250902T201934Z
UID:10001830-1774094400-1774098000@www.darulislah.org
SUMMARY:Sisters' Tajweed Class
DESCRIPTION:
URL:https://www.darulislah.org/events/sisters-tajweed-class/2026-03-21/
CATEGORIES:Masjid Events
ATTACH;FMTTYPE=image/png:https://www.darulislah.org/wp-content/uploads/2025/09/Sisters-Tajweed-Class-7.png
END:VEVENT
BEGIN:VEVENT
DTSTART;TZID=America/New_York:20260321T054500
DTEND;TZID=America/New_York:20260321T183000
DTSTAMP:20260423T191504
CREATED:20260217T203709Z
LAST-MODIFIED:20260326T145434Z
UID:10000526-1774071900-1774117800@www.darulislah.org
SUMMARY:Journey Through the Hadith
DESCRIPTION:
URL:https://www.darulislah.org/events/journey-through-the-hadith-2/2026-03-21/
CATEGORIES:Masjid Events
ATTACH;FMTTYPE=image/png:https://www.darulislah.org/wp-content/uploads/2025/09/Fajr-Khatiras-1.png
END:VEVENT
BEGIN:VEVENT
DTSTART;TZID=America/New_York:20260320T190000
DTEND;TZID=America/New_York:20260320T200000
DTSTAMP:20260423T191504
CREATED:20260217T203504Z
LAST-MODIFIED:20260326T145420Z
UID:10001569-1774033200-1774036800@www.darulislah.org
SUMMARY:Sisters' Halaqa
DESCRIPTION:
URL:https://www.darulislah.org/events/sisters-halaqa-2/2026-03-20/
CATEGORIES:Masjid Events
ATTACH;FMTTYPE=image/png:https://www.darulislah.org/wp-content/uploads/2025/09/Sr.-Sherins-Halaqa-Real-Estate-Flyer-11.png
END:VEVENT
BEGIN:VEVENT
DTSTART;TZID=America/New_York:20260320T170000
DTEND;TZID=America/New_York:20260320T183000
DTSTAMP:20260423T191504
CREATED:20250911T163416Z
LAST-MODIFIED:20250911T163418Z
UID:10002091-1774026000-1774031400@www.darulislah.org
SUMMARY:DI Juniors (Girls)
DESCRIPTION:
URL:https://www.darulislah.org/events/di-juniors-girls-2/2026-03-20/
CATEGORIES:Masjid Events
END:VEVENT
BEGIN:VEVENT
DTSTART;TZID=America/New_York:20260320T130000
DTEND;TZID=America/New_York:20260320T150000
DTSTAMP:20260423T191504
CREATED:20250902T175228Z
LAST-MODIFIED:20250902T175229Z
UID:10000265-1774011600-1774018800@www.darulislah.org
SUMMARY:Jummah
DESCRIPTION:
URL:https://www.darulislah.org/events/jummah-3/2026-03-20/
CATEGORIES:Masjid Events
END:VEVENT
BEGIN:VEVENT
DTSTART;TZID=America/New_York:20260318T193000
DTEND;TZID=America/New_York:20260318T200000
DTSTAMP:20260423T191504
CREATED:20260217T203400Z
LAST-MODIFIED:20260326T145414Z
UID:10001308-1773862200-1773864000@www.darulislah.org
SUMMARY:Sh. Waleed's Post Maghrib Khatira
DESCRIPTION:
URL:https://www.darulislah.org/events/sh-waleeds-post-maghrib-khatira-2-2/2026-03-18/
CATEGORIES:Masjid Events
ATTACH;FMTTYPE=image/png:https://www.darulislah.org/wp-content/uploads/2025/09/Weekdays-With-Sheikh-2.png
END:VEVENT
BEGIN:VEVENT
DTSTART;TZID=America/New_York:20260315T054500
DTEND;TZID=America/New_York:20260315T063000
DTSTAMP:20260423T191504
CREATED:20250902T175939Z
LAST-MODIFIED:20250902T180641Z
UID:10000785-1773553500-1773556200@www.darulislah.org
SUMMARY:Journey through the Quran
DESCRIPTION:Fajr Khatirah with Imam Saeed Qureshi
URL:https://www.darulislah.org/events/journey-through-the-quran/2026-03-15/
CATEGORIES:Masjid Events
ATTACH;FMTTYPE=image/png:https://www.darulislah.org/wp-content/uploads/2025/04/Fajr-Khatiras-1.png
END:VEVENT
BEGIN:VEVENT
DTSTART;TZID=America/New_York:20260314T120000
DTEND;TZID=America/New_York:20260314T130000
DTSTAMP:20260423T191504
CREATED:20250902T201934Z
LAST-MODIFIED:20250902T201934Z
UID:10001829-1773489600-1773493200@www.darulislah.org
SUMMARY:Sisters' Tajweed Class
DESCRIPTION:
URL:https://www.darulislah.org/events/sisters-tajweed-class/2026-03-14/
CATEGORIES:Masjid Events
ATTACH;FMTTYPE=image/png:https://www.darulislah.org/wp-content/uploads/2025/09/Sisters-Tajweed-Class-7.png
END:VEVENT
BEGIN:VEVENT
DTSTART;TZID=America/New_York:20260314T060000
DTEND;TZID=America/New_York:20260314T063000
DTSTAMP:20260423T191504
CREATED:20260217T204036Z
LAST-MODIFIED:20260217T204036Z
UID:10003070-1773468000-1773469800@www.darulislah.org
SUMMARY:Post Fajr Khatira with Sh. Waleed
DESCRIPTION:
URL:https://www.darulislah.org/events/post-fajr-khatira-with-sh-waleed/2026-03-14/
CATEGORIES:Masjid Events
ATTACH;FMTTYPE=image/png:https://www.darulislah.org/wp-content/uploads/2026/02/POST-FAJR.png
END:VEVENT
BEGIN:VEVENT
DTSTART;TZID=America/New_York:20260314T054500
DTEND;TZID=America/New_York:20260314T183000
DTSTAMP:20260423T191504
CREATED:20260217T203709Z
LAST-MODIFIED:20260326T145434Z
UID:10000525-1773467100-1773513000@www.darulislah.org
SUMMARY:Journey Through the Hadith
DESCRIPTION:
URL:https://www.darulislah.org/events/journey-through-the-hadith-2/2026-03-14/
CATEGORIES:Masjid Events
ATTACH;FMTTYPE=image/png:https://www.darulislah.org/wp-content/uploads/2025/09/Fajr-Khatiras-1.png
END:VEVENT
BEGIN:VEVENT
DTSTART;TZID=America/New_York:20260313T190000
DTEND;TZID=America/New_York:20260313T200000
DTSTAMP:20260423T191504
CREATED:20260217T203504Z
LAST-MODIFIED:20260326T145420Z
UID:10001568-1773428400-1773432000@www.darulislah.org
SUMMARY:Sisters' Halaqa
DESCRIPTION:
URL:https://www.darulislah.org/events/sisters-halaqa-2/2026-03-13/
CATEGORIES:Masjid Events
ATTACH;FMTTYPE=image/png:https://www.darulislah.org/wp-content/uploads/2025/09/Sr.-Sherins-Halaqa-Real-Estate-Flyer-11.png
END:VEVENT
BEGIN:VEVENT
DTSTART;TZID=America/New_York:20260313T170000
DTEND;TZID=America/New_York:20260313T183000
DTSTAMP:20260423T191504
CREATED:20250911T163416Z
LAST-MODIFIED:20250911T163418Z
UID:10002090-1773421200-1773426600@www.darulislah.org
SUMMARY:DI Juniors (Girls)
DESCRIPTION:
URL:https://www.darulislah.org/events/di-juniors-girls-2/2026-03-13/
CATEGORIES:Masjid Events
END:VEVENT
BEGIN:VEVENT
DTSTART;TZID=America/New_York:20260313T130000
DTEND;TZID=America/New_York:20260313T150000
DTSTAMP:20260423T191504
CREATED:20250902T175228Z
LAST-MODIFIED:20250902T175229Z
UID:10000264-1773406800-1773414000@www.darulislah.org
SUMMARY:Jummah
DESCRIPTION:
URL:https://www.darulislah.org/events/jummah-3/2026-03-13/
CATEGORIES:Masjid Events
END:VEVENT
BEGIN:VEVENT
DTSTART;TZID=America/New_York:20260311T193000
DTEND;TZID=America/New_York:20260311T200000
DTSTAMP:20260423T191504
CREATED:20260217T203400Z
LAST-MODIFIED:20260326T145414Z
UID:10001307-1773257400-1773259200@www.darulislah.org
SUMMARY:Sh. Waleed's Post Maghrib Khatira
DESCRIPTION:
URL:https://www.darulislah.org/events/sh-waleeds-post-maghrib-khatira-2-2/2026-03-11/
CATEGORIES:Masjid Events
ATTACH;FMTTYPE=image/png:https://www.darulislah.org/wp-content/uploads/2025/09/Weekdays-With-Sheikh-2.png
END:VEVENT
BEGIN:VEVENT
DTSTART;TZID=America/New_York:20260308T054500
DTEND;TZID=America/New_York:20260308T063000
DTSTAMP:20260423T191504
CREATED:20250902T175939Z
LAST-MODIFIED:20250902T180641Z
UID:10000784-1772948700-1772951400@www.darulislah.org
SUMMARY:Journey through the Quran
DESCRIPTION:Fajr Khatirah with Imam Saeed Qureshi
URL:https://www.darulislah.org/events/journey-through-the-quran/2026-03-08/
CATEGORIES:Masjid Events
ATTACH;FMTTYPE=image/png:https://www.darulislah.org/wp-content/uploads/2025/04/Fajr-Khatiras-1.png
END:VEVENT
BEGIN:VEVENT
DTSTART;TZID=America/New_York:20260307T120000
DTEND;TZID=America/New_York:20260307T130000
DTSTAMP:20260423T191504
CREATED:20250902T201934Z
LAST-MODIFIED:20250902T201934Z
UID:10001828-1772884800-1772888400@www.darulislah.org
SUMMARY:Sisters' Tajweed Class
DESCRIPTION:
URL:https://www.darulislah.org/events/sisters-tajweed-class/2026-03-07/
CATEGORIES:Masjid Events
ATTACH;FMTTYPE=image/png:https://www.darulislah.org/wp-content/uploads/2025/09/Sisters-Tajweed-Class-7.png
END:VEVENT
BEGIN:VEVENT
DTSTART;TZID=America/New_York:20260307T060000
DTEND;TZID=America/New_York:20260307T063000
DTSTAMP:20260423T191504
CREATED:20260217T204036Z
LAST-MODIFIED:20260217T204036Z
UID:10003069-1772863200-1772865000@www.darulislah.org
SUMMARY:Post Fajr Khatira with Sh. Waleed
DESCRIPTION:
URL:https://www.darulislah.org/events/post-fajr-khatira-with-sh-waleed/2026-03-07/
CATEGORIES:Masjid Events
ATTACH;FMTTYPE=image/png:https://www.darulislah.org/wp-content/uploads/2026/02/POST-FAJR.png
END:VEVENT
BEGIN:VEVENT
DTSTART;TZID=America/New_York:20260307T054500
DTEND;TZID=America/New_York:20260307T183000
DTSTAMP:20260423T191504
CREATED:20260217T203709Z
LAST-MODIFIED:20260326T145434Z
UID:10000524-1772862300-1772908200@www.darulislah.org
SUMMARY:Journey Through the Hadith
DESCRIPTION:
URL:https://www.darulislah.org/events/journey-through-the-hadith-2/2026-03-07/
CATEGORIES:Masjid Events
ATTACH;FMTTYPE=image/png:https://www.darulislah.org/wp-content/uploads/2025/09/Fajr-Khatiras-1.png
END:VEVENT
BEGIN:VEVENT
DTSTART;TZID=America/New_York:20260306T190000
DTEND;TZID=America/New_York:20260306T200000
DTSTAMP:20260423T191504
CREATED:20260217T203504Z
LAST-MODIFIED:20260326T145420Z
UID:10001567-1772823600-1772827200@www.darulislah.org
SUMMARY:Sisters' Halaqa
DESCRIPTION:
URL:https://www.darulislah.org/events/sisters-halaqa-2/2026-03-06/
CATEGORIES:Masjid Events
ATTACH;FMTTYPE=image/png:https://www.darulislah.org/wp-content/uploads/2025/09/Sr.-Sherins-Halaqa-Real-Estate-Flyer-11.png
END:VEVENT
BEGIN:VEVENT
DTSTART;TZID=America/New_York:20260306T170000
DTEND;TZID=America/New_York:20260306T183000
DTSTAMP:20260423T191504
CREATED:20250911T163416Z
LAST-MODIFIED:20250911T163418Z
UID:10002089-1772816400-1772821800@www.darulislah.org
SUMMARY:DI Juniors (Girls)
DESCRIPTION:
URL:https://www.darulislah.org/events/di-juniors-girls-2/2026-03-06/
CATEGORIES:Masjid Events
END:VEVENT
BEGIN:VEVENT
DTSTART;TZID=America/New_York:20260306T130000
DTEND;TZID=America/New_York:20260306T150000
DTSTAMP:20260423T191504
CREATED:20250902T175228Z
LAST-MODIFIED:20250902T175229Z
UID:10000263-1772802000-1772809200@www.darulislah.org
SUMMARY:Jummah
DESCRIPTION:
URL:https://www.darulislah.org/events/jummah-3/2026-03-06/
CATEGORIES:Masjid Events
END:VEVENT
BEGIN:VEVENT
DTSTART;TZID=America/New_York:20260304T193000
DTEND;TZID=America/New_York:20260304T200000
DTSTAMP:20260423T191504
CREATED:20260217T203400Z
LAST-MODIFIED:20260326T145414Z
UID:10001306-1772652600-1772654400@www.darulislah.org
SUMMARY:Sh. Waleed's Post Maghrib Khatira
DESCRIPTION:
URL:https://www.darulislah.org/events/sh-waleeds-post-maghrib-khatira-2-2/2026-03-04/
CATEGORIES:Masjid Events
ATTACH;FMTTYPE=image/png:https://www.darulislah.org/wp-content/uploads/2025/09/Weekdays-With-Sheikh-2.png
END:VEVENT
BEGIN:VEVENT
DTSTART;TZID=America/New_York:20260301T054500
DTEND;TZID=America/New_York:20260301T063000
DTSTAMP:20260423T191504
CREATED:20250902T175939Z
LAST-MODIFIED:20250902T180641Z
UID:10000783-1772343900-1772346600@www.darulislah.org
SUMMARY:Journey through the Quran
DESCRIPTION:Fajr Khatirah with Imam Saeed Qureshi
URL:https://www.darulislah.org/events/journey-through-the-quran/2026-03-01/
CATEGORIES:Masjid Events
ATTACH;FMTTYPE=image/png:https://www.darulislah.org/wp-content/uploads/2025/04/Fajr-Khatiras-1.png
END:VEVENT
BEGIN:VEVENT
DTSTART;TZID=America/New_York:20260228T120000
DTEND;TZID=America/New_York:20260228T130000
DTSTAMP:20260423T191504
CREATED:20250902T201934Z
LAST-MODIFIED:20250902T201934Z
UID:10001827-1772280000-1772283600@www.darulislah.org
SUMMARY:Sisters' Tajweed Class
DESCRIPTION:
URL:https://www.darulislah.org/events/sisters-tajweed-class/2026-02-28/
CATEGORIES:Masjid Events
ATTACH;FMTTYPE=image/png:https://www.darulislah.org/wp-content/uploads/2025/09/Sisters-Tajweed-Class-7.png
END:VEVENT
BEGIN:VEVENT
DTSTART;TZID=America/New_York:20260228T060000
DTEND;TZID=America/New_York:20260228T063000
DTSTAMP:20260423T191504
CREATED:20260217T204036Z
LAST-MODIFIED:20260217T204036Z
UID:10003068-1772258400-1772260200@www.darulislah.org
SUMMARY:Post Fajr Khatira with Sh. Waleed
DESCRIPTION:
URL:https://www.darulislah.org/events/post-fajr-khatira-with-sh-waleed/2026-02-28/
CATEGORIES:Masjid Events
ATTACH;FMTTYPE=image/png:https://www.darulislah.org/wp-content/uploads/2026/02/POST-FAJR.png
END:VEVENT
BEGIN:VEVENT
DTSTART;TZID=America/New_York:20260228T054500
DTEND;TZID=America/New_York:20260228T183000
DTSTAMP:20260423T191504
CREATED:20260217T203709Z
LAST-MODIFIED:20260326T145434Z
UID:10000523-1772257500-1772303400@www.darulislah.org
SUMMARY:Journey Through the Hadith
DESCRIPTION:
URL:https://www.darulislah.org/events/journey-through-the-hadith-2/2026-02-28/
CATEGORIES:Masjid Events
ATTACH;FMTTYPE=image/png:https://www.darulislah.org/wp-content/uploads/2025/09/Fajr-Khatiras-1.png
END:VEVENT
BEGIN:VEVENT
DTSTART;TZID=America/New_York:20260227T190000
DTEND;TZID=America/New_York:20260227T200000
DTSTAMP:20260423T191504
CREATED:20260217T203504Z
LAST-MODIFIED:20260326T145420Z
UID:10001566-1772218800-1772222400@www.darulislah.org
SUMMARY:Sisters' Halaqa
DESCRIPTION:
URL:https://www.darulislah.org/events/sisters-halaqa-2/2026-02-27/
CATEGORIES:Masjid Events
ATTACH;FMTTYPE=image/png:https://www.darulislah.org/wp-content/uploads/2025/09/Sr.-Sherins-Halaqa-Real-Estate-Flyer-11.png
END:VEVENT
BEGIN:VEVENT
DTSTART;TZID=America/New_York:20260227T170000
DTEND;TZID=America/New_York:20260227T183000
DTSTAMP:20260423T191504
CREATED:20250911T163416Z
LAST-MODIFIED:20250911T163418Z
UID:10002088-1772211600-1772217000@www.darulislah.org
SUMMARY:DI Juniors (Girls)
DESCRIPTION:
URL:https://www.darulislah.org/events/di-juniors-girls-2/2026-02-27/
CATEGORIES:Masjid Events
END:VEVENT
BEGIN:VEVENT
DTSTART;TZID=America/New_York:20260227T130000
DTEND;TZID=America/New_York:20260227T150000
DTSTAMP:20260423T191504
CREATED:20250902T175228Z
LAST-MODIFIED:20250902T175229Z
UID:10000262-1772197200-1772204400@www.darulislah.org
SUMMARY:Jummah
DESCRIPTION:
URL:https://www.darulislah.org/events/jummah-3/2026-02-27/
CATEGORIES:Masjid Events
END:VEVENT
BEGIN:VEVENT
DTSTART;TZID=America/New_York:20260225T193000
DTEND;TZID=America/New_York:20260225T200000
DTSTAMP:20260423T191504
CREATED:20260217T203400Z
LAST-MODIFIED:20260326T145414Z
UID:10001305-1772047800-1772049600@www.darulislah.org
SUMMARY:Sh. Waleed's Post Maghrib Khatira
DESCRIPTION:
URL:https://www.darulislah.org/events/sh-waleeds-post-maghrib-khatira-2-2/2026-02-25/
CATEGORIES:Masjid Events
ATTACH;FMTTYPE=image/png:https://www.darulislah.org/wp-content/uploads/2025/09/Weekdays-With-Sheikh-2.png
END:VEVENT
END:VCALENDAR