BEGIN:VCALENDAR
VERSION:2.0
PRODID:-//Darul Islah | Muslim Society of Bergen County - ECPv6.15.20//NONSGML v1.0//EN
CALSCALE:GREGORIAN
METHOD:PUBLISH
X-WR-CALNAME:Darul Islah | Muslim Society of Bergen County
X-ORIGINAL-URL:https://www.darulislah.org
X-WR-CALDESC:Events for Darul Islah | Muslim Society of Bergen County
REFRESH-INTERVAL;VALUE=DURATION:PT1H
X-Robots-Tag:noindex
X-PUBLISHED-TTL:PT1H
BEGIN:VTIMEZONE
TZID:America/New_York
BEGIN:DAYLIGHT
TZOFFSETFROM:-0500
TZOFFSETTO:-0400
TZNAME:EDT
DTSTART:20260308T070000
END:DAYLIGHT
BEGIN:STANDARD
TZOFFSETFROM:-0400
TZOFFSETTO:-0500
TZNAME:EST
DTSTART:20261101T060000
END:STANDARD
BEGIN:DAYLIGHT
TZOFFSETFROM:-0500
TZOFFSETTO:-0400
TZNAME:EDT
DTSTART:20270314T070000
END:DAYLIGHT
BEGIN:STANDARD
TZOFFSETFROM:-0400
TZOFFSETTO:-0500
TZNAME:EST
DTSTART:20271107T060000
END:STANDARD
BEGIN:DAYLIGHT
TZOFFSETFROM:-0500
TZOFFSETTO:-0400
TZNAME:EDT
DTSTART:20280312T070000
END:DAYLIGHT
BEGIN:STANDARD
TZOFFSETFROM:-0400
TZOFFSETTO:-0500
TZNAME:EST
DTSTART:20281105T060000
END:STANDARD
END:VTIMEZONE
BEGIN:VEVENT
DTSTART;TZID=America/New_York:20270828T120000
DTEND;TZID=America/New_York:20270828T130000
DTSTAMP:20260425T070424
CREATED:20250902T201934Z
LAST-MODIFIED:20250902T201934Z
UID:10001905-1819454400-1819458000@www.darulislah.org
SUMMARY:Sisters' Tajweed Class
DESCRIPTION:
URL:https://www.darulislah.org/events/sisters-tajweed-class/2027-08-28/
CATEGORIES:Masjid Events
ATTACH;FMTTYPE=image/png:https://www.darulislah.org/wp-content/uploads/2025/09/Sisters-Tajweed-Class-7.png
END:VEVENT
BEGIN:VEVENT
DTSTART;TZID=America/New_York:20270829T054500
DTEND;TZID=America/New_York:20270829T063000
DTSTAMP:20260425T070424
CREATED:20250902T175939Z
LAST-MODIFIED:20250902T180641Z
UID:10000861-1819518300-1819521000@www.darulislah.org
SUMMARY:Journey through the Quran
DESCRIPTION:Fajr Khatirah with Imam Saeed Qureshi
URL:https://www.darulislah.org/events/journey-through-the-quran/2027-08-29/
CATEGORIES:Masjid Events
ATTACH;FMTTYPE=image/png:https://www.darulislah.org/wp-content/uploads/2025/04/Fajr-Khatiras-1.png
END:VEVENT
BEGIN:VEVENT
DTSTART;TZID=America/New_York:20270901T193000
DTEND;TZID=America/New_York:20270901T200000
DTSTAMP:20260425T070424
CREATED:20260217T203400Z
LAST-MODIFIED:20260326T145414Z
UID:10001384-1819827000-1819828800@www.darulislah.org
SUMMARY:Sh. Waleed's Post Maghrib Khatira
DESCRIPTION:
URL:https://www.darulislah.org/events/sh-waleeds-post-maghrib-khatira-2-2/2027-09-01/
CATEGORIES:Masjid Events
ATTACH;FMTTYPE=image/png:https://www.darulislah.org/wp-content/uploads/2025/09/Weekdays-With-Sheikh-2.png
END:VEVENT
BEGIN:VEVENT
DTSTART;TZID=America/New_York:20270903T130000
DTEND;TZID=America/New_York:20270903T150000
DTSTAMP:20260425T070424
CREATED:20250902T175228Z
LAST-MODIFIED:20250902T175229Z
UID:10000341-1819976400-1819983600@www.darulislah.org
SUMMARY:Jummah
DESCRIPTION:
URL:https://www.darulislah.org/events/jummah-3/2027-09-03/
CATEGORIES:Masjid Events
END:VEVENT
BEGIN:VEVENT
DTSTART;TZID=America/New_York:20270903T170000
DTEND;TZID=America/New_York:20270903T183000
DTSTAMP:20260425T070424
CREATED:20250911T163416Z
LAST-MODIFIED:20250911T163418Z
UID:10002167-1819990800-1819996200@www.darulislah.org
SUMMARY:DI Juniors (Girls)
DESCRIPTION:
URL:https://www.darulislah.org/events/di-juniors-girls-2/2027-09-03/
CATEGORIES:Masjid Events
END:VEVENT
BEGIN:VEVENT
DTSTART;TZID=America/New_York:20270903T190000
DTEND;TZID=America/New_York:20270903T200000
DTSTAMP:20260425T070424
CREATED:20260217T203504Z
LAST-MODIFIED:20260326T145420Z
UID:10001645-1819998000-1820001600@www.darulislah.org
SUMMARY:Sisters' Halaqa
DESCRIPTION:
URL:https://www.darulislah.org/events/sisters-halaqa-2/2027-09-03/
CATEGORIES:Masjid Events
ATTACH;FMTTYPE=image/png:https://www.darulislah.org/wp-content/uploads/2025/09/Sr.-Sherins-Halaqa-Real-Estate-Flyer-11.png
END:VEVENT
BEGIN:VEVENT
DTSTART;TZID=America/New_York:20270904T054500
DTEND;TZID=America/New_York:20270904T183000
DTSTAMP:20260425T070424
CREATED:20260217T203709Z
LAST-MODIFIED:20260326T145434Z
UID:10000602-1820036700-1820082600@www.darulislah.org
SUMMARY:Journey Through the Hadith
DESCRIPTION:
URL:https://www.darulislah.org/events/journey-through-the-hadith-2/2027-09-04/
CATEGORIES:Masjid Events
ATTACH;FMTTYPE=image/png:https://www.darulislah.org/wp-content/uploads/2025/09/Fajr-Khatiras-1.png
END:VEVENT
BEGIN:VEVENT
DTSTART;TZID=America/New_York:20270904T120000
DTEND;TZID=America/New_York:20270904T130000
DTSTAMP:20260425T070424
CREATED:20250902T201934Z
LAST-MODIFIED:20250902T201934Z
UID:10001906-1820059200-1820062800@www.darulislah.org
SUMMARY:Sisters' Tajweed Class
DESCRIPTION:
URL:https://www.darulislah.org/events/sisters-tajweed-class/2027-09-04/
CATEGORIES:Masjid Events
ATTACH;FMTTYPE=image/png:https://www.darulislah.org/wp-content/uploads/2025/09/Sisters-Tajweed-Class-7.png
END:VEVENT
BEGIN:VEVENT
DTSTART;TZID=America/New_York:20270905T054500
DTEND;TZID=America/New_York:20270905T063000
DTSTAMP:20260425T070424
CREATED:20250902T175939Z
LAST-MODIFIED:20250902T180641Z
UID:10000862-1820123100-1820125800@www.darulislah.org
SUMMARY:Journey through the Quran
DESCRIPTION:Fajr Khatirah with Imam Saeed Qureshi
URL:https://www.darulislah.org/events/journey-through-the-quran/2027-09-05/
CATEGORIES:Masjid Events
ATTACH;FMTTYPE=image/png:https://www.darulislah.org/wp-content/uploads/2025/04/Fajr-Khatiras-1.png
END:VEVENT
BEGIN:VEVENT
DTSTART;TZID=America/New_York:20270908T193000
DTEND;TZID=America/New_York:20270908T200000
DTSTAMP:20260425T070424
CREATED:20260217T203400Z
LAST-MODIFIED:20260326T145414Z
UID:10001385-1820431800-1820433600@www.darulislah.org
SUMMARY:Sh. Waleed's Post Maghrib Khatira
DESCRIPTION:
URL:https://www.darulislah.org/events/sh-waleeds-post-maghrib-khatira-2-2/2027-09-08/
CATEGORIES:Masjid Events
ATTACH;FMTTYPE=image/png:https://www.darulislah.org/wp-content/uploads/2025/09/Weekdays-With-Sheikh-2.png
END:VEVENT
BEGIN:VEVENT
DTSTART;TZID=America/New_York:20270910T130000
DTEND;TZID=America/New_York:20270910T150000
DTSTAMP:20260425T070424
CREATED:20250902T175228Z
LAST-MODIFIED:20250902T175229Z
UID:10000342-1820581200-1820588400@www.darulislah.org
SUMMARY:Jummah
DESCRIPTION:
URL:https://www.darulislah.org/events/jummah-3/2027-09-10/
CATEGORIES:Masjid Events
END:VEVENT
BEGIN:VEVENT
DTSTART;TZID=America/New_York:20270910T170000
DTEND;TZID=America/New_York:20270910T183000
DTSTAMP:20260425T070424
CREATED:20250911T163416Z
LAST-MODIFIED:20250911T163418Z
UID:10002168-1820595600-1820601000@www.darulislah.org
SUMMARY:DI Juniors (Girls)
DESCRIPTION:
URL:https://www.darulislah.org/events/di-juniors-girls-2/2027-09-10/
CATEGORIES:Masjid Events
END:VEVENT
BEGIN:VEVENT
DTSTART;TZID=America/New_York:20270910T190000
DTEND;TZID=America/New_York:20270910T200000
DTSTAMP:20260425T070424
CREATED:20260217T203504Z
LAST-MODIFIED:20260326T145420Z
UID:10001646-1820602800-1820606400@www.darulislah.org
SUMMARY:Sisters' Halaqa
DESCRIPTION:
URL:https://www.darulislah.org/events/sisters-halaqa-2/2027-09-10/
CATEGORIES:Masjid Events
ATTACH;FMTTYPE=image/png:https://www.darulislah.org/wp-content/uploads/2025/09/Sr.-Sherins-Halaqa-Real-Estate-Flyer-11.png
END:VEVENT
BEGIN:VEVENT
DTSTART;TZID=America/New_York:20270911T054500
DTEND;TZID=America/New_York:20270911T183000
DTSTAMP:20260425T070424
CREATED:20260217T203709Z
LAST-MODIFIED:20260326T145434Z
UID:10000603-1820641500-1820687400@www.darulislah.org
SUMMARY:Journey Through the Hadith
DESCRIPTION:
URL:https://www.darulislah.org/events/journey-through-the-hadith-2/2027-09-11/
CATEGORIES:Masjid Events
ATTACH;FMTTYPE=image/png:https://www.darulislah.org/wp-content/uploads/2025/09/Fajr-Khatiras-1.png
END:VEVENT
BEGIN:VEVENT
DTSTART;TZID=America/New_York:20270911T120000
DTEND;TZID=America/New_York:20270911T130000
DTSTAMP:20260425T070424
CREATED:20250902T201934Z
LAST-MODIFIED:20250902T201934Z
UID:10001907-1820664000-1820667600@www.darulislah.org
SUMMARY:Sisters' Tajweed Class
DESCRIPTION:
URL:https://www.darulislah.org/events/sisters-tajweed-class/2027-09-11/
CATEGORIES:Masjid Events
ATTACH;FMTTYPE=image/png:https://www.darulislah.org/wp-content/uploads/2025/09/Sisters-Tajweed-Class-7.png
END:VEVENT
BEGIN:VEVENT
DTSTART;TZID=America/New_York:20270912T054500
DTEND;TZID=America/New_York:20270912T063000
DTSTAMP:20260425T070424
CREATED:20250902T175939Z
LAST-MODIFIED:20250902T180641Z
UID:10000863-1820727900-1820730600@www.darulislah.org
SUMMARY:Journey through the Quran
DESCRIPTION:Fajr Khatirah with Imam Saeed Qureshi
URL:https://www.darulislah.org/events/journey-through-the-quran/2027-09-12/
CATEGORIES:Masjid Events
ATTACH;FMTTYPE=image/png:https://www.darulislah.org/wp-content/uploads/2025/04/Fajr-Khatiras-1.png
END:VEVENT
BEGIN:VEVENT
DTSTART;TZID=America/New_York:20270915T193000
DTEND;TZID=America/New_York:20270915T200000
DTSTAMP:20260425T070424
CREATED:20260217T203400Z
LAST-MODIFIED:20260326T145414Z
UID:10001386-1821036600-1821038400@www.darulislah.org
SUMMARY:Sh. Waleed's Post Maghrib Khatira
DESCRIPTION:
URL:https://www.darulislah.org/events/sh-waleeds-post-maghrib-khatira-2-2/2027-09-15/
CATEGORIES:Masjid Events
ATTACH;FMTTYPE=image/png:https://www.darulislah.org/wp-content/uploads/2025/09/Weekdays-With-Sheikh-2.png
END:VEVENT
BEGIN:VEVENT
DTSTART;TZID=America/New_York:20270917T130000
DTEND;TZID=America/New_York:20270917T150000
DTSTAMP:20260425T070424
CREATED:20250902T175228Z
LAST-MODIFIED:20250902T175229Z
UID:10000343-1821186000-1821193200@www.darulislah.org
SUMMARY:Jummah
DESCRIPTION:
URL:https://www.darulislah.org/events/jummah-3/2027-09-17/
CATEGORIES:Masjid Events
END:VEVENT
BEGIN:VEVENT
DTSTART;TZID=America/New_York:20270917T170000
DTEND;TZID=America/New_York:20270917T183000
DTSTAMP:20260425T070424
CREATED:20250911T163416Z
LAST-MODIFIED:20250911T163418Z
UID:10002169-1821200400-1821205800@www.darulislah.org
SUMMARY:DI Juniors (Girls)
DESCRIPTION:
URL:https://www.darulislah.org/events/di-juniors-girls-2/2027-09-17/
CATEGORIES:Masjid Events
END:VEVENT
BEGIN:VEVENT
DTSTART;TZID=America/New_York:20270917T190000
DTEND;TZID=America/New_York:20270917T200000
DTSTAMP:20260425T070424
CREATED:20260217T203504Z
LAST-MODIFIED:20260326T145420Z
UID:10001647-1821207600-1821211200@www.darulislah.org
SUMMARY:Sisters' Halaqa
DESCRIPTION:
URL:https://www.darulislah.org/events/sisters-halaqa-2/2027-09-17/
CATEGORIES:Masjid Events
ATTACH;FMTTYPE=image/png:https://www.darulislah.org/wp-content/uploads/2025/09/Sr.-Sherins-Halaqa-Real-Estate-Flyer-11.png
END:VEVENT
BEGIN:VEVENT
DTSTART;TZID=America/New_York:20270918T054500
DTEND;TZID=America/New_York:20270918T183000
DTSTAMP:20260425T070424
CREATED:20260217T203709Z
LAST-MODIFIED:20260326T145434Z
UID:10000604-1821246300-1821292200@www.darulislah.org
SUMMARY:Journey Through the Hadith
DESCRIPTION:
URL:https://www.darulislah.org/events/journey-through-the-hadith-2/2027-09-18/
CATEGORIES:Masjid Events
ATTACH;FMTTYPE=image/png:https://www.darulislah.org/wp-content/uploads/2025/09/Fajr-Khatiras-1.png
END:VEVENT
BEGIN:VEVENT
DTSTART;TZID=America/New_York:20270918T120000
DTEND;TZID=America/New_York:20270918T130000
DTSTAMP:20260425T070424
CREATED:20250902T201934Z
LAST-MODIFIED:20250902T201934Z
UID:10001908-1821268800-1821272400@www.darulislah.org
SUMMARY:Sisters' Tajweed Class
DESCRIPTION:
URL:https://www.darulislah.org/events/sisters-tajweed-class/2027-09-18/
CATEGORIES:Masjid Events
ATTACH;FMTTYPE=image/png:https://www.darulislah.org/wp-content/uploads/2025/09/Sisters-Tajweed-Class-7.png
END:VEVENT
BEGIN:VEVENT
DTSTART;TZID=America/New_York:20270919T054500
DTEND;TZID=America/New_York:20270919T063000
DTSTAMP:20260425T070424
CREATED:20250902T175939Z
LAST-MODIFIED:20250902T180641Z
UID:10000864-1821332700-1821335400@www.darulislah.org
SUMMARY:Journey through the Quran
DESCRIPTION:Fajr Khatirah with Imam Saeed Qureshi
URL:https://www.darulislah.org/events/journey-through-the-quran/2027-09-19/
CATEGORIES:Masjid Events
ATTACH;FMTTYPE=image/png:https://www.darulislah.org/wp-content/uploads/2025/04/Fajr-Khatiras-1.png
END:VEVENT
BEGIN:VEVENT
DTSTART;TZID=America/New_York:20270922T193000
DTEND;TZID=America/New_York:20270922T200000
DTSTAMP:20260425T070424
CREATED:20260217T203400Z
LAST-MODIFIED:20260326T145414Z
UID:10001387-1821641400-1821643200@www.darulislah.org
SUMMARY:Sh. Waleed's Post Maghrib Khatira
DESCRIPTION:
URL:https://www.darulislah.org/events/sh-waleeds-post-maghrib-khatira-2-2/2027-09-22/
CATEGORIES:Masjid Events
ATTACH;FMTTYPE=image/png:https://www.darulislah.org/wp-content/uploads/2025/09/Weekdays-With-Sheikh-2.png
END:VEVENT
BEGIN:VEVENT
DTSTART;TZID=America/New_York:20270924T130000
DTEND;TZID=America/New_York:20270924T150000
DTSTAMP:20260425T070424
CREATED:20250902T175228Z
LAST-MODIFIED:20250902T175229Z
UID:10000344-1821790800-1821798000@www.darulislah.org
SUMMARY:Jummah
DESCRIPTION:
URL:https://www.darulislah.org/events/jummah-3/2027-09-24/
CATEGORIES:Masjid Events
END:VEVENT
BEGIN:VEVENT
DTSTART;TZID=America/New_York:20270924T170000
DTEND;TZID=America/New_York:20270924T183000
DTSTAMP:20260425T070424
CREATED:20250911T163416Z
LAST-MODIFIED:20250911T163418Z
UID:10002170-1821805200-1821810600@www.darulislah.org
SUMMARY:DI Juniors (Girls)
DESCRIPTION:
URL:https://www.darulislah.org/events/di-juniors-girls-2/2027-09-24/
CATEGORIES:Masjid Events
END:VEVENT
BEGIN:VEVENT
DTSTART;TZID=America/New_York:20270924T190000
DTEND;TZID=America/New_York:20270924T200000
DTSTAMP:20260425T070424
CREATED:20260217T203504Z
LAST-MODIFIED:20260326T145420Z
UID:10001648-1821812400-1821816000@www.darulislah.org
SUMMARY:Sisters' Halaqa
DESCRIPTION:
URL:https://www.darulislah.org/events/sisters-halaqa-2/2027-09-24/
CATEGORIES:Masjid Events
ATTACH;FMTTYPE=image/png:https://www.darulislah.org/wp-content/uploads/2025/09/Sr.-Sherins-Halaqa-Real-Estate-Flyer-11.png
END:VEVENT
BEGIN:VEVENT
DTSTART;TZID=America/New_York:20270925T054500
DTEND;TZID=America/New_York:20270925T183000
DTSTAMP:20260425T070424
CREATED:20260217T203709Z
LAST-MODIFIED:20260326T145434Z
UID:10000605-1821851100-1821897000@www.darulislah.org
SUMMARY:Journey Through the Hadith
DESCRIPTION:
URL:https://www.darulislah.org/events/journey-through-the-hadith-2/2027-09-25/
CATEGORIES:Masjid Events
ATTACH;FMTTYPE=image/png:https://www.darulislah.org/wp-content/uploads/2025/09/Fajr-Khatiras-1.png
END:VEVENT
BEGIN:VEVENT
DTSTART;TZID=America/New_York:20270925T120000
DTEND;TZID=America/New_York:20270925T130000
DTSTAMP:20260425T070424
CREATED:20250902T201934Z
LAST-MODIFIED:20250902T201934Z
UID:10001909-1821873600-1821877200@www.darulislah.org
SUMMARY:Sisters' Tajweed Class
DESCRIPTION:
URL:https://www.darulislah.org/events/sisters-tajweed-class/2027-09-25/
CATEGORIES:Masjid Events
ATTACH;FMTTYPE=image/png:https://www.darulislah.org/wp-content/uploads/2025/09/Sisters-Tajweed-Class-7.png
END:VEVENT
BEGIN:VEVENT
DTSTART;TZID=America/New_York:20270926T054500
DTEND;TZID=America/New_York:20270926T063000
DTSTAMP:20260425T070424
CREATED:20250902T175939Z
LAST-MODIFIED:20250902T180641Z
UID:10000865-1821937500-1821940200@www.darulislah.org
SUMMARY:Journey through the Quran
DESCRIPTION:Fajr Khatirah with Imam Saeed Qureshi
URL:https://www.darulislah.org/events/journey-through-the-quran/2027-09-26/
CATEGORIES:Masjid Events
ATTACH;FMTTYPE=image/png:https://www.darulislah.org/wp-content/uploads/2025/04/Fajr-Khatiras-1.png
END:VEVENT
END:VCALENDAR