BEGIN:VCALENDAR
VERSION:2.0
PRODID:-//Darul Islah | Muslim Society of Bergen County - ECPv6.15.20//NONSGML v1.0//EN
CALSCALE:GREGORIAN
METHOD:PUBLISH
X-ORIGINAL-URL:https://www.darulislah.org
X-WR-CALDESC:Events for Darul Islah | Muslim Society of Bergen County
REFRESH-INTERVAL;VALUE=DURATION:PT1H
X-Robots-Tag:noindex
X-PUBLISHED-TTL:PT1H
BEGIN:VTIMEZONE
TZID:America/New_York
BEGIN:DAYLIGHT
TZOFFSETFROM:-0500
TZOFFSETTO:-0400
TZNAME:EDT
DTSTART:20260308T070000
END:DAYLIGHT
BEGIN:STANDARD
TZOFFSETFROM:-0400
TZOFFSETTO:-0500
TZNAME:EST
DTSTART:20261101T060000
END:STANDARD
BEGIN:DAYLIGHT
TZOFFSETFROM:-0500
TZOFFSETTO:-0400
TZNAME:EDT
DTSTART:20270314T070000
END:DAYLIGHT
BEGIN:STANDARD
TZOFFSETFROM:-0400
TZOFFSETTO:-0500
TZNAME:EST
DTSTART:20271107T060000
END:STANDARD
BEGIN:DAYLIGHT
TZOFFSETFROM:-0500
TZOFFSETTO:-0400
TZNAME:EDT
DTSTART:20280312T070000
END:DAYLIGHT
BEGIN:STANDARD
TZOFFSETFROM:-0400
TZOFFSETTO:-0500
TZNAME:EST
DTSTART:20281105T060000
END:STANDARD
END:VTIMEZONE
BEGIN:VEVENT
DTSTART;TZID=America/New_York:20271022T130000
DTEND;TZID=America/New_York:20271022T150000
DTSTAMP:20260425T083152
CREATED:20250902T175228Z
LAST-MODIFIED:20250902T175229Z
UID:10000348-1824210000-1824217200@www.darulislah.org
SUMMARY:Jummah
DESCRIPTION:
URL:https://www.darulislah.org/events/jummah-3/2027-10-22/
CATEGORIES:Masjid Events
END:VEVENT
BEGIN:VEVENT
DTSTART;TZID=America/New_York:20271022T170000
DTEND;TZID=America/New_York:20271022T183000
DTSTAMP:20260425T083152
CREATED:20250911T163416Z
LAST-MODIFIED:20250911T163418Z
UID:10002174-1824224400-1824229800@www.darulislah.org
SUMMARY:DI Juniors (Girls)
DESCRIPTION:
URL:https://www.darulislah.org/events/di-juniors-girls-2/2027-10-22/
CATEGORIES:Masjid Events
END:VEVENT
BEGIN:VEVENT
DTSTART;TZID=America/New_York:20271022T190000
DTEND;TZID=America/New_York:20271022T200000
DTSTAMP:20260425T083152
CREATED:20260217T203504Z
LAST-MODIFIED:20260326T145420Z
UID:10001652-1824231600-1824235200@www.darulislah.org
SUMMARY:Sisters' Halaqa
DESCRIPTION:
URL:https://www.darulislah.org/events/sisters-halaqa-2/2027-10-22/
CATEGORIES:Masjid Events
ATTACH;FMTTYPE=image/png:https://www.darulislah.org/wp-content/uploads/2025/09/Sr.-Sherins-Halaqa-Real-Estate-Flyer-11.png
END:VEVENT
BEGIN:VEVENT
DTSTART;TZID=America/New_York:20271023T054500
DTEND;TZID=America/New_York:20271023T183000
DTSTAMP:20260425T083152
CREATED:20260217T203709Z
LAST-MODIFIED:20260326T145434Z
UID:10000609-1824270300-1824316200@www.darulislah.org
SUMMARY:Journey Through the Hadith
DESCRIPTION:
URL:https://www.darulislah.org/events/journey-through-the-hadith-2/2027-10-23/
CATEGORIES:Masjid Events
ATTACH;FMTTYPE=image/png:https://www.darulislah.org/wp-content/uploads/2025/09/Fajr-Khatiras-1.png
END:VEVENT
BEGIN:VEVENT
DTSTART;TZID=America/New_York:20271023T120000
DTEND;TZID=America/New_York:20271023T130000
DTSTAMP:20260425T083152
CREATED:20250902T201934Z
LAST-MODIFIED:20250902T201934Z
UID:10001913-1824292800-1824296400@www.darulislah.org
SUMMARY:Sisters' Tajweed Class
DESCRIPTION:
URL:https://www.darulislah.org/events/sisters-tajweed-class/2027-10-23/
CATEGORIES:Masjid Events
ATTACH;FMTTYPE=image/png:https://www.darulislah.org/wp-content/uploads/2025/09/Sisters-Tajweed-Class-7.png
END:VEVENT
BEGIN:VEVENT
DTSTART;TZID=America/New_York:20271024T054500
DTEND;TZID=America/New_York:20271024T063000
DTSTAMP:20260425T083152
CREATED:20250902T175939Z
LAST-MODIFIED:20250902T180641Z
UID:10000869-1824356700-1824359400@www.darulislah.org
SUMMARY:Journey through the Quran
DESCRIPTION:Fajr Khatirah with Imam Saeed Qureshi
URL:https://www.darulislah.org/events/journey-through-the-quran/2027-10-24/
CATEGORIES:Masjid Events
ATTACH;FMTTYPE=image/png:https://www.darulislah.org/wp-content/uploads/2025/04/Fajr-Khatiras-1.png
END:VEVENT
BEGIN:VEVENT
DTSTART;TZID=America/New_York:20271027T193000
DTEND;TZID=America/New_York:20271027T200000
DTSTAMP:20260425T083152
CREATED:20260217T203400Z
LAST-MODIFIED:20260326T145414Z
UID:10001392-1824665400-1824667200@www.darulislah.org
SUMMARY:Sh. Waleed's Post Maghrib Khatira
DESCRIPTION:
URL:https://www.darulislah.org/events/sh-waleeds-post-maghrib-khatira-2-2/2027-10-27/
CATEGORIES:Masjid Events
ATTACH;FMTTYPE=image/png:https://www.darulislah.org/wp-content/uploads/2025/09/Weekdays-With-Sheikh-2.png
END:VEVENT
BEGIN:VEVENT
DTSTART;TZID=America/New_York:20271029T130000
DTEND;TZID=America/New_York:20271029T150000
DTSTAMP:20260425T083152
CREATED:20250902T175228Z
LAST-MODIFIED:20250902T175229Z
UID:10000349-1824814800-1824822000@www.darulislah.org
SUMMARY:Jummah
DESCRIPTION:
URL:https://www.darulislah.org/events/jummah-3/2027-10-29/
CATEGORIES:Masjid Events
END:VEVENT
BEGIN:VEVENT
DTSTART;TZID=America/New_York:20271029T170000
DTEND;TZID=America/New_York:20271029T183000
DTSTAMP:20260425T083152
CREATED:20250911T163416Z
LAST-MODIFIED:20250911T163418Z
UID:10002175-1824829200-1824834600@www.darulislah.org
SUMMARY:DI Juniors (Girls)
DESCRIPTION:
URL:https://www.darulislah.org/events/di-juniors-girls-2/2027-10-29/
CATEGORIES:Masjid Events
END:VEVENT
BEGIN:VEVENT
DTSTART;TZID=America/New_York:20271029T190000
DTEND;TZID=America/New_York:20271029T200000
DTSTAMP:20260425T083152
CREATED:20260217T203504Z
LAST-MODIFIED:20260326T145420Z
UID:10001653-1824836400-1824840000@www.darulislah.org
SUMMARY:Sisters' Halaqa
DESCRIPTION:
URL:https://www.darulislah.org/events/sisters-halaqa-2/2027-10-29/
CATEGORIES:Masjid Events
ATTACH;FMTTYPE=image/png:https://www.darulislah.org/wp-content/uploads/2025/09/Sr.-Sherins-Halaqa-Real-Estate-Flyer-11.png
END:VEVENT
BEGIN:VEVENT
DTSTART;TZID=America/New_York:20271030T054500
DTEND;TZID=America/New_York:20271030T183000
DTSTAMP:20260425T083152
CREATED:20260217T203709Z
LAST-MODIFIED:20260326T145434Z
UID:10000610-1824875100-1824921000@www.darulislah.org
SUMMARY:Journey Through the Hadith
DESCRIPTION:
URL:https://www.darulislah.org/events/journey-through-the-hadith-2/2027-10-30/
CATEGORIES:Masjid Events
ATTACH;FMTTYPE=image/png:https://www.darulislah.org/wp-content/uploads/2025/09/Fajr-Khatiras-1.png
END:VEVENT
BEGIN:VEVENT
DTSTART;TZID=America/New_York:20271030T120000
DTEND;TZID=America/New_York:20271030T130000
DTSTAMP:20260425T083152
CREATED:20250902T201934Z
LAST-MODIFIED:20250902T201934Z
UID:10001914-1824897600-1824901200@www.darulislah.org
SUMMARY:Sisters' Tajweed Class
DESCRIPTION:
URL:https://www.darulislah.org/events/sisters-tajweed-class/2027-10-30/
CATEGORIES:Masjid Events
ATTACH;FMTTYPE=image/png:https://www.darulislah.org/wp-content/uploads/2025/09/Sisters-Tajweed-Class-7.png
END:VEVENT
BEGIN:VEVENT
DTSTART;TZID=America/New_York:20271031T054500
DTEND;TZID=America/New_York:20271031T063000
DTSTAMP:20260425T083152
CREATED:20250902T175939Z
LAST-MODIFIED:20250902T180641Z
UID:10000870-1824961500-1824964200@www.darulislah.org
SUMMARY:Journey through the Quran
DESCRIPTION:Fajr Khatirah with Imam Saeed Qureshi
URL:https://www.darulislah.org/events/journey-through-the-quran/2027-10-31/
CATEGORIES:Masjid Events
ATTACH;FMTTYPE=image/png:https://www.darulislah.org/wp-content/uploads/2025/04/Fajr-Khatiras-1.png
END:VEVENT
BEGIN:VEVENT
DTSTART;TZID=America/New_York:20271103T193000
DTEND;TZID=America/New_York:20271103T200000
DTSTAMP:20260425T083152
CREATED:20260217T203400Z
LAST-MODIFIED:20260326T145414Z
UID:10001393-1825270200-1825272000@www.darulislah.org
SUMMARY:Sh. Waleed's Post Maghrib Khatira
DESCRIPTION:
URL:https://www.darulislah.org/events/sh-waleeds-post-maghrib-khatira-2-2/2027-11-03/
CATEGORIES:Masjid Events
ATTACH;FMTTYPE=image/png:https://www.darulislah.org/wp-content/uploads/2025/09/Weekdays-With-Sheikh-2.png
END:VEVENT
BEGIN:VEVENT
DTSTART;TZID=America/New_York:20271105T130000
DTEND;TZID=America/New_York:20271105T150000
DTSTAMP:20260425T083152
CREATED:20250902T175228Z
LAST-MODIFIED:20250902T175229Z
UID:10000350-1825419600-1825426800@www.darulislah.org
SUMMARY:Jummah
DESCRIPTION:
URL:https://www.darulislah.org/events/jummah-3/2027-11-05/
CATEGORIES:Masjid Events
END:VEVENT
BEGIN:VEVENT
DTSTART;TZID=America/New_York:20271105T170000
DTEND;TZID=America/New_York:20271105T183000
DTSTAMP:20260425T083152
CREATED:20250911T163416Z
LAST-MODIFIED:20250911T163418Z
UID:10002176-1825434000-1825439400@www.darulislah.org
SUMMARY:DI Juniors (Girls)
DESCRIPTION:
URL:https://www.darulislah.org/events/di-juniors-girls-2/2027-11-05/
CATEGORIES:Masjid Events
END:VEVENT
BEGIN:VEVENT
DTSTART;TZID=America/New_York:20271105T190000
DTEND;TZID=America/New_York:20271105T200000
DTSTAMP:20260425T083152
CREATED:20260217T203504Z
LAST-MODIFIED:20260326T145420Z
UID:10001654-1825441200-1825444800@www.darulislah.org
SUMMARY:Sisters' Halaqa
DESCRIPTION:
URL:https://www.darulislah.org/events/sisters-halaqa-2/2027-11-05/
CATEGORIES:Masjid Events
ATTACH;FMTTYPE=image/png:https://www.darulislah.org/wp-content/uploads/2025/09/Sr.-Sherins-Halaqa-Real-Estate-Flyer-11.png
END:VEVENT
BEGIN:VEVENT
DTSTART;TZID=America/New_York:20271106T054500
DTEND;TZID=America/New_York:20271106T183000
DTSTAMP:20260425T083152
CREATED:20260217T203709Z
LAST-MODIFIED:20260326T145434Z
UID:10000611-1825479900-1825525800@www.darulislah.org
SUMMARY:Journey Through the Hadith
DESCRIPTION:
URL:https://www.darulislah.org/events/journey-through-the-hadith-2/2027-11-06/
CATEGORIES:Masjid Events
ATTACH;FMTTYPE=image/png:https://www.darulislah.org/wp-content/uploads/2025/09/Fajr-Khatiras-1.png
END:VEVENT
BEGIN:VEVENT
DTSTART;TZID=America/New_York:20271106T120000
DTEND;TZID=America/New_York:20271106T130000
DTSTAMP:20260425T083152
CREATED:20250902T201934Z
LAST-MODIFIED:20250902T201934Z
UID:10001915-1825502400-1825506000@www.darulislah.org
SUMMARY:Sisters' Tajweed Class
DESCRIPTION:
URL:https://www.darulislah.org/events/sisters-tajweed-class/2027-11-06/
CATEGORIES:Masjid Events
ATTACH;FMTTYPE=image/png:https://www.darulislah.org/wp-content/uploads/2025/09/Sisters-Tajweed-Class-7.png
END:VEVENT
BEGIN:VEVENT
DTSTART;TZID=America/New_York:20271107T054500
DTEND;TZID=America/New_York:20271107T063000
DTSTAMP:20260425T083152
CREATED:20250902T175939Z
LAST-MODIFIED:20250902T180641Z
UID:10000871-1825566300-1825569000@www.darulislah.org
SUMMARY:Journey through the Quran
DESCRIPTION:Fajr Khatirah with Imam Saeed Qureshi
URL:https://www.darulislah.org/events/journey-through-the-quran/2027-11-07/
CATEGORIES:Masjid Events
ATTACH;FMTTYPE=image/png:https://www.darulislah.org/wp-content/uploads/2025/04/Fajr-Khatiras-1.png
END:VEVENT
BEGIN:VEVENT
DTSTART;TZID=America/New_York:20271110T193000
DTEND;TZID=America/New_York:20271110T200000
DTSTAMP:20260425T083152
CREATED:20260217T203400Z
LAST-MODIFIED:20260326T145414Z
UID:10001394-1825875000-1825876800@www.darulislah.org
SUMMARY:Sh. Waleed's Post Maghrib Khatira
DESCRIPTION:
URL:https://www.darulislah.org/events/sh-waleeds-post-maghrib-khatira-2-2/2027-11-10/
CATEGORIES:Masjid Events
ATTACH;FMTTYPE=image/png:https://www.darulislah.org/wp-content/uploads/2025/09/Weekdays-With-Sheikh-2.png
END:VEVENT
BEGIN:VEVENT
DTSTART;TZID=America/New_York:20271112T130000
DTEND;TZID=America/New_York:20271112T150000
DTSTAMP:20260425T083152
CREATED:20250902T175228Z
LAST-MODIFIED:20250902T175229Z
UID:10000351-1826024400-1826031600@www.darulislah.org
SUMMARY:Jummah
DESCRIPTION:
URL:https://www.darulislah.org/events/jummah-3/2027-11-12/
CATEGORIES:Masjid Events
END:VEVENT
BEGIN:VEVENT
DTSTART;TZID=America/New_York:20271112T170000
DTEND;TZID=America/New_York:20271112T183000
DTSTAMP:20260425T083152
CREATED:20250911T163416Z
LAST-MODIFIED:20250911T163418Z
UID:10002177-1826038800-1826044200@www.darulislah.org
SUMMARY:DI Juniors (Girls)
DESCRIPTION:
URL:https://www.darulislah.org/events/di-juniors-girls-2/2027-11-12/
CATEGORIES:Masjid Events
END:VEVENT
BEGIN:VEVENT
DTSTART;TZID=America/New_York:20271112T190000
DTEND;TZID=America/New_York:20271112T200000
DTSTAMP:20260425T083152
CREATED:20260217T203504Z
LAST-MODIFIED:20260326T145420Z
UID:10001655-1826046000-1826049600@www.darulislah.org
SUMMARY:Sisters' Halaqa
DESCRIPTION:
URL:https://www.darulislah.org/events/sisters-halaqa-2/2027-11-12/
CATEGORIES:Masjid Events
ATTACH;FMTTYPE=image/png:https://www.darulislah.org/wp-content/uploads/2025/09/Sr.-Sherins-Halaqa-Real-Estate-Flyer-11.png
END:VEVENT
BEGIN:VEVENT
DTSTART;TZID=America/New_York:20271113T054500
DTEND;TZID=America/New_York:20271113T183000
DTSTAMP:20260425T083152
CREATED:20260217T203709Z
LAST-MODIFIED:20260326T145434Z
UID:10000612-1826084700-1826130600@www.darulislah.org
SUMMARY:Journey Through the Hadith
DESCRIPTION:
URL:https://www.darulislah.org/events/journey-through-the-hadith-2/2027-11-13/
CATEGORIES:Masjid Events
ATTACH;FMTTYPE=image/png:https://www.darulislah.org/wp-content/uploads/2025/09/Fajr-Khatiras-1.png
END:VEVENT
BEGIN:VEVENT
DTSTART;TZID=America/New_York:20271113T120000
DTEND;TZID=America/New_York:20271113T130000
DTSTAMP:20260425T083152
CREATED:20250902T201934Z
LAST-MODIFIED:20250902T201934Z
UID:10001916-1826107200-1826110800@www.darulislah.org
SUMMARY:Sisters' Tajweed Class
DESCRIPTION:
URL:https://www.darulislah.org/events/sisters-tajweed-class/2027-11-13/
CATEGORIES:Masjid Events
ATTACH;FMTTYPE=image/png:https://www.darulislah.org/wp-content/uploads/2025/09/Sisters-Tajweed-Class-7.png
END:VEVENT
BEGIN:VEVENT
DTSTART;TZID=America/New_York:20271114T054500
DTEND;TZID=America/New_York:20271114T063000
DTSTAMP:20260425T083152
CREATED:20250902T175939Z
LAST-MODIFIED:20250902T180641Z
UID:10000872-1826171100-1826173800@www.darulislah.org
SUMMARY:Journey through the Quran
DESCRIPTION:Fajr Khatirah with Imam Saeed Qureshi
URL:https://www.darulislah.org/events/journey-through-the-quran/2027-11-14/
CATEGORIES:Masjid Events
ATTACH;FMTTYPE=image/png:https://www.darulislah.org/wp-content/uploads/2025/04/Fajr-Khatiras-1.png
END:VEVENT
BEGIN:VEVENT
DTSTART;TZID=America/New_York:20271117T193000
DTEND;TZID=America/New_York:20271117T200000
DTSTAMP:20260425T083152
CREATED:20260217T203400Z
LAST-MODIFIED:20260326T145414Z
UID:10001395-1826479800-1826481600@www.darulislah.org
SUMMARY:Sh. Waleed's Post Maghrib Khatira
DESCRIPTION:
URL:https://www.darulislah.org/events/sh-waleeds-post-maghrib-khatira-2-2/2027-11-17/
CATEGORIES:Masjid Events
ATTACH;FMTTYPE=image/png:https://www.darulislah.org/wp-content/uploads/2025/09/Weekdays-With-Sheikh-2.png
END:VEVENT
BEGIN:VEVENT
DTSTART;TZID=America/New_York:20271119T130000
DTEND;TZID=America/New_York:20271119T150000
DTSTAMP:20260425T083152
CREATED:20250902T175228Z
LAST-MODIFIED:20250902T175229Z
UID:10000352-1826629200-1826636400@www.darulislah.org
SUMMARY:Jummah
DESCRIPTION:
URL:https://www.darulislah.org/events/jummah-3/2027-11-19/
CATEGORIES:Masjid Events
END:VEVENT
BEGIN:VEVENT
DTSTART;TZID=America/New_York:20271119T170000
DTEND;TZID=America/New_York:20271119T183000
DTSTAMP:20260425T083152
CREATED:20250911T163416Z
LAST-MODIFIED:20250911T163418Z
UID:10002178-1826643600-1826649000@www.darulislah.org
SUMMARY:DI Juniors (Girls)
DESCRIPTION:
URL:https://www.darulislah.org/events/di-juniors-girls-2/2027-11-19/
CATEGORIES:Masjid Events
END:VEVENT
END:VCALENDAR