BEGIN:VCALENDAR
VERSION:2.0
PRODID:-//Darul Islah | Muslim Society of Bergen County - ECPv6.15.20//NONSGML v1.0//EN
CALSCALE:GREGORIAN
METHOD:PUBLISH
X-ORIGINAL-URL:https://www.darulislah.org
X-WR-CALDESC:Events for Darul Islah | Muslim Society of Bergen County
REFRESH-INTERVAL;VALUE=DURATION:PT1H
X-Robots-Tag:noindex
X-PUBLISHED-TTL:PT1H
BEGIN:VTIMEZONE
TZID:America/New_York
BEGIN:DAYLIGHT
TZOFFSETFROM:-0500
TZOFFSETTO:-0400
TZNAME:EDT
DTSTART:20270314T070000
END:DAYLIGHT
BEGIN:STANDARD
TZOFFSETFROM:-0400
TZOFFSETTO:-0500
TZNAME:EST
DTSTART:20271107T060000
END:STANDARD
BEGIN:DAYLIGHT
TZOFFSETFROM:-0500
TZOFFSETTO:-0400
TZNAME:EDT
DTSTART:20280312T070000
END:DAYLIGHT
BEGIN:STANDARD
TZOFFSETFROM:-0400
TZOFFSETTO:-0500
TZNAME:EST
DTSTART:20281105T060000
END:STANDARD
BEGIN:DAYLIGHT
TZOFFSETFROM:-0500
TZOFFSETTO:-0400
TZNAME:EDT
DTSTART:20290311T070000
END:DAYLIGHT
BEGIN:STANDARD
TZOFFSETFROM:-0400
TZOFFSETTO:-0500
TZNAME:EST
DTSTART:20291104T060000
END:STANDARD
END:VTIMEZONE
BEGIN:VEVENT
DTSTART;TZID=America/New_York:20280205T120000
DTEND;TZID=America/New_York:20280205T130000
DTSTAMP:20260425T113902
CREATED:20250902T201934Z
LAST-MODIFIED:20250902T201934Z
UID:10001928-1833364800-1833368400@www.darulislah.org
SUMMARY:Sisters' Tajweed Class
DESCRIPTION:
URL:https://www.darulislah.org/events/sisters-tajweed-class/2028-02-05/
CATEGORIES:Masjid Events
ATTACH;FMTTYPE=image/png:https://www.darulislah.org/wp-content/uploads/2025/09/Sisters-Tajweed-Class-7.png
END:VEVENT
BEGIN:VEVENT
DTSTART;TZID=America/New_York:20280206T054500
DTEND;TZID=America/New_York:20280206T063000
DTSTAMP:20260425T113902
CREATED:20250902T175939Z
LAST-MODIFIED:20250902T180641Z
UID:10000884-1833428700-1833431400@www.darulislah.org
SUMMARY:Journey through the Quran
DESCRIPTION:Fajr Khatirah with Imam Saeed Qureshi
URL:https://www.darulislah.org/events/journey-through-the-quran/2028-02-06/
CATEGORIES:Masjid Events
ATTACH;FMTTYPE=image/png:https://www.darulislah.org/wp-content/uploads/2025/04/Fajr-Khatiras-1.png
END:VEVENT
BEGIN:VEVENT
DTSTART;TZID=America/New_York:20280209T193000
DTEND;TZID=America/New_York:20280209T200000
DTSTAMP:20260425T113902
CREATED:20260217T203400Z
LAST-MODIFIED:20260326T145414Z
UID:10001407-1833737400-1833739200@www.darulislah.org
SUMMARY:Sh. Waleed's Post Maghrib Khatira
DESCRIPTION:
URL:https://www.darulislah.org/events/sh-waleeds-post-maghrib-khatira-2-2/2028-02-09/
CATEGORIES:Masjid Events
ATTACH;FMTTYPE=image/png:https://www.darulislah.org/wp-content/uploads/2025/09/Weekdays-With-Sheikh-2.png
END:VEVENT
BEGIN:VEVENT
DTSTART;TZID=America/New_York:20280211T130000
DTEND;TZID=America/New_York:20280211T150000
DTSTAMP:20260425T113902
CREATED:20250902T175228Z
LAST-MODIFIED:20250902T175229Z
UID:10000364-1833886800-1833894000@www.darulislah.org
SUMMARY:Jummah
DESCRIPTION:
URL:https://www.darulislah.org/events/jummah-3/2028-02-11/
CATEGORIES:Masjid Events
END:VEVENT
BEGIN:VEVENT
DTSTART;TZID=America/New_York:20280211T170000
DTEND;TZID=America/New_York:20280211T183000
DTSTAMP:20260425T113902
CREATED:20250911T163416Z
LAST-MODIFIED:20250911T163418Z
UID:10002190-1833901200-1833906600@www.darulislah.org
SUMMARY:DI Juniors (Girls)
DESCRIPTION:
URL:https://www.darulislah.org/events/di-juniors-girls-2/2028-02-11/
CATEGORIES:Masjid Events
END:VEVENT
BEGIN:VEVENT
DTSTART;TZID=America/New_York:20280211T190000
DTEND;TZID=America/New_York:20280211T200000
DTSTAMP:20260425T113902
CREATED:20260217T203504Z
LAST-MODIFIED:20260326T145420Z
UID:10001668-1833908400-1833912000@www.darulislah.org
SUMMARY:Sisters' Halaqa
DESCRIPTION:
URL:https://www.darulislah.org/events/sisters-halaqa-2/2028-02-11/
CATEGORIES:Masjid Events
ATTACH;FMTTYPE=image/png:https://www.darulislah.org/wp-content/uploads/2025/09/Sr.-Sherins-Halaqa-Real-Estate-Flyer-11.png
END:VEVENT
BEGIN:VEVENT
DTSTART;TZID=America/New_York:20280212T054500
DTEND;TZID=America/New_York:20280212T183000
DTSTAMP:20260425T113902
CREATED:20260217T203709Z
LAST-MODIFIED:20260326T145434Z
UID:10000625-1833947100-1833993000@www.darulislah.org
SUMMARY:Journey Through the Hadith
DESCRIPTION:
URL:https://www.darulislah.org/events/journey-through-the-hadith-2/2028-02-12/
CATEGORIES:Masjid Events
ATTACH;FMTTYPE=image/png:https://www.darulislah.org/wp-content/uploads/2025/09/Fajr-Khatiras-1.png
END:VEVENT
BEGIN:VEVENT
DTSTART;TZID=America/New_York:20280212T120000
DTEND;TZID=America/New_York:20280212T130000
DTSTAMP:20260425T113902
CREATED:20250902T201934Z
LAST-MODIFIED:20250902T201934Z
UID:10001929-1833969600-1833973200@www.darulislah.org
SUMMARY:Sisters' Tajweed Class
DESCRIPTION:
URL:https://www.darulislah.org/events/sisters-tajweed-class/2028-02-12/
CATEGORIES:Masjid Events
ATTACH;FMTTYPE=image/png:https://www.darulislah.org/wp-content/uploads/2025/09/Sisters-Tajweed-Class-7.png
END:VEVENT
BEGIN:VEVENT
DTSTART;TZID=America/New_York:20280213T054500
DTEND;TZID=America/New_York:20280213T063000
DTSTAMP:20260425T113902
CREATED:20250902T175939Z
LAST-MODIFIED:20250902T180641Z
UID:10000885-1834033500-1834036200@www.darulislah.org
SUMMARY:Journey through the Quran
DESCRIPTION:Fajr Khatirah with Imam Saeed Qureshi
URL:https://www.darulislah.org/events/journey-through-the-quran/2028-02-13/
CATEGORIES:Masjid Events
ATTACH;FMTTYPE=image/png:https://www.darulislah.org/wp-content/uploads/2025/04/Fajr-Khatiras-1.png
END:VEVENT
BEGIN:VEVENT
DTSTART;TZID=America/New_York:20280216T193000
DTEND;TZID=America/New_York:20280216T200000
DTSTAMP:20260425T113902
CREATED:20260217T203400Z
LAST-MODIFIED:20260326T145414Z
UID:10001408-1834342200-1834344000@www.darulislah.org
SUMMARY:Sh. Waleed's Post Maghrib Khatira
DESCRIPTION:
URL:https://www.darulislah.org/events/sh-waleeds-post-maghrib-khatira-2-2/2028-02-16/
CATEGORIES:Masjid Events
ATTACH;FMTTYPE=image/png:https://www.darulislah.org/wp-content/uploads/2025/09/Weekdays-With-Sheikh-2.png
END:VEVENT
BEGIN:VEVENT
DTSTART;TZID=America/New_York:20280218T130000
DTEND;TZID=America/New_York:20280218T150000
DTSTAMP:20260425T113902
CREATED:20250902T175228Z
LAST-MODIFIED:20250902T175229Z
UID:10000365-1834491600-1834498800@www.darulislah.org
SUMMARY:Jummah
DESCRIPTION:
URL:https://www.darulislah.org/events/jummah-3/2028-02-18/
CATEGORIES:Masjid Events
END:VEVENT
BEGIN:VEVENT
DTSTART;TZID=America/New_York:20280218T170000
DTEND;TZID=America/New_York:20280218T183000
DTSTAMP:20260425T113902
CREATED:20250911T163416Z
LAST-MODIFIED:20250911T163418Z
UID:10002191-1834506000-1834511400@www.darulislah.org
SUMMARY:DI Juniors (Girls)
DESCRIPTION:
URL:https://www.darulislah.org/events/di-juniors-girls-2/2028-02-18/
CATEGORIES:Masjid Events
END:VEVENT
BEGIN:VEVENT
DTSTART;TZID=America/New_York:20280218T190000
DTEND;TZID=America/New_York:20280218T200000
DTSTAMP:20260425T113902
CREATED:20260217T203504Z
LAST-MODIFIED:20260326T145420Z
UID:10001669-1834513200-1834516800@www.darulislah.org
SUMMARY:Sisters' Halaqa
DESCRIPTION:
URL:https://www.darulislah.org/events/sisters-halaqa-2/2028-02-18/
CATEGORIES:Masjid Events
ATTACH;FMTTYPE=image/png:https://www.darulislah.org/wp-content/uploads/2025/09/Sr.-Sherins-Halaqa-Real-Estate-Flyer-11.png
END:VEVENT
BEGIN:VEVENT
DTSTART;TZID=America/New_York:20280219T054500
DTEND;TZID=America/New_York:20280219T183000
DTSTAMP:20260425T113902
CREATED:20260217T203709Z
LAST-MODIFIED:20260326T145434Z
UID:10000626-1834551900-1834597800@www.darulislah.org
SUMMARY:Journey Through the Hadith
DESCRIPTION:
URL:https://www.darulislah.org/events/journey-through-the-hadith-2/2028-02-19/
CATEGORIES:Masjid Events
ATTACH;FMTTYPE=image/png:https://www.darulislah.org/wp-content/uploads/2025/09/Fajr-Khatiras-1.png
END:VEVENT
BEGIN:VEVENT
DTSTART;TZID=America/New_York:20280219T120000
DTEND;TZID=America/New_York:20280219T130000
DTSTAMP:20260425T113902
CREATED:20250902T201934Z
LAST-MODIFIED:20250902T201934Z
UID:10001930-1834574400-1834578000@www.darulislah.org
SUMMARY:Sisters' Tajweed Class
DESCRIPTION:
URL:https://www.darulislah.org/events/sisters-tajweed-class/2028-02-19/
CATEGORIES:Masjid Events
ATTACH;FMTTYPE=image/png:https://www.darulislah.org/wp-content/uploads/2025/09/Sisters-Tajweed-Class-7.png
END:VEVENT
BEGIN:VEVENT
DTSTART;TZID=America/New_York:20280220T054500
DTEND;TZID=America/New_York:20280220T063000
DTSTAMP:20260425T113902
CREATED:20250902T175939Z
LAST-MODIFIED:20250902T180641Z
UID:10000886-1834638300-1834641000@www.darulislah.org
SUMMARY:Journey through the Quran
DESCRIPTION:Fajr Khatirah with Imam Saeed Qureshi
URL:https://www.darulislah.org/events/journey-through-the-quran/2028-02-20/
CATEGORIES:Masjid Events
ATTACH;FMTTYPE=image/png:https://www.darulislah.org/wp-content/uploads/2025/04/Fajr-Khatiras-1.png
END:VEVENT
BEGIN:VEVENT
DTSTART;TZID=America/New_York:20280223T193000
DTEND;TZID=America/New_York:20280223T200000
DTSTAMP:20260425T113902
CREATED:20260217T203400Z
LAST-MODIFIED:20260326T145414Z
UID:10001409-1834947000-1834948800@www.darulislah.org
SUMMARY:Sh. Waleed's Post Maghrib Khatira
DESCRIPTION:
URL:https://www.darulislah.org/events/sh-waleeds-post-maghrib-khatira-2-2/2028-02-23/
CATEGORIES:Masjid Events
ATTACH;FMTTYPE=image/png:https://www.darulislah.org/wp-content/uploads/2025/09/Weekdays-With-Sheikh-2.png
END:VEVENT
BEGIN:VEVENT
DTSTART;TZID=America/New_York:20280225T130000
DTEND;TZID=America/New_York:20280225T150000
DTSTAMP:20260425T113902
CREATED:20250902T175228Z
LAST-MODIFIED:20250902T175229Z
UID:10000366-1835096400-1835103600@www.darulislah.org
SUMMARY:Jummah
DESCRIPTION:
URL:https://www.darulislah.org/events/jummah-3/2028-02-25/
CATEGORIES:Masjid Events
END:VEVENT
BEGIN:VEVENT
DTSTART;TZID=America/New_York:20280225T170000
DTEND;TZID=America/New_York:20280225T183000
DTSTAMP:20260425T113902
CREATED:20250911T163416Z
LAST-MODIFIED:20250911T163418Z
UID:10002192-1835110800-1835116200@www.darulislah.org
SUMMARY:DI Juniors (Girls)
DESCRIPTION:
URL:https://www.darulislah.org/events/di-juniors-girls-2/2028-02-25/
CATEGORIES:Masjid Events
END:VEVENT
BEGIN:VEVENT
DTSTART;TZID=America/New_York:20280225T190000
DTEND;TZID=America/New_York:20280225T200000
DTSTAMP:20260425T113902
CREATED:20260217T203504Z
LAST-MODIFIED:20260326T145420Z
UID:10001670-1835118000-1835121600@www.darulislah.org
SUMMARY:Sisters' Halaqa
DESCRIPTION:
URL:https://www.darulislah.org/events/sisters-halaqa-2/2028-02-25/
CATEGORIES:Masjid Events
ATTACH;FMTTYPE=image/png:https://www.darulislah.org/wp-content/uploads/2025/09/Sr.-Sherins-Halaqa-Real-Estate-Flyer-11.png
END:VEVENT
BEGIN:VEVENT
DTSTART;TZID=America/New_York:20280226T054500
DTEND;TZID=America/New_York:20280226T183000
DTSTAMP:20260425T113902
CREATED:20260217T203709Z
LAST-MODIFIED:20260326T145434Z
UID:10000627-1835156700-1835202600@www.darulislah.org
SUMMARY:Journey Through the Hadith
DESCRIPTION:
URL:https://www.darulislah.org/events/journey-through-the-hadith-2/2028-02-26/
CATEGORIES:Masjid Events
ATTACH;FMTTYPE=image/png:https://www.darulislah.org/wp-content/uploads/2025/09/Fajr-Khatiras-1.png
END:VEVENT
BEGIN:VEVENT
DTSTART;TZID=America/New_York:20280226T120000
DTEND;TZID=America/New_York:20280226T130000
DTSTAMP:20260425T113902
CREATED:20250902T201934Z
LAST-MODIFIED:20250902T201934Z
UID:10001931-1835179200-1835182800@www.darulislah.org
SUMMARY:Sisters' Tajweed Class
DESCRIPTION:
URL:https://www.darulislah.org/events/sisters-tajweed-class/2028-02-26/
CATEGORIES:Masjid Events
ATTACH;FMTTYPE=image/png:https://www.darulislah.org/wp-content/uploads/2025/09/Sisters-Tajweed-Class-7.png
END:VEVENT
BEGIN:VEVENT
DTSTART;TZID=America/New_York:20280227T054500
DTEND;TZID=America/New_York:20280227T063000
DTSTAMP:20260425T113902
CREATED:20250902T175939Z
LAST-MODIFIED:20250902T180641Z
UID:10000887-1835243100-1835245800@www.darulislah.org
SUMMARY:Journey through the Quran
DESCRIPTION:Fajr Khatirah with Imam Saeed Qureshi
URL:https://www.darulislah.org/events/journey-through-the-quran/2028-02-27/
CATEGORIES:Masjid Events
ATTACH;FMTTYPE=image/png:https://www.darulislah.org/wp-content/uploads/2025/04/Fajr-Khatiras-1.png
END:VEVENT
BEGIN:VEVENT
DTSTART;TZID=America/New_York:20280301T193000
DTEND;TZID=America/New_York:20280301T200000
DTSTAMP:20260425T113902
CREATED:20260217T203400Z
LAST-MODIFIED:20260326T145414Z
UID:10001410-1835551800-1835553600@www.darulislah.org
SUMMARY:Sh. Waleed's Post Maghrib Khatira
DESCRIPTION:
URL:https://www.darulislah.org/events/sh-waleeds-post-maghrib-khatira-2-2/2028-03-01/
CATEGORIES:Masjid Events
ATTACH;FMTTYPE=image/png:https://www.darulislah.org/wp-content/uploads/2025/09/Weekdays-With-Sheikh-2.png
END:VEVENT
BEGIN:VEVENT
DTSTART;TZID=America/New_York:20280303T130000
DTEND;TZID=America/New_York:20280303T150000
DTSTAMP:20260425T113902
CREATED:20250902T175228Z
LAST-MODIFIED:20250902T175229Z
UID:10000367-1835701200-1835708400@www.darulislah.org
SUMMARY:Jummah
DESCRIPTION:
URL:https://www.darulislah.org/events/jummah-3/2028-03-03/
CATEGORIES:Masjid Events
END:VEVENT
BEGIN:VEVENT
DTSTART;TZID=America/New_York:20280303T170000
DTEND;TZID=America/New_York:20280303T183000
DTSTAMP:20260425T113902
CREATED:20250911T163416Z
LAST-MODIFIED:20250911T163418Z
UID:10002193-1835715600-1835721000@www.darulislah.org
SUMMARY:DI Juniors (Girls)
DESCRIPTION:
URL:https://www.darulislah.org/events/di-juniors-girls-2/2028-03-03/
CATEGORIES:Masjid Events
END:VEVENT
BEGIN:VEVENT
DTSTART;TZID=America/New_York:20280303T190000
DTEND;TZID=America/New_York:20280303T200000
DTSTAMP:20260425T113902
CREATED:20260217T203504Z
LAST-MODIFIED:20260326T145420Z
UID:10001671-1835722800-1835726400@www.darulislah.org
SUMMARY:Sisters' Halaqa
DESCRIPTION:
URL:https://www.darulislah.org/events/sisters-halaqa-2/2028-03-03/
CATEGORIES:Masjid Events
ATTACH;FMTTYPE=image/png:https://www.darulislah.org/wp-content/uploads/2025/09/Sr.-Sherins-Halaqa-Real-Estate-Flyer-11.png
END:VEVENT
BEGIN:VEVENT
DTSTART;TZID=America/New_York:20280304T054500
DTEND;TZID=America/New_York:20280304T183000
DTSTAMP:20260425T113902
CREATED:20260217T203709Z
LAST-MODIFIED:20260326T145434Z
UID:10000628-1835761500-1835807400@www.darulislah.org
SUMMARY:Journey Through the Hadith
DESCRIPTION:
URL:https://www.darulislah.org/events/journey-through-the-hadith-2/2028-03-04/
CATEGORIES:Masjid Events
ATTACH;FMTTYPE=image/png:https://www.darulislah.org/wp-content/uploads/2025/09/Fajr-Khatiras-1.png
END:VEVENT
BEGIN:VEVENT
DTSTART;TZID=America/New_York:20280304T120000
DTEND;TZID=America/New_York:20280304T130000
DTSTAMP:20260425T113902
CREATED:20250902T201934Z
LAST-MODIFIED:20250902T201934Z
UID:10001932-1835784000-1835787600@www.darulislah.org
SUMMARY:Sisters' Tajweed Class
DESCRIPTION:
URL:https://www.darulislah.org/events/sisters-tajweed-class/2028-03-04/
CATEGORIES:Masjid Events
ATTACH;FMTTYPE=image/png:https://www.darulislah.org/wp-content/uploads/2025/09/Sisters-Tajweed-Class-7.png
END:VEVENT
BEGIN:VEVENT
DTSTART;TZID=America/New_York:20280305T054500
DTEND;TZID=America/New_York:20280305T063000
DTSTAMP:20260425T113903
CREATED:20250902T175939Z
LAST-MODIFIED:20250902T180641Z
UID:10000888-1835847900-1835850600@www.darulislah.org
SUMMARY:Journey through the Quran
DESCRIPTION:Fajr Khatirah with Imam Saeed Qureshi
URL:https://www.darulislah.org/events/journey-through-the-quran/2028-03-05/
CATEGORIES:Masjid Events
ATTACH;FMTTYPE=image/png:https://www.darulislah.org/wp-content/uploads/2025/04/Fajr-Khatiras-1.png
END:VEVENT
END:VCALENDAR