BEGIN:VCALENDAR
VERSION:2.0
PRODID:-//Darul Islah | Muslim Society of Bergen County - ECPv6.15.20//NONSGML v1.0//EN
CALSCALE:GREGORIAN
METHOD:PUBLISH
X-WR-CALNAME:Darul Islah | Muslim Society of Bergen County
X-ORIGINAL-URL:https://www.darulislah.org
X-WR-CALDESC:Events for Darul Islah | Muslim Society of Bergen County
REFRESH-INTERVAL;VALUE=DURATION:PT1H
X-Robots-Tag:noindex
X-PUBLISHED-TTL:PT1H
BEGIN:VTIMEZONE
TZID:America/New_York
BEGIN:DAYLIGHT
TZOFFSETFROM:-0500
TZOFFSETTO:-0400
TZNAME:EDT
DTSTART:20280312T070000
END:DAYLIGHT
BEGIN:STANDARD
TZOFFSETFROM:-0400
TZOFFSETTO:-0500
TZNAME:EST
DTSTART:20281105T060000
END:STANDARD
BEGIN:DAYLIGHT
TZOFFSETFROM:-0500
TZOFFSETTO:-0400
TZNAME:EDT
DTSTART:20290311T070000
END:DAYLIGHT
BEGIN:STANDARD
TZOFFSETFROM:-0400
TZOFFSETTO:-0500
TZNAME:EST
DTSTART:20291104T060000
END:STANDARD
BEGIN:DAYLIGHT
TZOFFSETFROM:-0500
TZOFFSETTO:-0400
TZNAME:EDT
DTSTART:20300310T070000
END:DAYLIGHT
BEGIN:STANDARD
TZOFFSETFROM:-0400
TZOFFSETTO:-0500
TZNAME:EST
DTSTART:20301103T060000
END:STANDARD
END:VTIMEZONE
BEGIN:VEVENT
DTSTART;TZID=America/New_York:20290601T130000
DTEND;TZID=America/New_York:20290601T150000
DTSTAMP:20260425T215127
CREATED:20250902T175228Z
LAST-MODIFIED:20250902T175229Z
UID:10000432-1875013200-1875020400@www.darulislah.org
SUMMARY:Jummah
DESCRIPTION:
URL:https://www.darulislah.org/events/jummah-3/2029-06-01/
CATEGORIES:Masjid Events
END:VEVENT
BEGIN:VEVENT
DTSTART;TZID=America/New_York:20290601T170000
DTEND;TZID=America/New_York:20290601T183000
DTSTAMP:20260425T215127
CREATED:20250911T163416Z
LAST-MODIFIED:20250911T163418Z
UID:10002258-1875027600-1875033000@www.darulislah.org
SUMMARY:DI Juniors (Girls)
DESCRIPTION:
URL:https://www.darulislah.org/events/di-juniors-girls-2/2029-06-01/
CATEGORIES:Masjid Events
END:VEVENT
BEGIN:VEVENT
DTSTART;TZID=America/New_York:20290601T190000
DTEND;TZID=America/New_York:20290601T200000
DTSTAMP:20260425T215127
CREATED:20260217T203504Z
LAST-MODIFIED:20260326T145420Z
UID:10001736-1875034800-1875038400@www.darulislah.org
SUMMARY:Sisters' Halaqa
DESCRIPTION:
URL:https://www.darulislah.org/events/sisters-halaqa-2/2029-06-01/
CATEGORIES:Masjid Events
ATTACH;FMTTYPE=image/png:https://www.darulislah.org/wp-content/uploads/2025/09/Sr.-Sherins-Halaqa-Real-Estate-Flyer-11.png
END:VEVENT
BEGIN:VEVENT
DTSTART;TZID=America/New_York:20290602T054500
DTEND;TZID=America/New_York:20290602T183000
DTSTAMP:20260425T215127
CREATED:20260217T203709Z
LAST-MODIFIED:20260326T145434Z
UID:10000693-1875073500-1875119400@www.darulislah.org
SUMMARY:Journey Through the Hadith
DESCRIPTION:
URL:https://www.darulislah.org/events/journey-through-the-hadith-2/2029-06-02/
CATEGORIES:Masjid Events
ATTACH;FMTTYPE=image/png:https://www.darulislah.org/wp-content/uploads/2025/09/Fajr-Khatiras-1.png
END:VEVENT
BEGIN:VEVENT
DTSTART;TZID=America/New_York:20290602T120000
DTEND;TZID=America/New_York:20290602T130000
DTSTAMP:20260425T215127
CREATED:20250902T201934Z
LAST-MODIFIED:20250902T201934Z
UID:10001997-1875096000-1875099600@www.darulislah.org
SUMMARY:Sisters' Tajweed Class
DESCRIPTION:
URL:https://www.darulislah.org/events/sisters-tajweed-class/2029-06-02/
CATEGORIES:Masjid Events
ATTACH;FMTTYPE=image/png:https://www.darulislah.org/wp-content/uploads/2025/09/Sisters-Tajweed-Class-7.png
END:VEVENT
BEGIN:VEVENT
DTSTART;TZID=America/New_York:20290603T054500
DTEND;TZID=America/New_York:20290603T063000
DTSTAMP:20260425T215127
CREATED:20250902T175939Z
LAST-MODIFIED:20250902T180641Z
UID:10000953-1875159900-1875162600@www.darulislah.org
SUMMARY:Journey through the Quran
DESCRIPTION:Fajr Khatirah with Imam Saeed Qureshi
URL:https://www.darulislah.org/events/journey-through-the-quran/2029-06-03/
CATEGORIES:Masjid Events
ATTACH;FMTTYPE=image/png:https://www.darulislah.org/wp-content/uploads/2025/04/Fajr-Khatiras-1.png
END:VEVENT
BEGIN:VEVENT
DTSTART;TZID=America/New_York:20290606T193000
DTEND;TZID=America/New_York:20290606T200000
DTSTAMP:20260425T215127
CREATED:20260217T203400Z
LAST-MODIFIED:20260326T145414Z
UID:10001476-1875468600-1875470400@www.darulislah.org
SUMMARY:Sh. Waleed's Post Maghrib Khatira
DESCRIPTION:
URL:https://www.darulislah.org/events/sh-waleeds-post-maghrib-khatira-2-2/2029-06-06/
CATEGORIES:Masjid Events
ATTACH;FMTTYPE=image/png:https://www.darulislah.org/wp-content/uploads/2025/09/Weekdays-With-Sheikh-2.png
END:VEVENT
BEGIN:VEVENT
DTSTART;TZID=America/New_York:20290608T130000
DTEND;TZID=America/New_York:20290608T150000
DTSTAMP:20260425T215127
CREATED:20250902T175228Z
LAST-MODIFIED:20250902T175229Z
UID:10000433-1875618000-1875625200@www.darulislah.org
SUMMARY:Jummah
DESCRIPTION:
URL:https://www.darulislah.org/events/jummah-3/2029-06-08/
CATEGORIES:Masjid Events
END:VEVENT
BEGIN:VEVENT
DTSTART;TZID=America/New_York:20290608T170000
DTEND;TZID=America/New_York:20290608T183000
DTSTAMP:20260425T215127
CREATED:20250911T163416Z
LAST-MODIFIED:20250911T163418Z
UID:10002259-1875632400-1875637800@www.darulislah.org
SUMMARY:DI Juniors (Girls)
DESCRIPTION:
URL:https://www.darulislah.org/events/di-juniors-girls-2/2029-06-08/
CATEGORIES:Masjid Events
END:VEVENT
BEGIN:VEVENT
DTSTART;TZID=America/New_York:20290608T190000
DTEND;TZID=America/New_York:20290608T200000
DTSTAMP:20260425T215127
CREATED:20260217T203504Z
LAST-MODIFIED:20260326T145420Z
UID:10001737-1875639600-1875643200@www.darulislah.org
SUMMARY:Sisters' Halaqa
DESCRIPTION:
URL:https://www.darulislah.org/events/sisters-halaqa-2/2029-06-08/
CATEGORIES:Masjid Events
ATTACH;FMTTYPE=image/png:https://www.darulislah.org/wp-content/uploads/2025/09/Sr.-Sherins-Halaqa-Real-Estate-Flyer-11.png
END:VEVENT
BEGIN:VEVENT
DTSTART;TZID=America/New_York:20290609T054500
DTEND;TZID=America/New_York:20290609T183000
DTSTAMP:20260425T215127
CREATED:20260217T203709Z
LAST-MODIFIED:20260326T145434Z
UID:10000694-1875678300-1875724200@www.darulislah.org
SUMMARY:Journey Through the Hadith
DESCRIPTION:
URL:https://www.darulislah.org/events/journey-through-the-hadith-2/2029-06-09/
CATEGORIES:Masjid Events
ATTACH;FMTTYPE=image/png:https://www.darulislah.org/wp-content/uploads/2025/09/Fajr-Khatiras-1.png
END:VEVENT
BEGIN:VEVENT
DTSTART;TZID=America/New_York:20290609T120000
DTEND;TZID=America/New_York:20290609T130000
DTSTAMP:20260425T215127
CREATED:20250902T201934Z
LAST-MODIFIED:20250902T201934Z
UID:10001998-1875700800-1875704400@www.darulislah.org
SUMMARY:Sisters' Tajweed Class
DESCRIPTION:
URL:https://www.darulislah.org/events/sisters-tajweed-class/2029-06-09/
CATEGORIES:Masjid Events
ATTACH;FMTTYPE=image/png:https://www.darulislah.org/wp-content/uploads/2025/09/Sisters-Tajweed-Class-7.png
END:VEVENT
BEGIN:VEVENT
DTSTART;TZID=America/New_York:20290610T054500
DTEND;TZID=America/New_York:20290610T063000
DTSTAMP:20260425T215127
CREATED:20250902T175939Z
LAST-MODIFIED:20250902T180641Z
UID:10000954-1875764700-1875767400@www.darulislah.org
SUMMARY:Journey through the Quran
DESCRIPTION:Fajr Khatirah with Imam Saeed Qureshi
URL:https://www.darulislah.org/events/journey-through-the-quran/2029-06-10/
CATEGORIES:Masjid Events
ATTACH;FMTTYPE=image/png:https://www.darulislah.org/wp-content/uploads/2025/04/Fajr-Khatiras-1.png
END:VEVENT
BEGIN:VEVENT
DTSTART;TZID=America/New_York:20290613T193000
DTEND;TZID=America/New_York:20290613T200000
DTSTAMP:20260425T215127
CREATED:20260217T203400Z
LAST-MODIFIED:20260326T145414Z
UID:10001477-1876073400-1876075200@www.darulislah.org
SUMMARY:Sh. Waleed's Post Maghrib Khatira
DESCRIPTION:
URL:https://www.darulislah.org/events/sh-waleeds-post-maghrib-khatira-2-2/2029-06-13/
CATEGORIES:Masjid Events
ATTACH;FMTTYPE=image/png:https://www.darulislah.org/wp-content/uploads/2025/09/Weekdays-With-Sheikh-2.png
END:VEVENT
BEGIN:VEVENT
DTSTART;TZID=America/New_York:20290615T130000
DTEND;TZID=America/New_York:20290615T150000
DTSTAMP:20260425T215127
CREATED:20250902T175228Z
LAST-MODIFIED:20250902T175229Z
UID:10000434-1876222800-1876230000@www.darulislah.org
SUMMARY:Jummah
DESCRIPTION:
URL:https://www.darulislah.org/events/jummah-3/2029-06-15/
CATEGORIES:Masjid Events
END:VEVENT
BEGIN:VEVENT
DTSTART;TZID=America/New_York:20290615T170000
DTEND;TZID=America/New_York:20290615T183000
DTSTAMP:20260425T215127
CREATED:20250911T163416Z
LAST-MODIFIED:20250911T163418Z
UID:10002260-1876237200-1876242600@www.darulislah.org
SUMMARY:DI Juniors (Girls)
DESCRIPTION:
URL:https://www.darulislah.org/events/di-juniors-girls-2/2029-06-15/
CATEGORIES:Masjid Events
END:VEVENT
BEGIN:VEVENT
DTSTART;TZID=America/New_York:20290615T190000
DTEND;TZID=America/New_York:20290615T200000
DTSTAMP:20260425T215127
CREATED:20260217T203504Z
LAST-MODIFIED:20260326T145420Z
UID:10001738-1876244400-1876248000@www.darulislah.org
SUMMARY:Sisters' Halaqa
DESCRIPTION:
URL:https://www.darulislah.org/events/sisters-halaqa-2/2029-06-15/
CATEGORIES:Masjid Events
ATTACH;FMTTYPE=image/png:https://www.darulislah.org/wp-content/uploads/2025/09/Sr.-Sherins-Halaqa-Real-Estate-Flyer-11.png
END:VEVENT
BEGIN:VEVENT
DTSTART;TZID=America/New_York:20290616T054500
DTEND;TZID=America/New_York:20290616T183000
DTSTAMP:20260425T215127
CREATED:20260217T203709Z
LAST-MODIFIED:20260326T145434Z
UID:10000695-1876283100-1876329000@www.darulislah.org
SUMMARY:Journey Through the Hadith
DESCRIPTION:
URL:https://www.darulislah.org/events/journey-through-the-hadith-2/2029-06-16/
CATEGORIES:Masjid Events
ATTACH;FMTTYPE=image/png:https://www.darulislah.org/wp-content/uploads/2025/09/Fajr-Khatiras-1.png
END:VEVENT
BEGIN:VEVENT
DTSTART;TZID=America/New_York:20290616T120000
DTEND;TZID=America/New_York:20290616T130000
DTSTAMP:20260425T215127
CREATED:20250902T201934Z
LAST-MODIFIED:20250902T201934Z
UID:10001999-1876305600-1876309200@www.darulislah.org
SUMMARY:Sisters' Tajweed Class
DESCRIPTION:
URL:https://www.darulislah.org/events/sisters-tajweed-class/2029-06-16/
CATEGORIES:Masjid Events
ATTACH;FMTTYPE=image/png:https://www.darulislah.org/wp-content/uploads/2025/09/Sisters-Tajweed-Class-7.png
END:VEVENT
BEGIN:VEVENT
DTSTART;TZID=America/New_York:20290617T054500
DTEND;TZID=America/New_York:20290617T063000
DTSTAMP:20260425T215127
CREATED:20250902T175939Z
LAST-MODIFIED:20250902T180641Z
UID:10000955-1876369500-1876372200@www.darulislah.org
SUMMARY:Journey through the Quran
DESCRIPTION:Fajr Khatirah with Imam Saeed Qureshi
URL:https://www.darulislah.org/events/journey-through-the-quran/2029-06-17/
CATEGORIES:Masjid Events
ATTACH;FMTTYPE=image/png:https://www.darulislah.org/wp-content/uploads/2025/04/Fajr-Khatiras-1.png
END:VEVENT
BEGIN:VEVENT
DTSTART;TZID=America/New_York:20290620T193000
DTEND;TZID=America/New_York:20290620T200000
DTSTAMP:20260425T215127
CREATED:20260217T203400Z
LAST-MODIFIED:20260326T145414Z
UID:10001478-1876678200-1876680000@www.darulislah.org
SUMMARY:Sh. Waleed's Post Maghrib Khatira
DESCRIPTION:
URL:https://www.darulislah.org/events/sh-waleeds-post-maghrib-khatira-2-2/2029-06-20/
CATEGORIES:Masjid Events
ATTACH;FMTTYPE=image/png:https://www.darulislah.org/wp-content/uploads/2025/09/Weekdays-With-Sheikh-2.png
END:VEVENT
BEGIN:VEVENT
DTSTART;TZID=America/New_York:20290622T130000
DTEND;TZID=America/New_York:20290622T150000
DTSTAMP:20260425T215127
CREATED:20250902T175228Z
LAST-MODIFIED:20250902T175229Z
UID:10000435-1876827600-1876834800@www.darulislah.org
SUMMARY:Jummah
DESCRIPTION:
URL:https://www.darulislah.org/events/jummah-3/2029-06-22/
CATEGORIES:Masjid Events
END:VEVENT
BEGIN:VEVENT
DTSTART;TZID=America/New_York:20290622T170000
DTEND;TZID=America/New_York:20290622T183000
DTSTAMP:20260425T215127
CREATED:20250911T163416Z
LAST-MODIFIED:20250911T163418Z
UID:10002261-1876842000-1876847400@www.darulislah.org
SUMMARY:DI Juniors (Girls)
DESCRIPTION:
URL:https://www.darulislah.org/events/di-juniors-girls-2/2029-06-22/
CATEGORIES:Masjid Events
END:VEVENT
BEGIN:VEVENT
DTSTART;TZID=America/New_York:20290622T190000
DTEND;TZID=America/New_York:20290622T200000
DTSTAMP:20260425T215127
CREATED:20260217T203504Z
LAST-MODIFIED:20260326T145420Z
UID:10001739-1876849200-1876852800@www.darulislah.org
SUMMARY:Sisters' Halaqa
DESCRIPTION:
URL:https://www.darulislah.org/events/sisters-halaqa-2/2029-06-22/
CATEGORIES:Masjid Events
ATTACH;FMTTYPE=image/png:https://www.darulislah.org/wp-content/uploads/2025/09/Sr.-Sherins-Halaqa-Real-Estate-Flyer-11.png
END:VEVENT
BEGIN:VEVENT
DTSTART;TZID=America/New_York:20290623T054500
DTEND;TZID=America/New_York:20290623T183000
DTSTAMP:20260425T215127
CREATED:20260217T203709Z
LAST-MODIFIED:20260326T145434Z
UID:10000696-1876887900-1876933800@www.darulislah.org
SUMMARY:Journey Through the Hadith
DESCRIPTION:
URL:https://www.darulislah.org/events/journey-through-the-hadith-2/2029-06-23/
CATEGORIES:Masjid Events
ATTACH;FMTTYPE=image/png:https://www.darulislah.org/wp-content/uploads/2025/09/Fajr-Khatiras-1.png
END:VEVENT
BEGIN:VEVENT
DTSTART;TZID=America/New_York:20290623T120000
DTEND;TZID=America/New_York:20290623T130000
DTSTAMP:20260425T215127
CREATED:20250902T201934Z
LAST-MODIFIED:20250902T201934Z
UID:10002000-1876910400-1876914000@www.darulislah.org
SUMMARY:Sisters' Tajweed Class
DESCRIPTION:
URL:https://www.darulislah.org/events/sisters-tajweed-class/2029-06-23/
CATEGORIES:Masjid Events
ATTACH;FMTTYPE=image/png:https://www.darulislah.org/wp-content/uploads/2025/09/Sisters-Tajweed-Class-7.png
END:VEVENT
BEGIN:VEVENT
DTSTART;TZID=America/New_York:20290624T054500
DTEND;TZID=America/New_York:20290624T063000
DTSTAMP:20260425T215127
CREATED:20250902T175939Z
LAST-MODIFIED:20250902T180641Z
UID:10000956-1876974300-1876977000@www.darulislah.org
SUMMARY:Journey through the Quran
DESCRIPTION:Fajr Khatirah with Imam Saeed Qureshi
URL:https://www.darulislah.org/events/journey-through-the-quran/2029-06-24/
CATEGORIES:Masjid Events
ATTACH;FMTTYPE=image/png:https://www.darulislah.org/wp-content/uploads/2025/04/Fajr-Khatiras-1.png
END:VEVENT
BEGIN:VEVENT
DTSTART;TZID=America/New_York:20290627T193000
DTEND;TZID=America/New_York:20290627T200000
DTSTAMP:20260425T215127
CREATED:20260217T203400Z
LAST-MODIFIED:20260326T145414Z
UID:10001479-1877283000-1877284800@www.darulislah.org
SUMMARY:Sh. Waleed's Post Maghrib Khatira
DESCRIPTION:
URL:https://www.darulislah.org/events/sh-waleeds-post-maghrib-khatira-2-2/2029-06-27/
CATEGORIES:Masjid Events
ATTACH;FMTTYPE=image/png:https://www.darulislah.org/wp-content/uploads/2025/09/Weekdays-With-Sheikh-2.png
END:VEVENT
BEGIN:VEVENT
DTSTART;TZID=America/New_York:20290629T130000
DTEND;TZID=America/New_York:20290629T150000
DTSTAMP:20260425T215127
CREATED:20250902T175228Z
LAST-MODIFIED:20250902T175229Z
UID:10000436-1877432400-1877439600@www.darulislah.org
SUMMARY:Jummah
DESCRIPTION:
URL:https://www.darulislah.org/events/jummah-3/2029-06-29/
CATEGORIES:Masjid Events
END:VEVENT
BEGIN:VEVENT
DTSTART;TZID=America/New_York:20290629T170000
DTEND;TZID=America/New_York:20290629T183000
DTSTAMP:20260425T215127
CREATED:20250911T163416Z
LAST-MODIFIED:20250911T163418Z
UID:10002262-1877446800-1877452200@www.darulislah.org
SUMMARY:DI Juniors (Girls)
DESCRIPTION:
URL:https://www.darulislah.org/events/di-juniors-girls-2/2029-06-29/
CATEGORIES:Masjid Events
END:VEVENT
END:VCALENDAR