BEGIN:VCALENDAR
VERSION:2.0
PRODID:-//Darul Islah | Muslim Society of Bergen County - ECPv6.15.20//NONSGML v1.0//EN
CALSCALE:GREGORIAN
METHOD:PUBLISH
X-WR-CALNAME:Darul Islah | Muslim Society of Bergen County
X-ORIGINAL-URL:https://www.darulislah.org
X-WR-CALDESC:Events for Darul Islah | Muslim Society of Bergen County
REFRESH-INTERVAL;VALUE=DURATION:PT1H
X-Robots-Tag:noindex
X-PUBLISHED-TTL:PT1H
BEGIN:VTIMEZONE
TZID:America/New_York
BEGIN:DAYLIGHT
TZOFFSETFROM:-0500
TZOFFSETTO:-0400
TZNAME:EDT
DTSTART:20240310T070000
END:DAYLIGHT
BEGIN:STANDARD
TZOFFSETFROM:-0400
TZOFFSETTO:-0500
TZNAME:EST
DTSTART:20241103T060000
END:STANDARD
BEGIN:DAYLIGHT
TZOFFSETFROM:-0500
TZOFFSETTO:-0400
TZNAME:EDT
DTSTART:20250309T070000
END:DAYLIGHT
BEGIN:STANDARD
TZOFFSETFROM:-0400
TZOFFSETTO:-0500
TZNAME:EST
DTSTART:20251102T060000
END:STANDARD
BEGIN:DAYLIGHT
TZOFFSETFROM:-0500
TZOFFSETTO:-0400
TZNAME:EDT
DTSTART:20260308T070000
END:DAYLIGHT
BEGIN:STANDARD
TZOFFSETFROM:-0400
TZOFFSETTO:-0500
TZNAME:EST
DTSTART:20261101T060000
END:STANDARD
END:VTIMEZONE
BEGIN:VEVENT
DTSTART;TZID=America/New_York:20251031T190000
DTEND;TZID=America/New_York:20251031T200000
DTSTAMP:20260423T215435
CREATED:20250902T201159Z
LAST-MODIFIED:20250902T201159Z
UID:10001549-1761937200-1761940800@www.darulislah.org
SUMMARY:Sisters' Halaqa
DESCRIPTION:
URL:https://www.darulislah.org/events/sisters-halaqa/2025-10-31/
CATEGORIES:Masjid Events
ATTACH;FMTTYPE=image/png:https://www.darulislah.org/wp-content/uploads/2025/09/Sr.-Sherins-Halaqa-Real-Estate-Flyer-11.png
END:VEVENT
BEGIN:VEVENT
DTSTART;TZID=America/New_York:20251031T180000
DTEND;TZID=America/New_York:20251031T200000
DTSTAMP:20260423T215435
CREATED:20251013T154042Z
LAST-MODIFIED:20251013T154427Z
UID:10002353-1761933600-1761940800@www.darulislah.org
SUMMARY:Light Over Fright!
DESCRIPTION:Light Over Fright! 🌙\nJoin us for a fun\, faith-filled\, and family-friendly evening at Darul Islah. Skip the costumes and enjoy games\, a discussion\, and dinner!\n🗓️ Friday\, October 31st | 6 PM – 8 PM\nRegister now!
URL:https://www.darulislah.org/events/halloween2025/
CATEGORIES:Masjid Events
ATTACH;FMTTYPE=image/png:https://www.darulislah.org/wp-content/uploads/2025/10/Halloween-Event-2025-Flyer.png
END:VEVENT
BEGIN:VEVENT
DTSTART;TZID=America/New_York:20251031T170000
DTEND;TZID=America/New_York:20251031T183000
DTSTAMP:20260423T215435
CREATED:20250911T163416Z
LAST-MODIFIED:20250911T163418Z
UID:10002071-1761930000-1761935400@www.darulislah.org
SUMMARY:DI Juniors (Girls)
DESCRIPTION:
URL:https://www.darulislah.org/events/di-juniors-girls-2/2025-10-31/
CATEGORIES:Masjid Events
END:VEVENT
BEGIN:VEVENT
DTSTART;TZID=America/New_York:20251031T130000
DTEND;TZID=America/New_York:20251031T150000
DTSTAMP:20260423T215435
CREATED:20251029T030937Z
LAST-MODIFIED:20251029T030943Z
UID:10000245-1761915600-1761922800@www.darulislah.org
SUMMARY:Jummah
DESCRIPTION:
URL:https://www.darulislah.org/events/jummah-3-7/
CATEGORIES:Masjid Events
ATTACH;FMTTYPE=image/png:https://www.darulislah.org/wp-content/uploads/2025/10/Jumuah-47-1.png
END:VEVENT
BEGIN:VEVENT
DTSTART;TZID=America/New_York:20251029T193000
DTEND;TZID=America/New_York:20251029T200000
DTSTAMP:20260423T215435
CREATED:20251007T164318Z
LAST-MODIFIED:20251007T164324Z
UID:10001288-1761766200-1761768000@www.darulislah.org
SUMMARY:Sh. Waleed's Post Maghrib Khatira
DESCRIPTION:
URL:https://www.darulislah.org/events/sh-waleeds-post-maghrib-khatira-2/2025-10-29/
CATEGORIES:Masjid Events
ATTACH;FMTTYPE=image/png:https://www.darulislah.org/wp-content/uploads/2025/09/Weekdays-With-Sheikh-2.png
END:VEVENT
BEGIN:VEVENT
DTSTART;TZID=America/New_York:20251029T180000
DTEND;TZID=America/New_York:20251029T200000
DTSTAMP:20260423T215435
CREATED:20251010T161538Z
LAST-MODIFIED:20251010T162249Z
UID:10002352-1761760800-1761768000@www.darulislah.org
SUMMARY:The Syrian Story: Past\, Present & Future
DESCRIPTION:Featuring renowned speaker\, Br. Sami Hamdi. RSVP here!
URL:https://www.darulislah.org/events/thesyrianstory/
CATEGORIES:Masjid Events
ATTACH;FMTTYPE=image/jpeg:https://www.darulislah.org/wp-content/uploads/2025/10/WhatsApp-Image-2025-10-07-at-6.17.19-PM.jpeg
END:VEVENT
BEGIN:VEVENT
DTSTART;TZID=America/New_York:20251027T190000
DTEND;TZID=America/New_York:20251027T200000
DTSTAMP:20260423T215435
CREATED:20250902T195429Z
LAST-MODIFIED:20251007T164202Z
UID:10001026-1761591600-1761595200@www.darulislah.org
SUMMARY:40 Hadith for Youth with Sh. Waleed
DESCRIPTION:
URL:https://www.darulislah.org/events/40hadith/2025-10-27/
CATEGORIES:Masjid Events
ATTACH;FMTTYPE=image/png:https://www.darulislah.org/wp-content/uploads/2025/09/Weekdays-With-Sheikh-2.png
END:VEVENT
BEGIN:VEVENT
DTSTART;TZID=America/New_York:20251026T133000
DTEND;TZID=America/New_York:20251026T150000
DTSTAMP:20260423T215435
CREATED:20251020T194119Z
LAST-MODIFIED:20251020T194121Z
UID:10002357-1761485400-1761490800@www.darulislah.org
SUMMARY:Halal Investments & Islamic Finance Seminar
DESCRIPTION:
URL:https://www.darulislah.org/events/halal-investments-islamic-finance-seminar/
CATEGORIES:Masjid Events
ATTACH;FMTTYPE=image/jpeg:https://www.darulislah.org/wp-content/uploads/2025/10/9d9e298f-59da-4a25-8660-93ed7553eab7-1.jpeg
END:VEVENT
BEGIN:VEVENT
DTSTART;TZID=America/New_York:20251026T054500
DTEND;TZID=America/New_York:20251026T063000
DTSTAMP:20260423T215435
CREATED:20250902T175939Z
LAST-MODIFIED:20250902T180641Z
UID:10000765-1761457500-1761460200@www.darulislah.org
SUMMARY:Journey through the Quran
DESCRIPTION:Fajr Khatirah with Imam Saeed Qureshi
URL:https://www.darulislah.org/events/journey-through-the-quran/2025-10-26/
CATEGORIES:Masjid Events
ATTACH;FMTTYPE=image/png:https://www.darulislah.org/wp-content/uploads/2025/04/Fajr-Khatiras-1.png
END:VEVENT
BEGIN:VEVENT
DTSTART;TZID=America/New_York:20251025T120000
DTEND;TZID=America/New_York:20251025T130000
DTSTAMP:20260423T215435
CREATED:20250902T201934Z
LAST-MODIFIED:20250902T201934Z
UID:10001809-1761393600-1761397200@www.darulislah.org
SUMMARY:Sisters' Tajweed Class
DESCRIPTION:
URL:https://www.darulislah.org/events/sisters-tajweed-class/2025-10-25/
CATEGORIES:Masjid Events
ATTACH;FMTTYPE=image/png:https://www.darulislah.org/wp-content/uploads/2025/09/Sisters-Tajweed-Class-7.png
END:VEVENT
BEGIN:VEVENT
DTSTART;TZID=America/New_York:20251025T054500
DTEND;TZID=America/New_York:20251025T183000
DTSTAMP:20260423T215435
CREATED:20250902T180345Z
LAST-MODIFIED:20250902T194454Z
UID:10000505-1761371100-1761417000@www.darulislah.org
SUMMARY:Journey Through the Hadith
DESCRIPTION:
URL:https://www.darulislah.org/events/journey-through-the-hadith/2025-10-25/
CATEGORIES:Masjid Events
ATTACH;FMTTYPE=image/png:https://www.darulislah.org/wp-content/uploads/2025/09/Fajr-Khatiras-1.png
END:VEVENT
BEGIN:VEVENT
DTSTART;TZID=America/New_York:20251024T190000
DTEND;TZID=America/New_York:20251024T200000
DTSTAMP:20260423T215435
CREATED:20251010T160911Z
LAST-MODIFIED:20251010T160924Z
UID:10002350-1761332400-1761336000@www.darulislah.org
SUMMARY:Understanding Medicare and Health Insurances 101
DESCRIPTION:Your guide to health insurances made simple. For seniors\, families\, and caregivers. Presented by Br. Maaz Enver\, Licensed Health Insurance Agent for HealthFirst Insurance Group.
URL:https://www.darulislah.org/events/understanding-medicare-and-health-insurances-101/
CATEGORIES:Masjid Events
ATTACH;FMTTYPE=image/jpeg:https://www.darulislah.org/wp-content/uploads/2025/10/472a8aac-896a-40d9-92f7-dbf70d721875.jpeg
END:VEVENT
BEGIN:VEVENT
DTSTART;TZID=America/New_York:20251024T190000
DTEND;TZID=America/New_York:20251024T200000
DTSTAMP:20260423T215435
CREATED:20250902T201159Z
LAST-MODIFIED:20250902T201159Z
UID:10001548-1761332400-1761336000@www.darulislah.org
SUMMARY:Sisters' Halaqa
DESCRIPTION:
URL:https://www.darulislah.org/events/sisters-halaqa/2025-10-24/
CATEGORIES:Masjid Events
ATTACH;FMTTYPE=image/png:https://www.darulislah.org/wp-content/uploads/2025/09/Sr.-Sherins-Halaqa-Real-Estate-Flyer-11.png
END:VEVENT
BEGIN:VEVENT
DTSTART;TZID=America/New_York:20251024T170000
DTEND;TZID=America/New_York:20251024T183000
DTSTAMP:20260423T215435
CREATED:20251020T193016Z
LAST-MODIFIED:20251020T193022Z
UID:10002070-1761325200-1761330600@www.darulislah.org
SUMMARY:DI Juniors (Girls)
DESCRIPTION:
URL:https://www.darulislah.org/events/di-juniors-girls-2-7/
CATEGORIES:Masjid Events
ATTACH;FMTTYPE=image/jpeg:https://www.darulislah.org/wp-content/uploads/2025/10/6FCF565D-B009-44EA-B94B-1171698015CF-scaled.jpeg
END:VEVENT
BEGIN:VEVENT
DTSTART;TZID=America/New_York:20251024T130000
DTEND;TZID=America/New_York:20251024T150000
DTSTAMP:20260423T215435
CREATED:20251023T144425Z
LAST-MODIFIED:20251029T031058Z
UID:10000244-1761310800-1761318000@www.darulislah.org
SUMMARY:Jummah
DESCRIPTION:
URL:https://www.darulislah.org/events/jummah-3-6/
CATEGORIES:Masjid Events
ATTACH;FMTTYPE=image/jpeg:https://www.darulislah.org/wp-content/uploads/2025/10/4FCF6D3C-C0EC-4E81-A5A5-B231D7696B57.jpeg
END:VEVENT
BEGIN:VEVENT
DTSTART;TZID=America/New_York:20251022T193000
DTEND;TZID=America/New_York:20251022T200000
DTSTAMP:20260423T215435
CREATED:20251007T164318Z
LAST-MODIFIED:20251007T164324Z
UID:10001287-1761161400-1761163200@www.darulislah.org
SUMMARY:Sh. Waleed's Post Maghrib Khatira
DESCRIPTION:
URL:https://www.darulislah.org/events/sh-waleeds-post-maghrib-khatira-2/2025-10-22/
CATEGORIES:Masjid Events
ATTACH;FMTTYPE=image/png:https://www.darulislah.org/wp-content/uploads/2025/09/Weekdays-With-Sheikh-2.png
END:VEVENT
BEGIN:VEVENT
DTSTART;TZID=America/New_York:20251020T190000
DTEND;TZID=America/New_York:20251020T200000
DTSTAMP:20260423T215435
CREATED:20250902T195429Z
LAST-MODIFIED:20251007T164202Z
UID:10001025-1760986800-1760990400@www.darulislah.org
SUMMARY:40 Hadith for Youth with Sh. Waleed
DESCRIPTION:
URL:https://www.darulislah.org/events/40hadith/2025-10-20/
CATEGORIES:Masjid Events
ATTACH;FMTTYPE=image/png:https://www.darulislah.org/wp-content/uploads/2025/09/Weekdays-With-Sheikh-2.png
END:VEVENT
BEGIN:VEVENT
DTSTART;TZID=America/New_York:20251019T183000
DTEND;TZID=America/New_York:20251019T203000
DTSTAMP:20260423T215435
CREATED:20251007T204634Z
LAST-MODIFIED:20251007T205741Z
UID:10002348-1760898600-1760905800@www.darulislah.org
SUMMARY:The Prophetic Model: Serving Humanity
DESCRIPTION:In collaboration with ICNA North Jersey\, join us for an inspiring evening on The Prophetic Model: Serving Humanity featuring Imam Siraj Wahhaj and Chaplain Kaiser Aslam.🗓 Sunday\, October 19th\, 2025🕕 After Maghrib (6:30 PM)📍 Darul Islah Masjid\, 320 Fabry Terrace\, Teaneck\, NJ🍽 Dinner will be served
URL:https://www.darulislah.org/events/thepropheticmodel/
CATEGORIES:Masjid Events
ATTACH;FMTTYPE=image/jpeg:https://www.darulislah.org/wp-content/uploads/2025/10/WhatsApp-Image-2025-10-04-at-9.57.26-PM.jpeg
END:VEVENT
BEGIN:VEVENT
DTSTART;TZID=America/New_York:20251019T054500
DTEND;TZID=America/New_York:20251019T063000
DTSTAMP:20260423T215435
CREATED:20250902T175939Z
LAST-MODIFIED:20250902T180641Z
UID:10000764-1760852700-1760855400@www.darulislah.org
SUMMARY:Journey through the Quran
DESCRIPTION:Fajr Khatirah with Imam Saeed Qureshi
URL:https://www.darulislah.org/events/journey-through-the-quran/2025-10-19/
CATEGORIES:Masjid Events
ATTACH;FMTTYPE=image/png:https://www.darulislah.org/wp-content/uploads/2025/04/Fajr-Khatiras-1.png
END:VEVENT
BEGIN:VEVENT
DTSTART;TZID=America/New_York:20251018T120000
DTEND;TZID=America/New_York:20251018T130000
DTSTAMP:20260423T215435
CREATED:20250902T201934Z
LAST-MODIFIED:20250902T201934Z
UID:10001808-1760788800-1760792400@www.darulislah.org
SUMMARY:Sisters' Tajweed Class
DESCRIPTION:
URL:https://www.darulislah.org/events/sisters-tajweed-class/2025-10-18/
CATEGORIES:Masjid Events
ATTACH;FMTTYPE=image/png:https://www.darulislah.org/wp-content/uploads/2025/09/Sisters-Tajweed-Class-7.png
END:VEVENT
BEGIN:VEVENT
DTSTART;TZID=America/New_York:20251018T110000
DTEND;TZID=America/New_York:20251018T170000
DTSTAMP:20260423T215435
CREATED:20251007T204736Z
LAST-MODIFIED:20251007T210050Z
UID:10002349-1760785200-1760806800@www.darulislah.org
SUMMARY:5K for Gaza
DESCRIPTION:5K for Gaza\nJoin us on Saturday\, October 18\, 2025 at 11 AM at Votee Park for a 5K run to raise awareness and support for Gaza.\nBring your family\, walk or run\, and stand together for a cause that matters! \nRefreshments • Firsthand Accounts from Gaza • Charity Auctions \n🎟 Get your tickets here: https://form.jotform.com/252699277583072 [Scan QR code in flyer]\nAll proceeds go through Helping Hand for Relief & Development (HHRD).
URL:https://www.darulislah.org/events/gaza5k/
LOCATION:Votee Park\, 250 Colonial Ct\, Teaneck\, New Jersey\, NJ\, 07666\, United States
CATEGORIES:Masjid Events
ATTACH;FMTTYPE=image/png:https://www.darulislah.org/wp-content/uploads/2025/10/YOUNG-MUSLIMS-TEANECK.png
END:VEVENT
BEGIN:VEVENT
DTSTART;TZID=America/New_York:20251018T054500
DTEND;TZID=America/New_York:20251018T183000
DTSTAMP:20260423T215435
CREATED:20250902T180345Z
LAST-MODIFIED:20250902T194454Z
UID:10000504-1760766300-1760812200@www.darulislah.org
SUMMARY:Journey Through the Hadith
DESCRIPTION:
URL:https://www.darulislah.org/events/journey-through-the-hadith/2025-10-18/
CATEGORIES:Masjid Events
ATTACH;FMTTYPE=image/png:https://www.darulislah.org/wp-content/uploads/2025/09/Fajr-Khatiras-1.png
END:VEVENT
BEGIN:VEVENT
DTSTART;TZID=America/New_York:20251017T190000
DTEND;TZID=America/New_York:20251017T200000
DTSTAMP:20260423T215435
CREATED:20250902T201159Z
LAST-MODIFIED:20250902T201159Z
UID:10001547-1760727600-1760731200@www.darulislah.org
SUMMARY:Sisters' Halaqa
DESCRIPTION:
URL:https://www.darulislah.org/events/sisters-halaqa/2025-10-17/
CATEGORIES:Masjid Events
ATTACH;FMTTYPE=image/png:https://www.darulislah.org/wp-content/uploads/2025/09/Sr.-Sherins-Halaqa-Real-Estate-Flyer-11.png
END:VEVENT
BEGIN:VEVENT
DTSTART;TZID=America/New_York:20251017T170000
DTEND;TZID=America/New_York:20251017T183000
DTSTAMP:20260423T215435
CREATED:20251013T184423Z
LAST-MODIFIED:20251013T184429Z
UID:10002069-1760720400-1760725800@www.darulislah.org
SUMMARY:DI Juniors (Girls)
DESCRIPTION:DIJ Presents: Air Dry Clay Workshop! \nDIJ invites girls (ages 9-12) to a Halaqa on Aisha (R) followed by an Air Dry Clay activity this Friday\, 10/17 at Darul Islah (5:00 PM – 6:30 PM). \nRSVP is a must! Secure your spot here: reg link: https://docs.google.com/forms/d/e/1FAIpQLSdTG5PwMTML4jBqj2YE9hFLLMZlMH-DaiKJykFY3-pyr-RhWw/viewform \nDetails on the flyer.
URL:https://www.darulislah.org/events/di-juniors-girls-2-6/
CATEGORIES:Masjid Events
ATTACH;FMTTYPE=image/jpeg:https://www.darulislah.org/wp-content/uploads/2025/09/WhatsApp-Image-2025-10-13-at-2.13.00-PM.jpeg
END:VEVENT
BEGIN:VEVENT
DTSTART;TZID=America/New_York:20251017T130000
DTEND;TZID=America/New_York:20251017T150000
DTSTAMP:20260423T215435
CREATED:20250902T175228Z
LAST-MODIFIED:20250902T175229Z
UID:10000243-1760706000-1760713200@www.darulislah.org
SUMMARY:Jummah
DESCRIPTION:
URL:https://www.darulislah.org/events/jummah-3/2025-10-17/
CATEGORIES:Masjid Events
END:VEVENT
BEGIN:VEVENT
DTSTART;TZID=America/New_York:20251015T193000
DTEND;TZID=America/New_York:20251015T200000
DTSTAMP:20260423T215436
CREATED:20251007T164318Z
LAST-MODIFIED:20251007T164324Z
UID:10001286-1760556600-1760558400@www.darulislah.org
SUMMARY:Sh. Waleed's Post Maghrib Khatira
DESCRIPTION:
URL:https://www.darulislah.org/events/sh-waleeds-post-maghrib-khatira-2/2025-10-15/
CATEGORIES:Masjid Events
ATTACH;FMTTYPE=image/png:https://www.darulislah.org/wp-content/uploads/2025/09/Weekdays-With-Sheikh-2.png
END:VEVENT
BEGIN:VEVENT
DTSTART;TZID=America/New_York:20251013T190000
DTEND;TZID=America/New_York:20251013T200000
DTSTAMP:20260423T215436
CREATED:20250902T195429Z
LAST-MODIFIED:20251007T164202Z
UID:10001024-1760382000-1760385600@www.darulislah.org
SUMMARY:40 Hadith for Youth with Sh. Waleed
DESCRIPTION:
URL:https://www.darulislah.org/events/40hadith/2025-10-13/
CATEGORIES:Masjid Events
ATTACH;FMTTYPE=image/png:https://www.darulislah.org/wp-content/uploads/2025/09/Weekdays-With-Sheikh-2.png
END:VEVENT
BEGIN:VEVENT
DTSTART;TZID=America/New_York:20251012T054500
DTEND;TZID=America/New_York:20251012T063000
DTSTAMP:20260423T215436
CREATED:20250902T175939Z
LAST-MODIFIED:20250902T180641Z
UID:10000763-1760247900-1760250600@www.darulislah.org
SUMMARY:Journey through the Quran
DESCRIPTION:Fajr Khatirah with Imam Saeed Qureshi
URL:https://www.darulislah.org/events/journey-through-the-quran/2025-10-12/
CATEGORIES:Masjid Events
ATTACH;FMTTYPE=image/png:https://www.darulislah.org/wp-content/uploads/2025/04/Fajr-Khatiras-1.png
END:VEVENT
BEGIN:VEVENT
DTSTART;TZID=America/New_York:20251011T120000
DTEND;TZID=America/New_York:20251011T130000
DTSTAMP:20260423T215436
CREATED:20250902T201934Z
LAST-MODIFIED:20250902T201934Z
UID:10001807-1760184000-1760187600@www.darulislah.org
SUMMARY:Sisters' Tajweed Class
DESCRIPTION:
URL:https://www.darulislah.org/events/sisters-tajweed-class/2025-10-11/
CATEGORIES:Masjid Events
ATTACH;FMTTYPE=image/png:https://www.darulislah.org/wp-content/uploads/2025/09/Sisters-Tajweed-Class-7.png
END:VEVENT
BEGIN:VEVENT
DTSTART;TZID=America/New_York:20251011T054500
DTEND;TZID=America/New_York:20251011T183000
DTSTAMP:20260423T215436
CREATED:20250902T180345Z
LAST-MODIFIED:20250902T194454Z
UID:10000503-1760161500-1760207400@www.darulislah.org
SUMMARY:Journey Through the Hadith
DESCRIPTION:
URL:https://www.darulislah.org/events/journey-through-the-hadith/2025-10-11/
CATEGORIES:Masjid Events
ATTACH;FMTTYPE=image/png:https://www.darulislah.org/wp-content/uploads/2025/09/Fajr-Khatiras-1.png
END:VEVENT
END:VCALENDAR