BEGIN:VCALENDAR
VERSION:2.0
PRODID:-//Darul Islah | Muslim Society of Bergen County - ECPv6.15.20//NONSGML v1.0//EN
CALSCALE:GREGORIAN
METHOD:PUBLISH
X-WR-CALNAME:Darul Islah | Muslim Society of Bergen County
X-ORIGINAL-URL:https://www.darulislah.org
X-WR-CALDESC:Events for Darul Islah | Muslim Society of Bergen County
REFRESH-INTERVAL;VALUE=DURATION:PT1H
X-Robots-Tag:noindex
X-PUBLISHED-TTL:PT1H
BEGIN:VTIMEZONE
TZID:America/New_York
BEGIN:DAYLIGHT
TZOFFSETFROM:-0500
TZOFFSETTO:-0400
TZNAME:EDT
DTSTART:20240310T070000
END:DAYLIGHT
BEGIN:STANDARD
TZOFFSETFROM:-0400
TZOFFSETTO:-0500
TZNAME:EST
DTSTART:20241103T060000
END:STANDARD
BEGIN:DAYLIGHT
TZOFFSETFROM:-0500
TZOFFSETTO:-0400
TZNAME:EDT
DTSTART:20250309T070000
END:DAYLIGHT
BEGIN:STANDARD
TZOFFSETFROM:-0400
TZOFFSETTO:-0500
TZNAME:EST
DTSTART:20251102T060000
END:STANDARD
BEGIN:DAYLIGHT
TZOFFSETFROM:-0500
TZOFFSETTO:-0400
TZNAME:EDT
DTSTART:20260308T070000
END:DAYLIGHT
BEGIN:STANDARD
TZOFFSETFROM:-0400
TZOFFSETTO:-0500
TZNAME:EST
DTSTART:20261101T060000
END:STANDARD
END:VTIMEZONE
BEGIN:VEVENT
DTSTART;TZID=America/New_York:20250830T133000
DTEND;TZID=America/New_York:20250830T150000
DTSTAMP:20260424T012614
CREATED:20250826T213259Z
LAST-MODIFIED:20250826T213915Z
UID:10000235-1756560600-1756566000@www.darulislah.org
SUMMARY:College Workshop
DESCRIPTION:Darul Islah invites all parents and students to join Salman Khan — Founder of Hidayah Services\, Co-Founder of Muslim Campus Life\, Stanford Admissions Reader\, and Harvard PhD student — for insights on the college application process\, financial aid\,\nand college life expectations.
URL:https://www.darulislah.org/events/college-workshop/
CATEGORIES:Masjid Events
ATTACH;FMTTYPE=image/png:https://www.darulislah.org/wp-content/uploads/2025/08/College-Workshop-Flyer-3.png
END:VEVENT
BEGIN:VEVENT
DTSTART;TZID=America/New_York:20250829T130000
DTEND;TZID=America/New_York:20250829T150000
DTSTAMP:20260424T012614
CREATED:20250826T222107Z
LAST-MODIFIED:20250826T222107Z
UID:10000236-1756472400-1756479600@www.darulislah.org
SUMMARY:Jummah
DESCRIPTION:
URL:https://www.darulislah.org/events/jummah/
CATEGORIES:Masjid Events
ATTACH;FMTTYPE=image/png:https://www.darulislah.org/wp-content/uploads/2025/08/Jumuah-30.png
END:VEVENT
BEGIN:VEVENT
DTSTART;TZID=America/New_York:20250817T000000
DTEND;TZID=America/New_York:20250831T000000
DTSTAMP:20260424T012614
CREATED:20250826T171657Z
LAST-MODIFIED:20250826T171756Z
UID:10000234-1755388800-1756598400@www.darulislah.org
SUMMARY:Summer Break 2 (Hifz)
DESCRIPTION:
URL:https://www.darulislah.org/events/summer-break-2-hifz/
CATEGORIES:Hifz & Crescent Calendar
END:VEVENT
BEGIN:VEVENT
DTSTART;TZID=America/New_York:20250815T180000
DTEND;TZID=America/New_York:20250817T170000
DTSTAMP:20260424T012614
CREATED:20250806T163435Z
LAST-MODIFIED:20250822T041043Z
UID:10000207-1755280800-1755450000@www.darulislah.org
SUMMARY:Proofs of Islam: Taking on the Isms
DESCRIPTION:PROOFS OF ISLAM: TAKING ON THE ISMS \nA 3-day intensive with Mufti Tofael Nuruddin tackling ideologies that challenge our faith. \nAugust 15–17\, 2025 • Darul Islah \nSee the full schedule and topics above! Each session includes Q&A and breaks. \nRegister here: https://forms.gle/k9PmEHcm1txXc3Cr6
URL:https://www.darulislah.org/events/proofsofislam/
CATEGORIES:Masjid Events
ATTACH;FMTTYPE=image/jpeg:https://www.darulislah.org/wp-content/uploads/2025/08/Intensive-Flyer.jpg
END:VEVENT
BEGIN:VEVENT
DTSTART;TZID=America/New_York:20250721T103000
DTEND;TZID=America/New_York:20250721T113000
DTSTAMP:20260424T012614
CREATED:20250512T190916Z
LAST-MODIFIED:20250822T041043Z
UID:10000200-1753093800-1753097400@www.darulislah.org
SUMMARY:Mommy and Me
DESCRIPTION:Join us at Darul Islah for our mommy and me program!
URL:https://www.darulislah.org/events/mommy-and-me/
CATEGORIES:Masjid Events
ATTACH;FMTTYPE=image/jpeg:https://www.darulislah.org/wp-content/uploads/2025/04/Mommy-and-me.jpeg
END:VEVENT
BEGIN:VEVENT
DTSTART;TZID=America/New_York:20250625T000000
DTEND;TZID=America/New_York:20250703T000000
DTSTAMP:20260424T012614
CREATED:20250826T171656Z
LAST-MODIFIED:20250826T171756Z
UID:10000233-1750809600-1751500800@www.darulislah.org
SUMMARY:Summer Break 1 (Hifz)
DESCRIPTION:
URL:https://www.darulislah.org/events/summer-break-1-hifz/
CATEGORIES:Hifz & Crescent Calendar
END:VEVENT
BEGIN:VEVENT
DTSTART;TZID=America/New_York:20250624T000000
DTEND;TZID=America/New_York:20250624T000000
DTSTAMP:20260424T012614
CREATED:20250826T171639Z
LAST-MODIFIED:20250826T171756Z
UID:10000232-1750723200-1750723200@www.darulislah.org
SUMMARY:Last Day of School
DESCRIPTION:
URL:https://www.darulislah.org/events/last-day-of-school-2/
CATEGORIES:Hifz & Crescent Calendar
END:VEVENT
BEGIN:VEVENT
DTSTART;TZID=America/New_York:20250527T000000
DTEND;TZID=America/New_York:20250528T000000
DTSTAMP:20260424T012614
CREATED:20250826T171639Z
LAST-MODIFIED:20250826T171756Z
UID:10000231-1748304000-1748390400@www.darulislah.org
SUMMARY:Eid Ul Adha - No School
DESCRIPTION:
URL:https://www.darulislah.org/events/eid-ul-adha-no-school/
CATEGORIES:Hifz & Crescent Calendar
END:VEVENT
BEGIN:VEVENT
DTSTART;TZID=America/New_York:20250512T000000
DTEND;TZID=America/New_York:20250514T000000
DTSTAMP:20260424T012614
CREATED:20250826T171639Z
LAST-MODIFIED:20250826T171756Z
UID:10000230-1747008000-1747180800@www.darulislah.org
SUMMARY:Terra Nova Testing
DESCRIPTION:
URL:https://www.darulislah.org/events/terra-nova-testing/
CATEGORIES:Hifz & Crescent Calendar
END:VEVENT
BEGIN:VEVENT
DTSTART;TZID=America/New_York:20250416T000000
DTEND;TZID=America/New_York:20250416T000000
DTSTAMP:20260424T012614
CREATED:20250826T171639Z
LAST-MODIFIED:20250826T171756Z
UID:10000229-1744761600-1744761600@www.darulislah.org
SUMMARY:Cultural Day
DESCRIPTION:
URL:https://www.darulislah.org/events/cultural-day/
CATEGORIES:Hifz & Crescent Calendar
END:VEVENT
BEGIN:VEVENT
DTSTART;TZID=America/New_York:20250309T000000
DTEND;TZID=America/New_York:20250320T000000
DTSTAMP:20260424T012614
CREATED:20250826T171639Z
LAST-MODIFIED:20250826T171756Z
UID:10000228-1741478400-1742428800@www.darulislah.org
SUMMARY:I'tikaf Days & Eid Break - No School
DESCRIPTION:
URL:https://www.darulislah.org/events/itikaf-days-eid-break-no-school/
CATEGORIES:Hifz & Crescent Calendar
END:VEVENT
BEGIN:VEVENT
DTSTART;TZID=America/New_York:20250218T000000
DTEND;TZID=America/New_York:20250306T000000
DTSTAMP:20260424T012614
CREATED:20250826T171632Z
LAST-MODIFIED:20250826T171756Z
UID:10000227-1739836800-1741219200@www.darulislah.org
SUMMARY:Ramadan Schedule
DESCRIPTION:
URL:https://www.darulislah.org/events/ramadan-schedule/
CATEGORIES:Hifz & Crescent Calendar
END:VEVENT
BEGIN:VEVENT
DTSTART;TZID=America/New_York:20250216T000000
DTEND;TZID=America/New_York:20250216T000000
DTSTAMP:20260424T012614
CREATED:20250826T171632Z
LAST-MODIFIED:20250826T171755Z
UID:10000226-1739664000-1739664000@www.darulislah.org
SUMMARY:President's Day - No School
DESCRIPTION:
URL:https://www.darulislah.org/events/presidents-day-no-school/
CATEGORIES:Hifz & Crescent Calendar
END:VEVENT
END:VCALENDAR