BEGIN:VCALENDAR
VERSION:2.0
PRODID:-//Darul Islah | Muslim Society of Bergen County - ECPv6.15.20//NONSGML v1.0//EN
CALSCALE:GREGORIAN
METHOD:PUBLISH
X-WR-CALNAME:Darul Islah | Muslim Society of Bergen County
X-ORIGINAL-URL:https://www.darulislah.org
X-WR-CALDESC:Events for Darul Islah | Muslim Society of Bergen County
REFRESH-INTERVAL;VALUE=DURATION:PT1H
X-Robots-Tag:noindex
X-PUBLISHED-TTL:PT1H
BEGIN:VTIMEZONE
TZID:America/New_York
BEGIN:DAYLIGHT
TZOFFSETFROM:-0500
TZOFFSETTO:-0400
TZNAME:EDT
DTSTART:20270314T070000
END:DAYLIGHT
BEGIN:STANDARD
TZOFFSETFROM:-0400
TZOFFSETTO:-0500
TZNAME:EST
DTSTART:20271107T060000
END:STANDARD
BEGIN:DAYLIGHT
TZOFFSETFROM:-0500
TZOFFSETTO:-0400
TZNAME:EDT
DTSTART:20280312T070000
END:DAYLIGHT
BEGIN:STANDARD
TZOFFSETFROM:-0400
TZOFFSETTO:-0500
TZNAME:EST
DTSTART:20281105T060000
END:STANDARD
BEGIN:DAYLIGHT
TZOFFSETFROM:-0500
TZOFFSETTO:-0400
TZNAME:EDT
DTSTART:20290311T070000
END:DAYLIGHT
BEGIN:STANDARD
TZOFFSETFROM:-0400
TZOFFSETTO:-0500
TZNAME:EST
DTSTART:20291104T060000
END:STANDARD
BEGIN:DAYLIGHT
TZOFFSETFROM:-0500
TZOFFSETTO:-0400
TZNAME:EDT
DTSTART:20300310T070000
END:DAYLIGHT
BEGIN:STANDARD
TZOFFSETFROM:-0400
TZOFFSETTO:-0500
TZNAME:EST
DTSTART:20301103T060000
END:STANDARD
END:VTIMEZONE
BEGIN:VEVENT
DTSTART;TZID=America/New_York:20281223T054500
DTEND;TZID=America/New_York:20281223T183000
DTSTAMP:20260425T174837
CREATED:20260217T203709Z
LAST-MODIFIED:20260326T145434Z
UID:10000670-1861163100-1861209000@www.darulislah.org
SUMMARY:Journey Through the Hadith
DESCRIPTION:
URL:https://www.darulislah.org/events/journey-through-the-hadith-2/2028-12-23/
CATEGORIES:Masjid Events
ATTACH;FMTTYPE=image/png:https://www.darulislah.org/wp-content/uploads/2025/09/Fajr-Khatiras-1.png
END:VEVENT
BEGIN:VEVENT
DTSTART;TZID=America/New_York:20281223T120000
DTEND;TZID=America/New_York:20281223T130000
DTSTAMP:20260425T174837
CREATED:20250902T201934Z
LAST-MODIFIED:20250902T201934Z
UID:10001974-1861185600-1861189200@www.darulislah.org
SUMMARY:Sisters' Tajweed Class
DESCRIPTION:
URL:https://www.darulislah.org/events/sisters-tajweed-class/2028-12-23/
CATEGORIES:Masjid Events
ATTACH;FMTTYPE=image/png:https://www.darulislah.org/wp-content/uploads/2025/09/Sisters-Tajweed-Class-7.png
END:VEVENT
BEGIN:VEVENT
DTSTART;TZID=America/New_York:20281224T054500
DTEND;TZID=America/New_York:20281224T063000
DTSTAMP:20260425T174837
CREATED:20250902T175939Z
LAST-MODIFIED:20250902T180641Z
UID:10000930-1861249500-1861252200@www.darulislah.org
SUMMARY:Journey through the Quran
DESCRIPTION:Fajr Khatirah with Imam Saeed Qureshi
URL:https://www.darulislah.org/events/journey-through-the-quran/2028-12-24/
CATEGORIES:Masjid Events
ATTACH;FMTTYPE=image/png:https://www.darulislah.org/wp-content/uploads/2025/04/Fajr-Khatiras-1.png
END:VEVENT
BEGIN:VEVENT
DTSTART;TZID=America/New_York:20281227T193000
DTEND;TZID=America/New_York:20281227T200000
DTSTAMP:20260425T174837
CREATED:20260217T203400Z
LAST-MODIFIED:20260326T145414Z
UID:10001453-1861558200-1861560000@www.darulislah.org
SUMMARY:Sh. Waleed's Post Maghrib Khatira
DESCRIPTION:
URL:https://www.darulislah.org/events/sh-waleeds-post-maghrib-khatira-2-2/2028-12-27/
CATEGORIES:Masjid Events
ATTACH;FMTTYPE=image/png:https://www.darulislah.org/wp-content/uploads/2025/09/Weekdays-With-Sheikh-2.png
END:VEVENT
BEGIN:VEVENT
DTSTART;TZID=America/New_York:20281229T130000
DTEND;TZID=America/New_York:20281229T150000
DTSTAMP:20260425T174837
CREATED:20250902T175228Z
LAST-MODIFIED:20250902T175229Z
UID:10000410-1861707600-1861714800@www.darulislah.org
SUMMARY:Jummah
DESCRIPTION:
URL:https://www.darulislah.org/events/jummah-3/2028-12-29/
CATEGORIES:Masjid Events
END:VEVENT
BEGIN:VEVENT
DTSTART;TZID=America/New_York:20281229T170000
DTEND;TZID=America/New_York:20281229T183000
DTSTAMP:20260425T174837
CREATED:20250911T163416Z
LAST-MODIFIED:20250911T163418Z
UID:10002236-1861722000-1861727400@www.darulislah.org
SUMMARY:DI Juniors (Girls)
DESCRIPTION:
URL:https://www.darulislah.org/events/di-juniors-girls-2/2028-12-29/
CATEGORIES:Masjid Events
END:VEVENT
BEGIN:VEVENT
DTSTART;TZID=America/New_York:20281229T190000
DTEND;TZID=America/New_York:20281229T200000
DTSTAMP:20260425T174837
CREATED:20260217T203504Z
LAST-MODIFIED:20260326T145420Z
UID:10001714-1861729200-1861732800@www.darulislah.org
SUMMARY:Sisters' Halaqa
DESCRIPTION:
URL:https://www.darulislah.org/events/sisters-halaqa-2/2028-12-29/
CATEGORIES:Masjid Events
ATTACH;FMTTYPE=image/png:https://www.darulislah.org/wp-content/uploads/2025/09/Sr.-Sherins-Halaqa-Real-Estate-Flyer-11.png
END:VEVENT
BEGIN:VEVENT
DTSTART;TZID=America/New_York:20281230T054500
DTEND;TZID=America/New_York:20281230T183000
DTSTAMP:20260425T174837
CREATED:20260217T203709Z
LAST-MODIFIED:20260326T145434Z
UID:10000671-1861767900-1861813800@www.darulislah.org
SUMMARY:Journey Through the Hadith
DESCRIPTION:
URL:https://www.darulislah.org/events/journey-through-the-hadith-2/2028-12-30/
CATEGORIES:Masjid Events
ATTACH;FMTTYPE=image/png:https://www.darulislah.org/wp-content/uploads/2025/09/Fajr-Khatiras-1.png
END:VEVENT
BEGIN:VEVENT
DTSTART;TZID=America/New_York:20281230T120000
DTEND;TZID=America/New_York:20281230T130000
DTSTAMP:20260425T174837
CREATED:20250902T201934Z
LAST-MODIFIED:20250902T201934Z
UID:10001975-1861790400-1861794000@www.darulislah.org
SUMMARY:Sisters' Tajweed Class
DESCRIPTION:
URL:https://www.darulislah.org/events/sisters-tajweed-class/2028-12-30/
CATEGORIES:Masjid Events
ATTACH;FMTTYPE=image/png:https://www.darulislah.org/wp-content/uploads/2025/09/Sisters-Tajweed-Class-7.png
END:VEVENT
BEGIN:VEVENT
DTSTART;TZID=America/New_York:20281231T054500
DTEND;TZID=America/New_York:20281231T063000
DTSTAMP:20260425T174837
CREATED:20250902T175939Z
LAST-MODIFIED:20250902T180641Z
UID:10000931-1861854300-1861857000@www.darulislah.org
SUMMARY:Journey through the Quran
DESCRIPTION:Fajr Khatirah with Imam Saeed Qureshi
URL:https://www.darulislah.org/events/journey-through-the-quran/2028-12-31/
CATEGORIES:Masjid Events
ATTACH;FMTTYPE=image/png:https://www.darulislah.org/wp-content/uploads/2025/04/Fajr-Khatiras-1.png
END:VEVENT
BEGIN:VEVENT
DTSTART;TZID=America/New_York:20290103T193000
DTEND;TZID=America/New_York:20290103T200000
DTSTAMP:20260425T174837
CREATED:20260217T203400Z
LAST-MODIFIED:20260326T145414Z
UID:10001454-1862163000-1862164800@www.darulislah.org
SUMMARY:Sh. Waleed's Post Maghrib Khatira
DESCRIPTION:
URL:https://www.darulislah.org/events/sh-waleeds-post-maghrib-khatira-2-2/2029-01-03/
CATEGORIES:Masjid Events
ATTACH;FMTTYPE=image/png:https://www.darulislah.org/wp-content/uploads/2025/09/Weekdays-With-Sheikh-2.png
END:VEVENT
BEGIN:VEVENT
DTSTART;TZID=America/New_York:20290105T130000
DTEND;TZID=America/New_York:20290105T150000
DTSTAMP:20260425T174837
CREATED:20250902T175228Z
LAST-MODIFIED:20250902T175229Z
UID:10000411-1862312400-1862319600@www.darulislah.org
SUMMARY:Jummah
DESCRIPTION:
URL:https://www.darulislah.org/events/jummah-3/2029-01-05/
CATEGORIES:Masjid Events
END:VEVENT
BEGIN:VEVENT
DTSTART;TZID=America/New_York:20290105T170000
DTEND;TZID=America/New_York:20290105T183000
DTSTAMP:20260425T174837
CREATED:20250911T163416Z
LAST-MODIFIED:20250911T163418Z
UID:10002237-1862326800-1862332200@www.darulislah.org
SUMMARY:DI Juniors (Girls)
DESCRIPTION:
URL:https://www.darulislah.org/events/di-juniors-girls-2/2029-01-05/
CATEGORIES:Masjid Events
END:VEVENT
BEGIN:VEVENT
DTSTART;TZID=America/New_York:20290105T190000
DTEND;TZID=America/New_York:20290105T200000
DTSTAMP:20260425T174837
CREATED:20260217T203504Z
LAST-MODIFIED:20260326T145420Z
UID:10001715-1862334000-1862337600@www.darulislah.org
SUMMARY:Sisters' Halaqa
DESCRIPTION:
URL:https://www.darulislah.org/events/sisters-halaqa-2/2029-01-05/
CATEGORIES:Masjid Events
ATTACH;FMTTYPE=image/png:https://www.darulislah.org/wp-content/uploads/2025/09/Sr.-Sherins-Halaqa-Real-Estate-Flyer-11.png
END:VEVENT
BEGIN:VEVENT
DTSTART;TZID=America/New_York:20290106T054500
DTEND;TZID=America/New_York:20290106T183000
DTSTAMP:20260425T174837
CREATED:20260217T203709Z
LAST-MODIFIED:20260326T145434Z
UID:10000672-1862372700-1862418600@www.darulislah.org
SUMMARY:Journey Through the Hadith
DESCRIPTION:
URL:https://www.darulislah.org/events/journey-through-the-hadith-2/2029-01-06/
CATEGORIES:Masjid Events
ATTACH;FMTTYPE=image/png:https://www.darulislah.org/wp-content/uploads/2025/09/Fajr-Khatiras-1.png
END:VEVENT
BEGIN:VEVENT
DTSTART;TZID=America/New_York:20290106T120000
DTEND;TZID=America/New_York:20290106T130000
DTSTAMP:20260425T174837
CREATED:20250902T201934Z
LAST-MODIFIED:20250902T201934Z
UID:10001976-1862395200-1862398800@www.darulislah.org
SUMMARY:Sisters' Tajweed Class
DESCRIPTION:
URL:https://www.darulislah.org/events/sisters-tajweed-class/2029-01-06/
CATEGORIES:Masjid Events
ATTACH;FMTTYPE=image/png:https://www.darulislah.org/wp-content/uploads/2025/09/Sisters-Tajweed-Class-7.png
END:VEVENT
BEGIN:VEVENT
DTSTART;TZID=America/New_York:20290107T054500
DTEND;TZID=America/New_York:20290107T063000
DTSTAMP:20260425T174837
CREATED:20250902T175939Z
LAST-MODIFIED:20250902T180641Z
UID:10000932-1862459100-1862461800@www.darulislah.org
SUMMARY:Journey through the Quran
DESCRIPTION:Fajr Khatirah with Imam Saeed Qureshi
URL:https://www.darulislah.org/events/journey-through-the-quran/2029-01-07/
CATEGORIES:Masjid Events
ATTACH;FMTTYPE=image/png:https://www.darulislah.org/wp-content/uploads/2025/04/Fajr-Khatiras-1.png
END:VEVENT
BEGIN:VEVENT
DTSTART;TZID=America/New_York:20290110T193000
DTEND;TZID=America/New_York:20290110T200000
DTSTAMP:20260425T174837
CREATED:20260217T203400Z
LAST-MODIFIED:20260326T145414Z
UID:10001455-1862767800-1862769600@www.darulislah.org
SUMMARY:Sh. Waleed's Post Maghrib Khatira
DESCRIPTION:
URL:https://www.darulislah.org/events/sh-waleeds-post-maghrib-khatira-2-2/2029-01-10/
CATEGORIES:Masjid Events
ATTACH;FMTTYPE=image/png:https://www.darulislah.org/wp-content/uploads/2025/09/Weekdays-With-Sheikh-2.png
END:VEVENT
BEGIN:VEVENT
DTSTART;TZID=America/New_York:20290112T130000
DTEND;TZID=America/New_York:20290112T150000
DTSTAMP:20260425T174837
CREATED:20250902T175228Z
LAST-MODIFIED:20250902T175229Z
UID:10000412-1862917200-1862924400@www.darulislah.org
SUMMARY:Jummah
DESCRIPTION:
URL:https://www.darulislah.org/events/jummah-3/2029-01-12/
CATEGORIES:Masjid Events
END:VEVENT
BEGIN:VEVENT
DTSTART;TZID=America/New_York:20290112T170000
DTEND;TZID=America/New_York:20290112T183000
DTSTAMP:20260425T174837
CREATED:20250911T163416Z
LAST-MODIFIED:20250911T163418Z
UID:10002238-1862931600-1862937000@www.darulislah.org
SUMMARY:DI Juniors (Girls)
DESCRIPTION:
URL:https://www.darulislah.org/events/di-juniors-girls-2/2029-01-12/
CATEGORIES:Masjid Events
END:VEVENT
BEGIN:VEVENT
DTSTART;TZID=America/New_York:20290112T190000
DTEND;TZID=America/New_York:20290112T200000
DTSTAMP:20260425T174837
CREATED:20260217T203504Z
LAST-MODIFIED:20260326T145420Z
UID:10001716-1862938800-1862942400@www.darulislah.org
SUMMARY:Sisters' Halaqa
DESCRIPTION:
URL:https://www.darulislah.org/events/sisters-halaqa-2/2029-01-12/
CATEGORIES:Masjid Events
ATTACH;FMTTYPE=image/png:https://www.darulislah.org/wp-content/uploads/2025/09/Sr.-Sherins-Halaqa-Real-Estate-Flyer-11.png
END:VEVENT
BEGIN:VEVENT
DTSTART;TZID=America/New_York:20290113T054500
DTEND;TZID=America/New_York:20290113T183000
DTSTAMP:20260425T174837
CREATED:20260217T203709Z
LAST-MODIFIED:20260326T145434Z
UID:10000673-1862977500-1863023400@www.darulislah.org
SUMMARY:Journey Through the Hadith
DESCRIPTION:
URL:https://www.darulislah.org/events/journey-through-the-hadith-2/2029-01-13/
CATEGORIES:Masjid Events
ATTACH;FMTTYPE=image/png:https://www.darulislah.org/wp-content/uploads/2025/09/Fajr-Khatiras-1.png
END:VEVENT
BEGIN:VEVENT
DTSTART;TZID=America/New_York:20290113T120000
DTEND;TZID=America/New_York:20290113T130000
DTSTAMP:20260425T174837
CREATED:20250902T201934Z
LAST-MODIFIED:20250902T201934Z
UID:10001977-1863000000-1863003600@www.darulislah.org
SUMMARY:Sisters' Tajweed Class
DESCRIPTION:
URL:https://www.darulislah.org/events/sisters-tajweed-class/2029-01-13/
CATEGORIES:Masjid Events
ATTACH;FMTTYPE=image/png:https://www.darulislah.org/wp-content/uploads/2025/09/Sisters-Tajweed-Class-7.png
END:VEVENT
BEGIN:VEVENT
DTSTART;TZID=America/New_York:20290114T054500
DTEND;TZID=America/New_York:20290114T063000
DTSTAMP:20260425T174837
CREATED:20250902T175939Z
LAST-MODIFIED:20250902T180641Z
UID:10000933-1863063900-1863066600@www.darulislah.org
SUMMARY:Journey through the Quran
DESCRIPTION:Fajr Khatirah with Imam Saeed Qureshi
URL:https://www.darulislah.org/events/journey-through-the-quran/2029-01-14/
CATEGORIES:Masjid Events
ATTACH;FMTTYPE=image/png:https://www.darulislah.org/wp-content/uploads/2025/04/Fajr-Khatiras-1.png
END:VEVENT
BEGIN:VEVENT
DTSTART;TZID=America/New_York:20290117T193000
DTEND;TZID=America/New_York:20290117T200000
DTSTAMP:20260425T174837
CREATED:20260217T203400Z
LAST-MODIFIED:20260326T145414Z
UID:10001456-1863372600-1863374400@www.darulislah.org
SUMMARY:Sh. Waleed's Post Maghrib Khatira
DESCRIPTION:
URL:https://www.darulislah.org/events/sh-waleeds-post-maghrib-khatira-2-2/2029-01-17/
CATEGORIES:Masjid Events
ATTACH;FMTTYPE=image/png:https://www.darulislah.org/wp-content/uploads/2025/09/Weekdays-With-Sheikh-2.png
END:VEVENT
BEGIN:VEVENT
DTSTART;TZID=America/New_York:20290119T130000
DTEND;TZID=America/New_York:20290119T150000
DTSTAMP:20260425T174837
CREATED:20250902T175228Z
LAST-MODIFIED:20250902T175229Z
UID:10000413-1863522000-1863529200@www.darulislah.org
SUMMARY:Jummah
DESCRIPTION:
URL:https://www.darulislah.org/events/jummah-3/2029-01-19/
CATEGORIES:Masjid Events
END:VEVENT
BEGIN:VEVENT
DTSTART;TZID=America/New_York:20290119T170000
DTEND;TZID=America/New_York:20290119T183000
DTSTAMP:20260425T174837
CREATED:20250911T163416Z
LAST-MODIFIED:20250911T163418Z
UID:10002239-1863536400-1863541800@www.darulislah.org
SUMMARY:DI Juniors (Girls)
DESCRIPTION:
URL:https://www.darulislah.org/events/di-juniors-girls-2/2029-01-19/
CATEGORIES:Masjid Events
END:VEVENT
BEGIN:VEVENT
DTSTART;TZID=America/New_York:20290119T190000
DTEND;TZID=America/New_York:20290119T200000
DTSTAMP:20260425T174837
CREATED:20260217T203504Z
LAST-MODIFIED:20260326T145420Z
UID:10001717-1863543600-1863547200@www.darulislah.org
SUMMARY:Sisters' Halaqa
DESCRIPTION:
URL:https://www.darulislah.org/events/sisters-halaqa-2/2029-01-19/
CATEGORIES:Masjid Events
ATTACH;FMTTYPE=image/png:https://www.darulislah.org/wp-content/uploads/2025/09/Sr.-Sherins-Halaqa-Real-Estate-Flyer-11.png
END:VEVENT
BEGIN:VEVENT
DTSTART;TZID=America/New_York:20290120T054500
DTEND;TZID=America/New_York:20290120T183000
DTSTAMP:20260425T174837
CREATED:20260217T203709Z
LAST-MODIFIED:20260326T145434Z
UID:10000674-1863582300-1863628200@www.darulislah.org
SUMMARY:Journey Through the Hadith
DESCRIPTION:
URL:https://www.darulislah.org/events/journey-through-the-hadith-2/2029-01-20/
CATEGORIES:Masjid Events
ATTACH;FMTTYPE=image/png:https://www.darulislah.org/wp-content/uploads/2025/09/Fajr-Khatiras-1.png
END:VEVENT
BEGIN:VEVENT
DTSTART;TZID=America/New_York:20290120T120000
DTEND;TZID=America/New_York:20290120T130000
DTSTAMP:20260425T174837
CREATED:20250902T201934Z
LAST-MODIFIED:20250902T201934Z
UID:10001978-1863604800-1863608400@www.darulislah.org
SUMMARY:Sisters' Tajweed Class
DESCRIPTION:
URL:https://www.darulislah.org/events/sisters-tajweed-class/2029-01-20/
CATEGORIES:Masjid Events
ATTACH;FMTTYPE=image/png:https://www.darulislah.org/wp-content/uploads/2025/09/Sisters-Tajweed-Class-7.png
END:VEVENT
END:VCALENDAR