BEGIN:VCALENDAR
VERSION:2.0
PRODID:-//Darul Islah | Muslim Society of Bergen County - ECPv6.15.20//NONSGML v1.0//EN
CALSCALE:GREGORIAN
METHOD:PUBLISH
X-WR-CALNAME:Darul Islah | Muslim Society of Bergen County
X-ORIGINAL-URL:https://www.darulislah.org
X-WR-CALDESC:Events for Darul Islah | Muslim Society of Bergen County
REFRESH-INTERVAL;VALUE=DURATION:PT1H
X-Robots-Tag:noindex
X-PUBLISHED-TTL:PT1H
BEGIN:VTIMEZONE
TZID:America/New_York
BEGIN:DAYLIGHT
TZOFFSETFROM:-0500
TZOFFSETTO:-0400
TZNAME:EDT
DTSTART:20270314T070000
END:DAYLIGHT
BEGIN:STANDARD
TZOFFSETFROM:-0400
TZOFFSETTO:-0500
TZNAME:EST
DTSTART:20271107T060000
END:STANDARD
BEGIN:DAYLIGHT
TZOFFSETFROM:-0500
TZOFFSETTO:-0400
TZNAME:EDT
DTSTART:20280312T070000
END:DAYLIGHT
BEGIN:STANDARD
TZOFFSETFROM:-0400
TZOFFSETTO:-0500
TZNAME:EST
DTSTART:20281105T060000
END:STANDARD
BEGIN:DAYLIGHT
TZOFFSETFROM:-0500
TZOFFSETTO:-0400
TZNAME:EDT
DTSTART:20290311T070000
END:DAYLIGHT
BEGIN:STANDARD
TZOFFSETFROM:-0400
TZOFFSETTO:-0500
TZNAME:EST
DTSTART:20291104T060000
END:STANDARD
END:VTIMEZONE
BEGIN:VEVENT
DTSTART;TZID=America/New_York:20280624T054500
DTEND;TZID=America/New_York:20280624T183000
DTSTAMP:20260425T084509
CREATED:20260217T203709Z
LAST-MODIFIED:20260326T145434Z
UID:10000644-1845438300-1845484200@www.darulislah.org
SUMMARY:Journey Through the Hadith
DESCRIPTION:
URL:https://www.darulislah.org/events/journey-through-the-hadith-2/2028-06-24/
CATEGORIES:Masjid Events
ATTACH;FMTTYPE=image/png:https://www.darulislah.org/wp-content/uploads/2025/09/Fajr-Khatiras-1.png
END:VEVENT
BEGIN:VEVENT
DTSTART;TZID=America/New_York:20280624T120000
DTEND;TZID=America/New_York:20280624T130000
DTSTAMP:20260425T084509
CREATED:20250902T201934Z
LAST-MODIFIED:20250902T201934Z
UID:10001948-1845460800-1845464400@www.darulislah.org
SUMMARY:Sisters' Tajweed Class
DESCRIPTION:
URL:https://www.darulislah.org/events/sisters-tajweed-class/2028-06-24/
CATEGORIES:Masjid Events
ATTACH;FMTTYPE=image/png:https://www.darulislah.org/wp-content/uploads/2025/09/Sisters-Tajweed-Class-7.png
END:VEVENT
BEGIN:VEVENT
DTSTART;TZID=America/New_York:20280625T054500
DTEND;TZID=America/New_York:20280625T063000
DTSTAMP:20260425T084509
CREATED:20250902T175939Z
LAST-MODIFIED:20250902T180641Z
UID:10000904-1845524700-1845527400@www.darulislah.org
SUMMARY:Journey through the Quran
DESCRIPTION:Fajr Khatirah with Imam Saeed Qureshi
URL:https://www.darulislah.org/events/journey-through-the-quran/2028-06-25/
CATEGORIES:Masjid Events
ATTACH;FMTTYPE=image/png:https://www.darulislah.org/wp-content/uploads/2025/04/Fajr-Khatiras-1.png
END:VEVENT
BEGIN:VEVENT
DTSTART;TZID=America/New_York:20280628T193000
DTEND;TZID=America/New_York:20280628T200000
DTSTAMP:20260425T084509
CREATED:20260217T203400Z
LAST-MODIFIED:20260326T145414Z
UID:10001427-1845833400-1845835200@www.darulislah.org
SUMMARY:Sh. Waleed's Post Maghrib Khatira
DESCRIPTION:
URL:https://www.darulislah.org/events/sh-waleeds-post-maghrib-khatira-2-2/2028-06-28/
CATEGORIES:Masjid Events
ATTACH;FMTTYPE=image/png:https://www.darulislah.org/wp-content/uploads/2025/09/Weekdays-With-Sheikh-2.png
END:VEVENT
BEGIN:VEVENT
DTSTART;TZID=America/New_York:20280630T130000
DTEND;TZID=America/New_York:20280630T150000
DTSTAMP:20260425T084509
CREATED:20250902T175228Z
LAST-MODIFIED:20250902T175229Z
UID:10000384-1845982800-1845990000@www.darulislah.org
SUMMARY:Jummah
DESCRIPTION:
URL:https://www.darulislah.org/events/jummah-3/2028-06-30/
CATEGORIES:Masjid Events
END:VEVENT
BEGIN:VEVENT
DTSTART;TZID=America/New_York:20280630T170000
DTEND;TZID=America/New_York:20280630T183000
DTSTAMP:20260425T084509
CREATED:20250911T163416Z
LAST-MODIFIED:20250911T163418Z
UID:10002210-1845997200-1846002600@www.darulislah.org
SUMMARY:DI Juniors (Girls)
DESCRIPTION:
URL:https://www.darulislah.org/events/di-juniors-girls-2/2028-06-30/
CATEGORIES:Masjid Events
END:VEVENT
BEGIN:VEVENT
DTSTART;TZID=America/New_York:20280630T190000
DTEND;TZID=America/New_York:20280630T200000
DTSTAMP:20260425T084509
CREATED:20260217T203504Z
LAST-MODIFIED:20260326T145420Z
UID:10001688-1846004400-1846008000@www.darulislah.org
SUMMARY:Sisters' Halaqa
DESCRIPTION:
URL:https://www.darulislah.org/events/sisters-halaqa-2/2028-06-30/
CATEGORIES:Masjid Events
ATTACH;FMTTYPE=image/png:https://www.darulislah.org/wp-content/uploads/2025/09/Sr.-Sherins-Halaqa-Real-Estate-Flyer-11.png
END:VEVENT
BEGIN:VEVENT
DTSTART;TZID=America/New_York:20280701T054500
DTEND;TZID=America/New_York:20280701T183000
DTSTAMP:20260425T084509
CREATED:20260217T203709Z
LAST-MODIFIED:20260326T145434Z
UID:10000645-1846043100-1846089000@www.darulislah.org
SUMMARY:Journey Through the Hadith
DESCRIPTION:
URL:https://www.darulislah.org/events/journey-through-the-hadith-2/2028-07-01/
CATEGORIES:Masjid Events
ATTACH;FMTTYPE=image/png:https://www.darulislah.org/wp-content/uploads/2025/09/Fajr-Khatiras-1.png
END:VEVENT
BEGIN:VEVENT
DTSTART;TZID=America/New_York:20280701T120000
DTEND;TZID=America/New_York:20280701T130000
DTSTAMP:20260425T084509
CREATED:20250902T201934Z
LAST-MODIFIED:20250902T201934Z
UID:10001949-1846065600-1846069200@www.darulislah.org
SUMMARY:Sisters' Tajweed Class
DESCRIPTION:
URL:https://www.darulislah.org/events/sisters-tajweed-class/2028-07-01/
CATEGORIES:Masjid Events
ATTACH;FMTTYPE=image/png:https://www.darulislah.org/wp-content/uploads/2025/09/Sisters-Tajweed-Class-7.png
END:VEVENT
BEGIN:VEVENT
DTSTART;TZID=America/New_York:20280702T054500
DTEND;TZID=America/New_York:20280702T063000
DTSTAMP:20260425T084509
CREATED:20250902T175939Z
LAST-MODIFIED:20250902T180641Z
UID:10000905-1846129500-1846132200@www.darulislah.org
SUMMARY:Journey through the Quran
DESCRIPTION:Fajr Khatirah with Imam Saeed Qureshi
URL:https://www.darulislah.org/events/journey-through-the-quran/2028-07-02/
CATEGORIES:Masjid Events
ATTACH;FMTTYPE=image/png:https://www.darulislah.org/wp-content/uploads/2025/04/Fajr-Khatiras-1.png
END:VEVENT
BEGIN:VEVENT
DTSTART;TZID=America/New_York:20280705T193000
DTEND;TZID=America/New_York:20280705T200000
DTSTAMP:20260425T084509
CREATED:20260217T203400Z
LAST-MODIFIED:20260326T145414Z
UID:10001428-1846438200-1846440000@www.darulislah.org
SUMMARY:Sh. Waleed's Post Maghrib Khatira
DESCRIPTION:
URL:https://www.darulislah.org/events/sh-waleeds-post-maghrib-khatira-2-2/2028-07-05/
CATEGORIES:Masjid Events
ATTACH;FMTTYPE=image/png:https://www.darulislah.org/wp-content/uploads/2025/09/Weekdays-With-Sheikh-2.png
END:VEVENT
BEGIN:VEVENT
DTSTART;TZID=America/New_York:20280707T130000
DTEND;TZID=America/New_York:20280707T150000
DTSTAMP:20260425T084509
CREATED:20250902T175228Z
LAST-MODIFIED:20250902T175229Z
UID:10000385-1846587600-1846594800@www.darulislah.org
SUMMARY:Jummah
DESCRIPTION:
URL:https://www.darulislah.org/events/jummah-3/2028-07-07/
CATEGORIES:Masjid Events
END:VEVENT
BEGIN:VEVENT
DTSTART;TZID=America/New_York:20280707T170000
DTEND;TZID=America/New_York:20280707T183000
DTSTAMP:20260425T084509
CREATED:20250911T163416Z
LAST-MODIFIED:20250911T163418Z
UID:10002211-1846602000-1846607400@www.darulislah.org
SUMMARY:DI Juniors (Girls)
DESCRIPTION:
URL:https://www.darulislah.org/events/di-juniors-girls-2/2028-07-07/
CATEGORIES:Masjid Events
END:VEVENT
BEGIN:VEVENT
DTSTART;TZID=America/New_York:20280707T190000
DTEND;TZID=America/New_York:20280707T200000
DTSTAMP:20260425T084509
CREATED:20260217T203504Z
LAST-MODIFIED:20260326T145420Z
UID:10001689-1846609200-1846612800@www.darulislah.org
SUMMARY:Sisters' Halaqa
DESCRIPTION:
URL:https://www.darulislah.org/events/sisters-halaqa-2/2028-07-07/
CATEGORIES:Masjid Events
ATTACH;FMTTYPE=image/png:https://www.darulislah.org/wp-content/uploads/2025/09/Sr.-Sherins-Halaqa-Real-Estate-Flyer-11.png
END:VEVENT
BEGIN:VEVENT
DTSTART;TZID=America/New_York:20280708T054500
DTEND;TZID=America/New_York:20280708T183000
DTSTAMP:20260425T084509
CREATED:20260217T203709Z
LAST-MODIFIED:20260326T145434Z
UID:10000646-1846647900-1846693800@www.darulislah.org
SUMMARY:Journey Through the Hadith
DESCRIPTION:
URL:https://www.darulislah.org/events/journey-through-the-hadith-2/2028-07-08/
CATEGORIES:Masjid Events
ATTACH;FMTTYPE=image/png:https://www.darulislah.org/wp-content/uploads/2025/09/Fajr-Khatiras-1.png
END:VEVENT
BEGIN:VEVENT
DTSTART;TZID=America/New_York:20280708T120000
DTEND;TZID=America/New_York:20280708T130000
DTSTAMP:20260425T084509
CREATED:20250902T201934Z
LAST-MODIFIED:20250902T201934Z
UID:10001950-1846670400-1846674000@www.darulislah.org
SUMMARY:Sisters' Tajweed Class
DESCRIPTION:
URL:https://www.darulislah.org/events/sisters-tajweed-class/2028-07-08/
CATEGORIES:Masjid Events
ATTACH;FMTTYPE=image/png:https://www.darulislah.org/wp-content/uploads/2025/09/Sisters-Tajweed-Class-7.png
END:VEVENT
BEGIN:VEVENT
DTSTART;TZID=America/New_York:20280709T054500
DTEND;TZID=America/New_York:20280709T063000
DTSTAMP:20260425T084509
CREATED:20250902T175939Z
LAST-MODIFIED:20250902T180641Z
UID:10000906-1846734300-1846737000@www.darulislah.org
SUMMARY:Journey through the Quran
DESCRIPTION:Fajr Khatirah with Imam Saeed Qureshi
URL:https://www.darulislah.org/events/journey-through-the-quran/2028-07-09/
CATEGORIES:Masjid Events
ATTACH;FMTTYPE=image/png:https://www.darulislah.org/wp-content/uploads/2025/04/Fajr-Khatiras-1.png
END:VEVENT
BEGIN:VEVENT
DTSTART;TZID=America/New_York:20280712T193000
DTEND;TZID=America/New_York:20280712T200000
DTSTAMP:20260425T084509
CREATED:20260217T203400Z
LAST-MODIFIED:20260326T145414Z
UID:10001429-1847043000-1847044800@www.darulislah.org
SUMMARY:Sh. Waleed's Post Maghrib Khatira
DESCRIPTION:
URL:https://www.darulislah.org/events/sh-waleeds-post-maghrib-khatira-2-2/2028-07-12/
CATEGORIES:Masjid Events
ATTACH;FMTTYPE=image/png:https://www.darulislah.org/wp-content/uploads/2025/09/Weekdays-With-Sheikh-2.png
END:VEVENT
BEGIN:VEVENT
DTSTART;TZID=America/New_York:20280714T130000
DTEND;TZID=America/New_York:20280714T150000
DTSTAMP:20260425T084509
CREATED:20250902T175228Z
LAST-MODIFIED:20250902T175229Z
UID:10000386-1847192400-1847199600@www.darulislah.org
SUMMARY:Jummah
DESCRIPTION:
URL:https://www.darulislah.org/events/jummah-3/2028-07-14/
CATEGORIES:Masjid Events
END:VEVENT
BEGIN:VEVENT
DTSTART;TZID=America/New_York:20280714T170000
DTEND;TZID=America/New_York:20280714T183000
DTSTAMP:20260425T084509
CREATED:20250911T163416Z
LAST-MODIFIED:20250911T163418Z
UID:10002212-1847206800-1847212200@www.darulislah.org
SUMMARY:DI Juniors (Girls)
DESCRIPTION:
URL:https://www.darulislah.org/events/di-juniors-girls-2/2028-07-14/
CATEGORIES:Masjid Events
END:VEVENT
BEGIN:VEVENT
DTSTART;TZID=America/New_York:20280714T190000
DTEND;TZID=America/New_York:20280714T200000
DTSTAMP:20260425T084509
CREATED:20260217T203504Z
LAST-MODIFIED:20260326T145420Z
UID:10001690-1847214000-1847217600@www.darulislah.org
SUMMARY:Sisters' Halaqa
DESCRIPTION:
URL:https://www.darulislah.org/events/sisters-halaqa-2/2028-07-14/
CATEGORIES:Masjid Events
ATTACH;FMTTYPE=image/png:https://www.darulislah.org/wp-content/uploads/2025/09/Sr.-Sherins-Halaqa-Real-Estate-Flyer-11.png
END:VEVENT
BEGIN:VEVENT
DTSTART;TZID=America/New_York:20280715T054500
DTEND;TZID=America/New_York:20280715T183000
DTSTAMP:20260425T084509
CREATED:20260217T203709Z
LAST-MODIFIED:20260326T145434Z
UID:10000647-1847252700-1847298600@www.darulislah.org
SUMMARY:Journey Through the Hadith
DESCRIPTION:
URL:https://www.darulislah.org/events/journey-through-the-hadith-2/2028-07-15/
CATEGORIES:Masjid Events
ATTACH;FMTTYPE=image/png:https://www.darulislah.org/wp-content/uploads/2025/09/Fajr-Khatiras-1.png
END:VEVENT
BEGIN:VEVENT
DTSTART;TZID=America/New_York:20280715T120000
DTEND;TZID=America/New_York:20280715T130000
DTSTAMP:20260425T084509
CREATED:20250902T201934Z
LAST-MODIFIED:20250902T201934Z
UID:10001951-1847275200-1847278800@www.darulislah.org
SUMMARY:Sisters' Tajweed Class
DESCRIPTION:
URL:https://www.darulislah.org/events/sisters-tajweed-class/2028-07-15/
CATEGORIES:Masjid Events
ATTACH;FMTTYPE=image/png:https://www.darulislah.org/wp-content/uploads/2025/09/Sisters-Tajweed-Class-7.png
END:VEVENT
BEGIN:VEVENT
DTSTART;TZID=America/New_York:20280716T054500
DTEND;TZID=America/New_York:20280716T063000
DTSTAMP:20260425T084509
CREATED:20250902T175939Z
LAST-MODIFIED:20250902T180641Z
UID:10000907-1847339100-1847341800@www.darulislah.org
SUMMARY:Journey through the Quran
DESCRIPTION:Fajr Khatirah with Imam Saeed Qureshi
URL:https://www.darulislah.org/events/journey-through-the-quran/2028-07-16/
CATEGORIES:Masjid Events
ATTACH;FMTTYPE=image/png:https://www.darulislah.org/wp-content/uploads/2025/04/Fajr-Khatiras-1.png
END:VEVENT
BEGIN:VEVENT
DTSTART;TZID=America/New_York:20280719T193000
DTEND;TZID=America/New_York:20280719T200000
DTSTAMP:20260425T084509
CREATED:20260217T203400Z
LAST-MODIFIED:20260326T145414Z
UID:10001430-1847647800-1847649600@www.darulislah.org
SUMMARY:Sh. Waleed's Post Maghrib Khatira
DESCRIPTION:
URL:https://www.darulislah.org/events/sh-waleeds-post-maghrib-khatira-2-2/2028-07-19/
CATEGORIES:Masjid Events
ATTACH;FMTTYPE=image/png:https://www.darulislah.org/wp-content/uploads/2025/09/Weekdays-With-Sheikh-2.png
END:VEVENT
BEGIN:VEVENT
DTSTART;TZID=America/New_York:20280721T130000
DTEND;TZID=America/New_York:20280721T150000
DTSTAMP:20260425T084509
CREATED:20250902T175228Z
LAST-MODIFIED:20250902T175229Z
UID:10000387-1847797200-1847804400@www.darulislah.org
SUMMARY:Jummah
DESCRIPTION:
URL:https://www.darulislah.org/events/jummah-3/2028-07-21/
CATEGORIES:Masjid Events
END:VEVENT
BEGIN:VEVENT
DTSTART;TZID=America/New_York:20280721T170000
DTEND;TZID=America/New_York:20280721T183000
DTSTAMP:20260425T084509
CREATED:20250911T163416Z
LAST-MODIFIED:20250911T163418Z
UID:10002213-1847811600-1847817000@www.darulislah.org
SUMMARY:DI Juniors (Girls)
DESCRIPTION:
URL:https://www.darulislah.org/events/di-juniors-girls-2/2028-07-21/
CATEGORIES:Masjid Events
END:VEVENT
BEGIN:VEVENT
DTSTART;TZID=America/New_York:20280721T190000
DTEND;TZID=America/New_York:20280721T200000
DTSTAMP:20260425T084509
CREATED:20260217T203504Z
LAST-MODIFIED:20260326T145420Z
UID:10001691-1847818800-1847822400@www.darulislah.org
SUMMARY:Sisters' Halaqa
DESCRIPTION:
URL:https://www.darulislah.org/events/sisters-halaqa-2/2028-07-21/
CATEGORIES:Masjid Events
ATTACH;FMTTYPE=image/png:https://www.darulislah.org/wp-content/uploads/2025/09/Sr.-Sherins-Halaqa-Real-Estate-Flyer-11.png
END:VEVENT
BEGIN:VEVENT
DTSTART;TZID=America/New_York:20280722T054500
DTEND;TZID=America/New_York:20280722T183000
DTSTAMP:20260425T084509
CREATED:20260217T203709Z
LAST-MODIFIED:20260326T145434Z
UID:10000648-1847857500-1847903400@www.darulislah.org
SUMMARY:Journey Through the Hadith
DESCRIPTION:
URL:https://www.darulislah.org/events/journey-through-the-hadith-2/2028-07-22/
CATEGORIES:Masjid Events
ATTACH;FMTTYPE=image/png:https://www.darulislah.org/wp-content/uploads/2025/09/Fajr-Khatiras-1.png
END:VEVENT
BEGIN:VEVENT
DTSTART;TZID=America/New_York:20280722T120000
DTEND;TZID=America/New_York:20280722T130000
DTSTAMP:20260425T084509
CREATED:20250902T201934Z
LAST-MODIFIED:20250902T201934Z
UID:10001952-1847880000-1847883600@www.darulislah.org
SUMMARY:Sisters' Tajweed Class
DESCRIPTION:
URL:https://www.darulislah.org/events/sisters-tajweed-class/2028-07-22/
CATEGORIES:Masjid Events
ATTACH;FMTTYPE=image/png:https://www.darulislah.org/wp-content/uploads/2025/09/Sisters-Tajweed-Class-7.png
END:VEVENT
END:VCALENDAR