BEGIN:VCALENDAR
VERSION:2.0
PRODID:-//Darul Islah | Muslim Society of Bergen County - ECPv6.15.20//NONSGML v1.0//EN
CALSCALE:GREGORIAN
METHOD:PUBLISH
X-ORIGINAL-URL:https://www.darulislah.org
X-WR-CALDESC:Events for Darul Islah | Muslim Society of Bergen County
REFRESH-INTERVAL;VALUE=DURATION:PT1H
X-Robots-Tag:noindex
X-PUBLISHED-TTL:PT1H
BEGIN:VTIMEZONE
TZID:America/New_York
BEGIN:DAYLIGHT
TZOFFSETFROM:-0500
TZOFFSETTO:-0400
TZNAME:EDT
DTSTART:20260308T070000
END:DAYLIGHT
BEGIN:STANDARD
TZOFFSETFROM:-0400
TZOFFSETTO:-0500
TZNAME:EST
DTSTART:20261101T060000
END:STANDARD
BEGIN:DAYLIGHT
TZOFFSETFROM:-0500
TZOFFSETTO:-0400
TZNAME:EDT
DTSTART:20270314T070000
END:DAYLIGHT
BEGIN:STANDARD
TZOFFSETFROM:-0400
TZOFFSETTO:-0500
TZNAME:EST
DTSTART:20271107T060000
END:STANDARD
BEGIN:DAYLIGHT
TZOFFSETFROM:-0500
TZOFFSETTO:-0400
TZNAME:EDT
DTSTART:20280312T070000
END:DAYLIGHT
BEGIN:STANDARD
TZOFFSETFROM:-0400
TZOFFSETTO:-0500
TZNAME:EST
DTSTART:20281105T060000
END:STANDARD
END:VTIMEZONE
BEGIN:VEVENT
DTSTART;TZID=America/New_York:20270226T170000
DTEND;TZID=America/New_York:20270226T183000
DTSTAMP:20260425T103748
CREATED:20250911T163416Z
LAST-MODIFIED:20250911T163418Z
UID:10002140-1803661200-1803666600@www.darulislah.org
SUMMARY:DI Juniors (Girls)
DESCRIPTION:
URL:https://www.darulislah.org/events/di-juniors-girls-2/2027-02-26/
CATEGORIES:Masjid Events
END:VEVENT
BEGIN:VEVENT
DTSTART;TZID=America/New_York:20270226T190000
DTEND;TZID=America/New_York:20270226T200000
DTSTAMP:20260425T103748
CREATED:20260217T203504Z
LAST-MODIFIED:20260326T145420Z
UID:10001618-1803668400-1803672000@www.darulislah.org
SUMMARY:Sisters' Halaqa
DESCRIPTION:
URL:https://www.darulislah.org/events/sisters-halaqa-2/2027-02-26/
CATEGORIES:Masjid Events
ATTACH;FMTTYPE=image/png:https://www.darulislah.org/wp-content/uploads/2025/09/Sr.-Sherins-Halaqa-Real-Estate-Flyer-11.png
END:VEVENT
BEGIN:VEVENT
DTSTART;TZID=America/New_York:20270227T054500
DTEND;TZID=America/New_York:20270227T183000
DTSTAMP:20260425T103748
CREATED:20260217T203709Z
LAST-MODIFIED:20260326T145434Z
UID:10000575-1803707100-1803753000@www.darulislah.org
SUMMARY:Journey Through the Hadith
DESCRIPTION:
URL:https://www.darulislah.org/events/journey-through-the-hadith-2/2027-02-27/
CATEGORIES:Masjid Events
ATTACH;FMTTYPE=image/png:https://www.darulislah.org/wp-content/uploads/2025/09/Fajr-Khatiras-1.png
END:VEVENT
BEGIN:VEVENT
DTSTART;TZID=America/New_York:20270227T120000
DTEND;TZID=America/New_York:20270227T130000
DTSTAMP:20260425T103748
CREATED:20250902T201934Z
LAST-MODIFIED:20250902T201934Z
UID:10001879-1803729600-1803733200@www.darulislah.org
SUMMARY:Sisters' Tajweed Class
DESCRIPTION:
URL:https://www.darulislah.org/events/sisters-tajweed-class/2027-02-27/
CATEGORIES:Masjid Events
ATTACH;FMTTYPE=image/png:https://www.darulislah.org/wp-content/uploads/2025/09/Sisters-Tajweed-Class-7.png
END:VEVENT
BEGIN:VEVENT
DTSTART;TZID=America/New_York:20270228T054500
DTEND;TZID=America/New_York:20270228T063000
DTSTAMP:20260425T103748
CREATED:20250902T175939Z
LAST-MODIFIED:20250902T180641Z
UID:10000835-1803793500-1803796200@www.darulislah.org
SUMMARY:Journey through the Quran
DESCRIPTION:Fajr Khatirah with Imam Saeed Qureshi
URL:https://www.darulislah.org/events/journey-through-the-quran/2027-02-28/
CATEGORIES:Masjid Events
ATTACH;FMTTYPE=image/png:https://www.darulislah.org/wp-content/uploads/2025/04/Fajr-Khatiras-1.png
END:VEVENT
BEGIN:VEVENT
DTSTART;TZID=America/New_York:20270303T193000
DTEND;TZID=America/New_York:20270303T200000
DTSTAMP:20260425T103748
CREATED:20260217T203400Z
LAST-MODIFIED:20260326T145414Z
UID:10001358-1804102200-1804104000@www.darulislah.org
SUMMARY:Sh. Waleed's Post Maghrib Khatira
DESCRIPTION:
URL:https://www.darulislah.org/events/sh-waleeds-post-maghrib-khatira-2-2/2027-03-03/
CATEGORIES:Masjid Events
ATTACH;FMTTYPE=image/png:https://www.darulislah.org/wp-content/uploads/2025/09/Weekdays-With-Sheikh-2.png
END:VEVENT
BEGIN:VEVENT
DTSTART;TZID=America/New_York:20270305T130000
DTEND;TZID=America/New_York:20270305T150000
DTSTAMP:20260425T103748
CREATED:20250902T175228Z
LAST-MODIFIED:20250902T175229Z
UID:10000315-1804251600-1804258800@www.darulislah.org
SUMMARY:Jummah
DESCRIPTION:
URL:https://www.darulislah.org/events/jummah-3/2027-03-05/
CATEGORIES:Masjid Events
END:VEVENT
BEGIN:VEVENT
DTSTART;TZID=America/New_York:20270305T170000
DTEND;TZID=America/New_York:20270305T183000
DTSTAMP:20260425T103748
CREATED:20250911T163416Z
LAST-MODIFIED:20250911T163418Z
UID:10002141-1804266000-1804271400@www.darulislah.org
SUMMARY:DI Juniors (Girls)
DESCRIPTION:
URL:https://www.darulislah.org/events/di-juniors-girls-2/2027-03-05/
CATEGORIES:Masjid Events
END:VEVENT
BEGIN:VEVENT
DTSTART;TZID=America/New_York:20270305T190000
DTEND;TZID=America/New_York:20270305T200000
DTSTAMP:20260425T103748
CREATED:20260217T203504Z
LAST-MODIFIED:20260326T145420Z
UID:10001619-1804273200-1804276800@www.darulislah.org
SUMMARY:Sisters' Halaqa
DESCRIPTION:
URL:https://www.darulislah.org/events/sisters-halaqa-2/2027-03-05/
CATEGORIES:Masjid Events
ATTACH;FMTTYPE=image/png:https://www.darulislah.org/wp-content/uploads/2025/09/Sr.-Sherins-Halaqa-Real-Estate-Flyer-11.png
END:VEVENT
BEGIN:VEVENT
DTSTART;TZID=America/New_York:20270306T054500
DTEND;TZID=America/New_York:20270306T183000
DTSTAMP:20260425T103748
CREATED:20260217T203709Z
LAST-MODIFIED:20260326T145434Z
UID:10000576-1804311900-1804357800@www.darulislah.org
SUMMARY:Journey Through the Hadith
DESCRIPTION:
URL:https://www.darulislah.org/events/journey-through-the-hadith-2/2027-03-06/
CATEGORIES:Masjid Events
ATTACH;FMTTYPE=image/png:https://www.darulislah.org/wp-content/uploads/2025/09/Fajr-Khatiras-1.png
END:VEVENT
BEGIN:VEVENT
DTSTART;TZID=America/New_York:20270306T120000
DTEND;TZID=America/New_York:20270306T130000
DTSTAMP:20260425T103748
CREATED:20250902T201934Z
LAST-MODIFIED:20250902T201934Z
UID:10001880-1804334400-1804338000@www.darulislah.org
SUMMARY:Sisters' Tajweed Class
DESCRIPTION:
URL:https://www.darulislah.org/events/sisters-tajweed-class/2027-03-06/
CATEGORIES:Masjid Events
ATTACH;FMTTYPE=image/png:https://www.darulislah.org/wp-content/uploads/2025/09/Sisters-Tajweed-Class-7.png
END:VEVENT
BEGIN:VEVENT
DTSTART;TZID=America/New_York:20270307T054500
DTEND;TZID=America/New_York:20270307T063000
DTSTAMP:20260425T103748
CREATED:20250902T175939Z
LAST-MODIFIED:20250902T180641Z
UID:10000836-1804398300-1804401000@www.darulislah.org
SUMMARY:Journey through the Quran
DESCRIPTION:Fajr Khatirah with Imam Saeed Qureshi
URL:https://www.darulislah.org/events/journey-through-the-quran/2027-03-07/
CATEGORIES:Masjid Events
ATTACH;FMTTYPE=image/png:https://www.darulislah.org/wp-content/uploads/2025/04/Fajr-Khatiras-1.png
END:VEVENT
BEGIN:VEVENT
DTSTART;TZID=America/New_York:20270310T193000
DTEND;TZID=America/New_York:20270310T200000
DTSTAMP:20260425T103748
CREATED:20260217T203400Z
LAST-MODIFIED:20260326T145414Z
UID:10001359-1804707000-1804708800@www.darulislah.org
SUMMARY:Sh. Waleed's Post Maghrib Khatira
DESCRIPTION:
URL:https://www.darulislah.org/events/sh-waleeds-post-maghrib-khatira-2-2/2027-03-10/
CATEGORIES:Masjid Events
ATTACH;FMTTYPE=image/png:https://www.darulislah.org/wp-content/uploads/2025/09/Weekdays-With-Sheikh-2.png
END:VEVENT
BEGIN:VEVENT
DTSTART;TZID=America/New_York:20270312T130000
DTEND;TZID=America/New_York:20270312T150000
DTSTAMP:20260425T103748
CREATED:20250902T175228Z
LAST-MODIFIED:20250902T175229Z
UID:10000316-1804856400-1804863600@www.darulislah.org
SUMMARY:Jummah
DESCRIPTION:
URL:https://www.darulislah.org/events/jummah-3/2027-03-12/
CATEGORIES:Masjid Events
END:VEVENT
BEGIN:VEVENT
DTSTART;TZID=America/New_York:20270312T170000
DTEND;TZID=America/New_York:20270312T183000
DTSTAMP:20260425T103748
CREATED:20250911T163416Z
LAST-MODIFIED:20250911T163418Z
UID:10002142-1804870800-1804876200@www.darulislah.org
SUMMARY:DI Juniors (Girls)
DESCRIPTION:
URL:https://www.darulislah.org/events/di-juniors-girls-2/2027-03-12/
CATEGORIES:Masjid Events
END:VEVENT
BEGIN:VEVENT
DTSTART;TZID=America/New_York:20270312T190000
DTEND;TZID=America/New_York:20270312T200000
DTSTAMP:20260425T103748
CREATED:20260217T203504Z
LAST-MODIFIED:20260326T145420Z
UID:10001620-1804878000-1804881600@www.darulislah.org
SUMMARY:Sisters' Halaqa
DESCRIPTION:
URL:https://www.darulislah.org/events/sisters-halaqa-2/2027-03-12/
CATEGORIES:Masjid Events
ATTACH;FMTTYPE=image/png:https://www.darulislah.org/wp-content/uploads/2025/09/Sr.-Sherins-Halaqa-Real-Estate-Flyer-11.png
END:VEVENT
BEGIN:VEVENT
DTSTART;TZID=America/New_York:20270313T054500
DTEND;TZID=America/New_York:20270313T183000
DTSTAMP:20260425T103748
CREATED:20260217T203709Z
LAST-MODIFIED:20260326T145434Z
UID:10000577-1804916700-1804962600@www.darulislah.org
SUMMARY:Journey Through the Hadith
DESCRIPTION:
URL:https://www.darulislah.org/events/journey-through-the-hadith-2/2027-03-13/
CATEGORIES:Masjid Events
ATTACH;FMTTYPE=image/png:https://www.darulislah.org/wp-content/uploads/2025/09/Fajr-Khatiras-1.png
END:VEVENT
BEGIN:VEVENT
DTSTART;TZID=America/New_York:20270313T120000
DTEND;TZID=America/New_York:20270313T130000
DTSTAMP:20260425T103748
CREATED:20250902T201934Z
LAST-MODIFIED:20250902T201934Z
UID:10001881-1804939200-1804942800@www.darulislah.org
SUMMARY:Sisters' Tajweed Class
DESCRIPTION:
URL:https://www.darulislah.org/events/sisters-tajweed-class/2027-03-13/
CATEGORIES:Masjid Events
ATTACH;FMTTYPE=image/png:https://www.darulislah.org/wp-content/uploads/2025/09/Sisters-Tajweed-Class-7.png
END:VEVENT
BEGIN:VEVENT
DTSTART;TZID=America/New_York:20270314T054500
DTEND;TZID=America/New_York:20270314T063000
DTSTAMP:20260425T103748
CREATED:20250902T175939Z
LAST-MODIFIED:20250902T180641Z
UID:10000837-1805003100-1805005800@www.darulislah.org
SUMMARY:Journey through the Quran
DESCRIPTION:Fajr Khatirah with Imam Saeed Qureshi
URL:https://www.darulislah.org/events/journey-through-the-quran/2027-03-14/
CATEGORIES:Masjid Events
ATTACH;FMTTYPE=image/png:https://www.darulislah.org/wp-content/uploads/2025/04/Fajr-Khatiras-1.png
END:VEVENT
BEGIN:VEVENT
DTSTART;TZID=America/New_York:20270317T193000
DTEND;TZID=America/New_York:20270317T200000
DTSTAMP:20260425T103748
CREATED:20260217T203400Z
LAST-MODIFIED:20260326T145414Z
UID:10001360-1805311800-1805313600@www.darulislah.org
SUMMARY:Sh. Waleed's Post Maghrib Khatira
DESCRIPTION:
URL:https://www.darulislah.org/events/sh-waleeds-post-maghrib-khatira-2-2/2027-03-17/
CATEGORIES:Masjid Events
ATTACH;FMTTYPE=image/png:https://www.darulislah.org/wp-content/uploads/2025/09/Weekdays-With-Sheikh-2.png
END:VEVENT
BEGIN:VEVENT
DTSTART;TZID=America/New_York:20270319T130000
DTEND;TZID=America/New_York:20270319T150000
DTSTAMP:20260425T103748
CREATED:20250902T175228Z
LAST-MODIFIED:20250902T175229Z
UID:10000317-1805461200-1805468400@www.darulislah.org
SUMMARY:Jummah
DESCRIPTION:
URL:https://www.darulislah.org/events/jummah-3/2027-03-19/
CATEGORIES:Masjid Events
END:VEVENT
BEGIN:VEVENT
DTSTART;TZID=America/New_York:20270319T170000
DTEND;TZID=America/New_York:20270319T183000
DTSTAMP:20260425T103748
CREATED:20250911T163416Z
LAST-MODIFIED:20250911T163418Z
UID:10002143-1805475600-1805481000@www.darulislah.org
SUMMARY:DI Juniors (Girls)
DESCRIPTION:
URL:https://www.darulislah.org/events/di-juniors-girls-2/2027-03-19/
CATEGORIES:Masjid Events
END:VEVENT
BEGIN:VEVENT
DTSTART;TZID=America/New_York:20270319T190000
DTEND;TZID=America/New_York:20270319T200000
DTSTAMP:20260425T103748
CREATED:20260217T203504Z
LAST-MODIFIED:20260326T145420Z
UID:10001621-1805482800-1805486400@www.darulislah.org
SUMMARY:Sisters' Halaqa
DESCRIPTION:
URL:https://www.darulislah.org/events/sisters-halaqa-2/2027-03-19/
CATEGORIES:Masjid Events
ATTACH;FMTTYPE=image/png:https://www.darulislah.org/wp-content/uploads/2025/09/Sr.-Sherins-Halaqa-Real-Estate-Flyer-11.png
END:VEVENT
BEGIN:VEVENT
DTSTART;TZID=America/New_York:20270320T054500
DTEND;TZID=America/New_York:20270320T183000
DTSTAMP:20260425T103748
CREATED:20260217T203709Z
LAST-MODIFIED:20260326T145434Z
UID:10000578-1805521500-1805567400@www.darulislah.org
SUMMARY:Journey Through the Hadith
DESCRIPTION:
URL:https://www.darulislah.org/events/journey-through-the-hadith-2/2027-03-20/
CATEGORIES:Masjid Events
ATTACH;FMTTYPE=image/png:https://www.darulislah.org/wp-content/uploads/2025/09/Fajr-Khatiras-1.png
END:VEVENT
BEGIN:VEVENT
DTSTART;TZID=America/New_York:20270320T120000
DTEND;TZID=America/New_York:20270320T130000
DTSTAMP:20260425T103748
CREATED:20250902T201934Z
LAST-MODIFIED:20250902T201934Z
UID:10001882-1805544000-1805547600@www.darulislah.org
SUMMARY:Sisters' Tajweed Class
DESCRIPTION:
URL:https://www.darulislah.org/events/sisters-tajweed-class/2027-03-20/
CATEGORIES:Masjid Events
ATTACH;FMTTYPE=image/png:https://www.darulislah.org/wp-content/uploads/2025/09/Sisters-Tajweed-Class-7.png
END:VEVENT
BEGIN:VEVENT
DTSTART;TZID=America/New_York:20270321T054500
DTEND;TZID=America/New_York:20270321T063000
DTSTAMP:20260425T103748
CREATED:20250902T175939Z
LAST-MODIFIED:20250902T180641Z
UID:10000838-1805607900-1805610600@www.darulislah.org
SUMMARY:Journey through the Quran
DESCRIPTION:Fajr Khatirah with Imam Saeed Qureshi
URL:https://www.darulislah.org/events/journey-through-the-quran/2027-03-21/
CATEGORIES:Masjid Events
ATTACH;FMTTYPE=image/png:https://www.darulislah.org/wp-content/uploads/2025/04/Fajr-Khatiras-1.png
END:VEVENT
BEGIN:VEVENT
DTSTART;TZID=America/New_York:20270324T193000
DTEND;TZID=America/New_York:20270324T200000
DTSTAMP:20260425T103748
CREATED:20260217T203400Z
LAST-MODIFIED:20260326T145414Z
UID:10001361-1805916600-1805918400@www.darulislah.org
SUMMARY:Sh. Waleed's Post Maghrib Khatira
DESCRIPTION:
URL:https://www.darulislah.org/events/sh-waleeds-post-maghrib-khatira-2-2/2027-03-24/
CATEGORIES:Masjid Events
ATTACH;FMTTYPE=image/png:https://www.darulislah.org/wp-content/uploads/2025/09/Weekdays-With-Sheikh-2.png
END:VEVENT
BEGIN:VEVENT
DTSTART;TZID=America/New_York:20270326T130000
DTEND;TZID=America/New_York:20270326T150000
DTSTAMP:20260425T103748
CREATED:20250902T175228Z
LAST-MODIFIED:20250902T175229Z
UID:10000318-1806066000-1806073200@www.darulislah.org
SUMMARY:Jummah
DESCRIPTION:
URL:https://www.darulislah.org/events/jummah-3/2027-03-26/
CATEGORIES:Masjid Events
END:VEVENT
BEGIN:VEVENT
DTSTART;TZID=America/New_York:20270326T170000
DTEND;TZID=America/New_York:20270326T183000
DTSTAMP:20260425T103748
CREATED:20250911T163416Z
LAST-MODIFIED:20250911T163418Z
UID:10002144-1806080400-1806085800@www.darulislah.org
SUMMARY:DI Juniors (Girls)
DESCRIPTION:
URL:https://www.darulislah.org/events/di-juniors-girls-2/2027-03-26/
CATEGORIES:Masjid Events
END:VEVENT
BEGIN:VEVENT
DTSTART;TZID=America/New_York:20270326T190000
DTEND;TZID=America/New_York:20270326T200000
DTSTAMP:20260425T103748
CREATED:20260217T203504Z
LAST-MODIFIED:20260326T145420Z
UID:10001622-1806087600-1806091200@www.darulislah.org
SUMMARY:Sisters' Halaqa
DESCRIPTION:
URL:https://www.darulislah.org/events/sisters-halaqa-2/2027-03-26/
CATEGORIES:Masjid Events
ATTACH;FMTTYPE=image/png:https://www.darulislah.org/wp-content/uploads/2025/09/Sr.-Sherins-Halaqa-Real-Estate-Flyer-11.png
END:VEVENT
END:VCALENDAR