BEGIN:VCALENDAR
VERSION:2.0
PRODID:-//Darul Islah | Muslim Society of Bergen County - ECPv6.15.20//NONSGML v1.0//EN
CALSCALE:GREGORIAN
METHOD:PUBLISH
X-WR-CALNAME:Darul Islah | Muslim Society of Bergen County
X-ORIGINAL-URL:https://www.darulislah.org
X-WR-CALDESC:Events for Darul Islah | Muslim Society of Bergen County
REFRESH-INTERVAL;VALUE=DURATION:PT1H
X-Robots-Tag:noindex
X-PUBLISHED-TTL:PT1H
BEGIN:VTIMEZONE
TZID:America/New_York
BEGIN:DAYLIGHT
TZOFFSETFROM:-0500
TZOFFSETTO:-0400
TZNAME:EDT
DTSTART:20260308T070000
END:DAYLIGHT
BEGIN:STANDARD
TZOFFSETFROM:-0400
TZOFFSETTO:-0500
TZNAME:EST
DTSTART:20261101T060000
END:STANDARD
BEGIN:DAYLIGHT
TZOFFSETFROM:-0500
TZOFFSETTO:-0400
TZNAME:EDT
DTSTART:20270314T070000
END:DAYLIGHT
BEGIN:STANDARD
TZOFFSETFROM:-0400
TZOFFSETTO:-0500
TZNAME:EST
DTSTART:20271107T060000
END:STANDARD
BEGIN:DAYLIGHT
TZOFFSETFROM:-0500
TZOFFSETTO:-0400
TZNAME:EDT
DTSTART:20280312T070000
END:DAYLIGHT
BEGIN:STANDARD
TZOFFSETFROM:-0400
TZOFFSETTO:-0500
TZNAME:EST
DTSTART:20281105T060000
END:STANDARD
END:VTIMEZONE
BEGIN:VEVENT
DTSTART;TZID=America/New_York:20270924T130000
DTEND;TZID=America/New_York:20270924T150000
DTSTAMP:20260425T115006
CREATED:20250902T175228Z
LAST-MODIFIED:20250902T175229Z
UID:10000344-1821790800-1821798000@www.darulislah.org
SUMMARY:Jummah
DESCRIPTION:
URL:https://www.darulislah.org/events/jummah-3/2027-09-24/
CATEGORIES:Masjid Events
END:VEVENT
BEGIN:VEVENT
DTSTART;TZID=America/New_York:20270924T170000
DTEND;TZID=America/New_York:20270924T183000
DTSTAMP:20260425T115006
CREATED:20250911T163416Z
LAST-MODIFIED:20250911T163418Z
UID:10002170-1821805200-1821810600@www.darulislah.org
SUMMARY:DI Juniors (Girls)
DESCRIPTION:
URL:https://www.darulislah.org/events/di-juniors-girls-2/2027-09-24/
CATEGORIES:Masjid Events
END:VEVENT
BEGIN:VEVENT
DTSTART;TZID=America/New_York:20270924T190000
DTEND;TZID=America/New_York:20270924T200000
DTSTAMP:20260425T115006
CREATED:20260217T203504Z
LAST-MODIFIED:20260326T145420Z
UID:10001648-1821812400-1821816000@www.darulislah.org
SUMMARY:Sisters' Halaqa
DESCRIPTION:
URL:https://www.darulislah.org/events/sisters-halaqa-2/2027-09-24/
CATEGORIES:Masjid Events
ATTACH;FMTTYPE=image/png:https://www.darulislah.org/wp-content/uploads/2025/09/Sr.-Sherins-Halaqa-Real-Estate-Flyer-11.png
END:VEVENT
BEGIN:VEVENT
DTSTART;TZID=America/New_York:20270925T054500
DTEND;TZID=America/New_York:20270925T183000
DTSTAMP:20260425T115006
CREATED:20260217T203709Z
LAST-MODIFIED:20260326T145434Z
UID:10000605-1821851100-1821897000@www.darulislah.org
SUMMARY:Journey Through the Hadith
DESCRIPTION:
URL:https://www.darulislah.org/events/journey-through-the-hadith-2/2027-09-25/
CATEGORIES:Masjid Events
ATTACH;FMTTYPE=image/png:https://www.darulislah.org/wp-content/uploads/2025/09/Fajr-Khatiras-1.png
END:VEVENT
BEGIN:VEVENT
DTSTART;TZID=America/New_York:20270925T120000
DTEND;TZID=America/New_York:20270925T130000
DTSTAMP:20260425T115006
CREATED:20250902T201934Z
LAST-MODIFIED:20250902T201934Z
UID:10001909-1821873600-1821877200@www.darulislah.org
SUMMARY:Sisters' Tajweed Class
DESCRIPTION:
URL:https://www.darulislah.org/events/sisters-tajweed-class/2027-09-25/
CATEGORIES:Masjid Events
ATTACH;FMTTYPE=image/png:https://www.darulislah.org/wp-content/uploads/2025/09/Sisters-Tajweed-Class-7.png
END:VEVENT
BEGIN:VEVENT
DTSTART;TZID=America/New_York:20270926T054500
DTEND;TZID=America/New_York:20270926T063000
DTSTAMP:20260425T115006
CREATED:20250902T175939Z
LAST-MODIFIED:20250902T180641Z
UID:10000865-1821937500-1821940200@www.darulislah.org
SUMMARY:Journey through the Quran
DESCRIPTION:Fajr Khatirah with Imam Saeed Qureshi
URL:https://www.darulislah.org/events/journey-through-the-quran/2027-09-26/
CATEGORIES:Masjid Events
ATTACH;FMTTYPE=image/png:https://www.darulislah.org/wp-content/uploads/2025/04/Fajr-Khatiras-1.png
END:VEVENT
BEGIN:VEVENT
DTSTART;TZID=America/New_York:20270929T193000
DTEND;TZID=America/New_York:20270929T200000
DTSTAMP:20260425T115006
CREATED:20260217T203400Z
LAST-MODIFIED:20260326T145414Z
UID:10001388-1822246200-1822248000@www.darulislah.org
SUMMARY:Sh. Waleed's Post Maghrib Khatira
DESCRIPTION:
URL:https://www.darulislah.org/events/sh-waleeds-post-maghrib-khatira-2-2/2027-09-29/
CATEGORIES:Masjid Events
ATTACH;FMTTYPE=image/png:https://www.darulislah.org/wp-content/uploads/2025/09/Weekdays-With-Sheikh-2.png
END:VEVENT
BEGIN:VEVENT
DTSTART;TZID=America/New_York:20271001T130000
DTEND;TZID=America/New_York:20271001T150000
DTSTAMP:20260425T115006
CREATED:20250902T175228Z
LAST-MODIFIED:20250902T175229Z
UID:10000345-1822395600-1822402800@www.darulislah.org
SUMMARY:Jummah
DESCRIPTION:
URL:https://www.darulislah.org/events/jummah-3/2027-10-01/
CATEGORIES:Masjid Events
END:VEVENT
BEGIN:VEVENT
DTSTART;TZID=America/New_York:20271001T170000
DTEND;TZID=America/New_York:20271001T183000
DTSTAMP:20260425T115006
CREATED:20250911T163416Z
LAST-MODIFIED:20250911T163418Z
UID:10002171-1822410000-1822415400@www.darulislah.org
SUMMARY:DI Juniors (Girls)
DESCRIPTION:
URL:https://www.darulislah.org/events/di-juniors-girls-2/2027-10-01/
CATEGORIES:Masjid Events
END:VEVENT
BEGIN:VEVENT
DTSTART;TZID=America/New_York:20271001T190000
DTEND;TZID=America/New_York:20271001T200000
DTSTAMP:20260425T115006
CREATED:20260217T203504Z
LAST-MODIFIED:20260326T145420Z
UID:10001649-1822417200-1822420800@www.darulislah.org
SUMMARY:Sisters' Halaqa
DESCRIPTION:
URL:https://www.darulislah.org/events/sisters-halaqa-2/2027-10-01/
CATEGORIES:Masjid Events
ATTACH;FMTTYPE=image/png:https://www.darulislah.org/wp-content/uploads/2025/09/Sr.-Sherins-Halaqa-Real-Estate-Flyer-11.png
END:VEVENT
BEGIN:VEVENT
DTSTART;TZID=America/New_York:20271002T054500
DTEND;TZID=America/New_York:20271002T183000
DTSTAMP:20260425T115006
CREATED:20260217T203709Z
LAST-MODIFIED:20260326T145434Z
UID:10000606-1822455900-1822501800@www.darulislah.org
SUMMARY:Journey Through the Hadith
DESCRIPTION:
URL:https://www.darulislah.org/events/journey-through-the-hadith-2/2027-10-02/
CATEGORIES:Masjid Events
ATTACH;FMTTYPE=image/png:https://www.darulislah.org/wp-content/uploads/2025/09/Fajr-Khatiras-1.png
END:VEVENT
BEGIN:VEVENT
DTSTART;TZID=America/New_York:20271002T120000
DTEND;TZID=America/New_York:20271002T130000
DTSTAMP:20260425T115006
CREATED:20250902T201934Z
LAST-MODIFIED:20250902T201934Z
UID:10001910-1822478400-1822482000@www.darulislah.org
SUMMARY:Sisters' Tajweed Class
DESCRIPTION:
URL:https://www.darulislah.org/events/sisters-tajweed-class/2027-10-02/
CATEGORIES:Masjid Events
ATTACH;FMTTYPE=image/png:https://www.darulislah.org/wp-content/uploads/2025/09/Sisters-Tajweed-Class-7.png
END:VEVENT
BEGIN:VEVENT
DTSTART;TZID=America/New_York:20271003T054500
DTEND;TZID=America/New_York:20271003T063000
DTSTAMP:20260425T115006
CREATED:20250902T175939Z
LAST-MODIFIED:20250902T180641Z
UID:10000866-1822542300-1822545000@www.darulislah.org
SUMMARY:Journey through the Quran
DESCRIPTION:Fajr Khatirah with Imam Saeed Qureshi
URL:https://www.darulislah.org/events/journey-through-the-quran/2027-10-03/
CATEGORIES:Masjid Events
ATTACH;FMTTYPE=image/png:https://www.darulislah.org/wp-content/uploads/2025/04/Fajr-Khatiras-1.png
END:VEVENT
BEGIN:VEVENT
DTSTART;TZID=America/New_York:20271006T193000
DTEND;TZID=America/New_York:20271006T200000
DTSTAMP:20260425T115006
CREATED:20260217T203400Z
LAST-MODIFIED:20260326T145414Z
UID:10001389-1822851000-1822852800@www.darulislah.org
SUMMARY:Sh. Waleed's Post Maghrib Khatira
DESCRIPTION:
URL:https://www.darulislah.org/events/sh-waleeds-post-maghrib-khatira-2-2/2027-10-06/
CATEGORIES:Masjid Events
ATTACH;FMTTYPE=image/png:https://www.darulislah.org/wp-content/uploads/2025/09/Weekdays-With-Sheikh-2.png
END:VEVENT
BEGIN:VEVENT
DTSTART;TZID=America/New_York:20271008T130000
DTEND;TZID=America/New_York:20271008T150000
DTSTAMP:20260425T115006
CREATED:20250902T175228Z
LAST-MODIFIED:20250902T175229Z
UID:10000346-1823000400-1823007600@www.darulislah.org
SUMMARY:Jummah
DESCRIPTION:
URL:https://www.darulislah.org/events/jummah-3/2027-10-08/
CATEGORIES:Masjid Events
END:VEVENT
BEGIN:VEVENT
DTSTART;TZID=America/New_York:20271008T170000
DTEND;TZID=America/New_York:20271008T183000
DTSTAMP:20260425T115006
CREATED:20250911T163416Z
LAST-MODIFIED:20250911T163418Z
UID:10002172-1823014800-1823020200@www.darulislah.org
SUMMARY:DI Juniors (Girls)
DESCRIPTION:
URL:https://www.darulislah.org/events/di-juniors-girls-2/2027-10-08/
CATEGORIES:Masjid Events
END:VEVENT
BEGIN:VEVENT
DTSTART;TZID=America/New_York:20271008T190000
DTEND;TZID=America/New_York:20271008T200000
DTSTAMP:20260425T115006
CREATED:20260217T203504Z
LAST-MODIFIED:20260326T145420Z
UID:10001650-1823022000-1823025600@www.darulislah.org
SUMMARY:Sisters' Halaqa
DESCRIPTION:
URL:https://www.darulislah.org/events/sisters-halaqa-2/2027-10-08/
CATEGORIES:Masjid Events
ATTACH;FMTTYPE=image/png:https://www.darulislah.org/wp-content/uploads/2025/09/Sr.-Sherins-Halaqa-Real-Estate-Flyer-11.png
END:VEVENT
BEGIN:VEVENT
DTSTART;TZID=America/New_York:20271009T054500
DTEND;TZID=America/New_York:20271009T183000
DTSTAMP:20260425T115006
CREATED:20260217T203709Z
LAST-MODIFIED:20260326T145434Z
UID:10000607-1823060700-1823106600@www.darulislah.org
SUMMARY:Journey Through the Hadith
DESCRIPTION:
URL:https://www.darulislah.org/events/journey-through-the-hadith-2/2027-10-09/
CATEGORIES:Masjid Events
ATTACH;FMTTYPE=image/png:https://www.darulislah.org/wp-content/uploads/2025/09/Fajr-Khatiras-1.png
END:VEVENT
BEGIN:VEVENT
DTSTART;TZID=America/New_York:20271009T120000
DTEND;TZID=America/New_York:20271009T130000
DTSTAMP:20260425T115006
CREATED:20250902T201934Z
LAST-MODIFIED:20250902T201934Z
UID:10001911-1823083200-1823086800@www.darulislah.org
SUMMARY:Sisters' Tajweed Class
DESCRIPTION:
URL:https://www.darulislah.org/events/sisters-tajweed-class/2027-10-09/
CATEGORIES:Masjid Events
ATTACH;FMTTYPE=image/png:https://www.darulislah.org/wp-content/uploads/2025/09/Sisters-Tajweed-Class-7.png
END:VEVENT
BEGIN:VEVENT
DTSTART;TZID=America/New_York:20271010T054500
DTEND;TZID=America/New_York:20271010T063000
DTSTAMP:20260425T115006
CREATED:20250902T175939Z
LAST-MODIFIED:20250902T180641Z
UID:10000867-1823147100-1823149800@www.darulislah.org
SUMMARY:Journey through the Quran
DESCRIPTION:Fajr Khatirah with Imam Saeed Qureshi
URL:https://www.darulislah.org/events/journey-through-the-quran/2027-10-10/
CATEGORIES:Masjid Events
ATTACH;FMTTYPE=image/png:https://www.darulislah.org/wp-content/uploads/2025/04/Fajr-Khatiras-1.png
END:VEVENT
BEGIN:VEVENT
DTSTART;TZID=America/New_York:20271013T193000
DTEND;TZID=America/New_York:20271013T200000
DTSTAMP:20260425T115006
CREATED:20260217T203400Z
LAST-MODIFIED:20260326T145414Z
UID:10001390-1823455800-1823457600@www.darulislah.org
SUMMARY:Sh. Waleed's Post Maghrib Khatira
DESCRIPTION:
URL:https://www.darulislah.org/events/sh-waleeds-post-maghrib-khatira-2-2/2027-10-13/
CATEGORIES:Masjid Events
ATTACH;FMTTYPE=image/png:https://www.darulislah.org/wp-content/uploads/2025/09/Weekdays-With-Sheikh-2.png
END:VEVENT
BEGIN:VEVENT
DTSTART;TZID=America/New_York:20271015T130000
DTEND;TZID=America/New_York:20271015T150000
DTSTAMP:20260425T115006
CREATED:20250902T175228Z
LAST-MODIFIED:20250902T175229Z
UID:10000347-1823605200-1823612400@www.darulislah.org
SUMMARY:Jummah
DESCRIPTION:
URL:https://www.darulislah.org/events/jummah-3/2027-10-15/
CATEGORIES:Masjid Events
END:VEVENT
BEGIN:VEVENT
DTSTART;TZID=America/New_York:20271015T170000
DTEND;TZID=America/New_York:20271015T183000
DTSTAMP:20260425T115006
CREATED:20250911T163416Z
LAST-MODIFIED:20250911T163418Z
UID:10002173-1823619600-1823625000@www.darulislah.org
SUMMARY:DI Juniors (Girls)
DESCRIPTION:
URL:https://www.darulislah.org/events/di-juniors-girls-2/2027-10-15/
CATEGORIES:Masjid Events
END:VEVENT
BEGIN:VEVENT
DTSTART;TZID=America/New_York:20271015T190000
DTEND;TZID=America/New_York:20271015T200000
DTSTAMP:20260425T115006
CREATED:20260217T203504Z
LAST-MODIFIED:20260326T145420Z
UID:10001651-1823626800-1823630400@www.darulislah.org
SUMMARY:Sisters' Halaqa
DESCRIPTION:
URL:https://www.darulislah.org/events/sisters-halaqa-2/2027-10-15/
CATEGORIES:Masjid Events
ATTACH;FMTTYPE=image/png:https://www.darulislah.org/wp-content/uploads/2025/09/Sr.-Sherins-Halaqa-Real-Estate-Flyer-11.png
END:VEVENT
BEGIN:VEVENT
DTSTART;TZID=America/New_York:20271016T054500
DTEND;TZID=America/New_York:20271016T183000
DTSTAMP:20260425T115006
CREATED:20260217T203709Z
LAST-MODIFIED:20260326T145434Z
UID:10000608-1823665500-1823711400@www.darulislah.org
SUMMARY:Journey Through the Hadith
DESCRIPTION:
URL:https://www.darulislah.org/events/journey-through-the-hadith-2/2027-10-16/
CATEGORIES:Masjid Events
ATTACH;FMTTYPE=image/png:https://www.darulislah.org/wp-content/uploads/2025/09/Fajr-Khatiras-1.png
END:VEVENT
BEGIN:VEVENT
DTSTART;TZID=America/New_York:20271016T120000
DTEND;TZID=America/New_York:20271016T130000
DTSTAMP:20260425T115006
CREATED:20250902T201934Z
LAST-MODIFIED:20250902T201934Z
UID:10001912-1823688000-1823691600@www.darulislah.org
SUMMARY:Sisters' Tajweed Class
DESCRIPTION:
URL:https://www.darulislah.org/events/sisters-tajweed-class/2027-10-16/
CATEGORIES:Masjid Events
ATTACH;FMTTYPE=image/png:https://www.darulislah.org/wp-content/uploads/2025/09/Sisters-Tajweed-Class-7.png
END:VEVENT
BEGIN:VEVENT
DTSTART;TZID=America/New_York:20271017T054500
DTEND;TZID=America/New_York:20271017T063000
DTSTAMP:20260425T115006
CREATED:20250902T175939Z
LAST-MODIFIED:20250902T180641Z
UID:10000868-1823751900-1823754600@www.darulislah.org
SUMMARY:Journey through the Quran
DESCRIPTION:Fajr Khatirah with Imam Saeed Qureshi
URL:https://www.darulislah.org/events/journey-through-the-quran/2027-10-17/
CATEGORIES:Masjid Events
ATTACH;FMTTYPE=image/png:https://www.darulislah.org/wp-content/uploads/2025/04/Fajr-Khatiras-1.png
END:VEVENT
BEGIN:VEVENT
DTSTART;TZID=America/New_York:20271020T193000
DTEND;TZID=America/New_York:20271020T200000
DTSTAMP:20260425T115006
CREATED:20260217T203400Z
LAST-MODIFIED:20260326T145414Z
UID:10001391-1824060600-1824062400@www.darulislah.org
SUMMARY:Sh. Waleed's Post Maghrib Khatira
DESCRIPTION:
URL:https://www.darulislah.org/events/sh-waleeds-post-maghrib-khatira-2-2/2027-10-20/
CATEGORIES:Masjid Events
ATTACH;FMTTYPE=image/png:https://www.darulislah.org/wp-content/uploads/2025/09/Weekdays-With-Sheikh-2.png
END:VEVENT
BEGIN:VEVENT
DTSTART;TZID=America/New_York:20271022T130000
DTEND;TZID=America/New_York:20271022T150000
DTSTAMP:20260425T115006
CREATED:20250902T175228Z
LAST-MODIFIED:20250902T175229Z
UID:10000348-1824210000-1824217200@www.darulislah.org
SUMMARY:Jummah
DESCRIPTION:
URL:https://www.darulislah.org/events/jummah-3/2027-10-22/
CATEGORIES:Masjid Events
END:VEVENT
BEGIN:VEVENT
DTSTART;TZID=America/New_York:20271022T170000
DTEND;TZID=America/New_York:20271022T183000
DTSTAMP:20260425T115006
CREATED:20250911T163416Z
LAST-MODIFIED:20250911T163418Z
UID:10002174-1824224400-1824229800@www.darulislah.org
SUMMARY:DI Juniors (Girls)
DESCRIPTION:
URL:https://www.darulislah.org/events/di-juniors-girls-2/2027-10-22/
CATEGORIES:Masjid Events
END:VEVENT
END:VCALENDAR