BEGIN:VCALENDAR
VERSION:2.0
PRODID:-//Darul Islah | Muslim Society of Bergen County - ECPv6.15.20//NONSGML v1.0//EN
CALSCALE:GREGORIAN
METHOD:PUBLISH
X-ORIGINAL-URL:https://www.darulislah.org
X-WR-CALDESC:Events for Darul Islah | Muslim Society of Bergen County
REFRESH-INTERVAL;VALUE=DURATION:PT1H
X-Robots-Tag:noindex
X-PUBLISHED-TTL:PT1H
BEGIN:VTIMEZONE
TZID:America/New_York
BEGIN:DAYLIGHT
TZOFFSETFROM:-0500
TZOFFSETTO:-0400
TZNAME:EDT
DTSTART:20260308T070000
END:DAYLIGHT
BEGIN:STANDARD
TZOFFSETFROM:-0400
TZOFFSETTO:-0500
TZNAME:EST
DTSTART:20261101T060000
END:STANDARD
BEGIN:DAYLIGHT
TZOFFSETFROM:-0500
TZOFFSETTO:-0400
TZNAME:EDT
DTSTART:20270314T070000
END:DAYLIGHT
BEGIN:STANDARD
TZOFFSETFROM:-0400
TZOFFSETTO:-0500
TZNAME:EST
DTSTART:20271107T060000
END:STANDARD
BEGIN:DAYLIGHT
TZOFFSETFROM:-0500
TZOFFSETTO:-0400
TZNAME:EDT
DTSTART:20280312T070000
END:DAYLIGHT
BEGIN:STANDARD
TZOFFSETFROM:-0400
TZOFFSETTO:-0500
TZNAME:EST
DTSTART:20281105T060000
END:STANDARD
BEGIN:DAYLIGHT
TZOFFSETFROM:-0500
TZOFFSETTO:-0400
TZNAME:EDT
DTSTART:20290311T070000
END:DAYLIGHT
BEGIN:STANDARD
TZOFFSETFROM:-0400
TZOFFSETTO:-0500
TZNAME:EST
DTSTART:20291104T060000
END:STANDARD
END:VTIMEZONE
BEGIN:VEVENT
DTSTART;TZID=America/New_York:20271222T193000
DTEND;TZID=America/New_York:20271222T200000
DTSTAMP:20260425T120403
CREATED:20260217T203400Z
LAST-MODIFIED:20260326T145414Z
UID:10001400-1829503800-1829505600@www.darulislah.org
SUMMARY:Sh. Waleed's Post Maghrib Khatira
DESCRIPTION:
URL:https://www.darulislah.org/events/sh-waleeds-post-maghrib-khatira-2-2/2027-12-22/
CATEGORIES:Masjid Events
ATTACH;FMTTYPE=image/png:https://www.darulislah.org/wp-content/uploads/2025/09/Weekdays-With-Sheikh-2.png
END:VEVENT
BEGIN:VEVENT
DTSTART;TZID=America/New_York:20271224T130000
DTEND;TZID=America/New_York:20271224T150000
DTSTAMP:20260425T120403
CREATED:20250902T175228Z
LAST-MODIFIED:20250902T175229Z
UID:10000357-1829653200-1829660400@www.darulislah.org
SUMMARY:Jummah
DESCRIPTION:
URL:https://www.darulislah.org/events/jummah-3/2027-12-24/
CATEGORIES:Masjid Events
END:VEVENT
BEGIN:VEVENT
DTSTART;TZID=America/New_York:20271224T170000
DTEND;TZID=America/New_York:20271224T183000
DTSTAMP:20260425T120403
CREATED:20250911T163416Z
LAST-MODIFIED:20250911T163418Z
UID:10002183-1829667600-1829673000@www.darulislah.org
SUMMARY:DI Juniors (Girls)
DESCRIPTION:
URL:https://www.darulislah.org/events/di-juniors-girls-2/2027-12-24/
CATEGORIES:Masjid Events
END:VEVENT
BEGIN:VEVENT
DTSTART;TZID=America/New_York:20271224T190000
DTEND;TZID=America/New_York:20271224T200000
DTSTAMP:20260425T120403
CREATED:20260217T203504Z
LAST-MODIFIED:20260326T145420Z
UID:10001661-1829674800-1829678400@www.darulislah.org
SUMMARY:Sisters' Halaqa
DESCRIPTION:
URL:https://www.darulislah.org/events/sisters-halaqa-2/2027-12-24/
CATEGORIES:Masjid Events
ATTACH;FMTTYPE=image/png:https://www.darulislah.org/wp-content/uploads/2025/09/Sr.-Sherins-Halaqa-Real-Estate-Flyer-11.png
END:VEVENT
BEGIN:VEVENT
DTSTART;TZID=America/New_York:20271225T054500
DTEND;TZID=America/New_York:20271225T183000
DTSTAMP:20260425T120403
CREATED:20260217T203709Z
LAST-MODIFIED:20260326T145434Z
UID:10000618-1829713500-1829759400@www.darulislah.org
SUMMARY:Journey Through the Hadith
DESCRIPTION:
URL:https://www.darulislah.org/events/journey-through-the-hadith-2/2027-12-25/
CATEGORIES:Masjid Events
ATTACH;FMTTYPE=image/png:https://www.darulislah.org/wp-content/uploads/2025/09/Fajr-Khatiras-1.png
END:VEVENT
BEGIN:VEVENT
DTSTART;TZID=America/New_York:20271225T120000
DTEND;TZID=America/New_York:20271225T130000
DTSTAMP:20260425T120403
CREATED:20250902T201934Z
LAST-MODIFIED:20250902T201934Z
UID:10001922-1829736000-1829739600@www.darulislah.org
SUMMARY:Sisters' Tajweed Class
DESCRIPTION:
URL:https://www.darulislah.org/events/sisters-tajweed-class/2027-12-25/
CATEGORIES:Masjid Events
ATTACH;FMTTYPE=image/png:https://www.darulislah.org/wp-content/uploads/2025/09/Sisters-Tajweed-Class-7.png
END:VEVENT
BEGIN:VEVENT
DTSTART;TZID=America/New_York:20271226T054500
DTEND;TZID=America/New_York:20271226T063000
DTSTAMP:20260425T120403
CREATED:20250902T175939Z
LAST-MODIFIED:20250902T180641Z
UID:10000878-1829799900-1829802600@www.darulislah.org
SUMMARY:Journey through the Quran
DESCRIPTION:Fajr Khatirah with Imam Saeed Qureshi
URL:https://www.darulislah.org/events/journey-through-the-quran/2027-12-26/
CATEGORIES:Masjid Events
ATTACH;FMTTYPE=image/png:https://www.darulislah.org/wp-content/uploads/2025/04/Fajr-Khatiras-1.png
END:VEVENT
BEGIN:VEVENT
DTSTART;TZID=America/New_York:20271229T193000
DTEND;TZID=America/New_York:20271229T200000
DTSTAMP:20260425T120403
CREATED:20260217T203400Z
LAST-MODIFIED:20260326T145414Z
UID:10001401-1830108600-1830110400@www.darulislah.org
SUMMARY:Sh. Waleed's Post Maghrib Khatira
DESCRIPTION:
URL:https://www.darulislah.org/events/sh-waleeds-post-maghrib-khatira-2-2/2027-12-29/
CATEGORIES:Masjid Events
ATTACH;FMTTYPE=image/png:https://www.darulislah.org/wp-content/uploads/2025/09/Weekdays-With-Sheikh-2.png
END:VEVENT
BEGIN:VEVENT
DTSTART;TZID=America/New_York:20271231T130000
DTEND;TZID=America/New_York:20271231T150000
DTSTAMP:20260425T120403
CREATED:20250902T175228Z
LAST-MODIFIED:20250902T175229Z
UID:10000358-1830258000-1830265200@www.darulislah.org
SUMMARY:Jummah
DESCRIPTION:
URL:https://www.darulislah.org/events/jummah-3/2027-12-31/
CATEGORIES:Masjid Events
END:VEVENT
BEGIN:VEVENT
DTSTART;TZID=America/New_York:20271231T170000
DTEND;TZID=America/New_York:20271231T183000
DTSTAMP:20260425T120403
CREATED:20250911T163416Z
LAST-MODIFIED:20250911T163418Z
UID:10002184-1830272400-1830277800@www.darulislah.org
SUMMARY:DI Juniors (Girls)
DESCRIPTION:
URL:https://www.darulislah.org/events/di-juniors-girls-2/2027-12-31/
CATEGORIES:Masjid Events
END:VEVENT
BEGIN:VEVENT
DTSTART;TZID=America/New_York:20271231T190000
DTEND;TZID=America/New_York:20271231T200000
DTSTAMP:20260425T120403
CREATED:20260217T203504Z
LAST-MODIFIED:20260326T145420Z
UID:10001662-1830279600-1830283200@www.darulislah.org
SUMMARY:Sisters' Halaqa
DESCRIPTION:
URL:https://www.darulislah.org/events/sisters-halaqa-2/2027-12-31/
CATEGORIES:Masjid Events
ATTACH;FMTTYPE=image/png:https://www.darulislah.org/wp-content/uploads/2025/09/Sr.-Sherins-Halaqa-Real-Estate-Flyer-11.png
END:VEVENT
BEGIN:VEVENT
DTSTART;TZID=America/New_York:20280101T054500
DTEND;TZID=America/New_York:20280101T183000
DTSTAMP:20260425T120403
CREATED:20260217T203709Z
LAST-MODIFIED:20260326T145434Z
UID:10000619-1830318300-1830364200@www.darulislah.org
SUMMARY:Journey Through the Hadith
DESCRIPTION:
URL:https://www.darulislah.org/events/journey-through-the-hadith-2/2028-01-01/
CATEGORIES:Masjid Events
ATTACH;FMTTYPE=image/png:https://www.darulislah.org/wp-content/uploads/2025/09/Fajr-Khatiras-1.png
END:VEVENT
BEGIN:VEVENT
DTSTART;TZID=America/New_York:20280101T120000
DTEND;TZID=America/New_York:20280101T130000
DTSTAMP:20260425T120403
CREATED:20250902T201934Z
LAST-MODIFIED:20250902T201934Z
UID:10001923-1830340800-1830344400@www.darulislah.org
SUMMARY:Sisters' Tajweed Class
DESCRIPTION:
URL:https://www.darulislah.org/events/sisters-tajweed-class/2028-01-01/
CATEGORIES:Masjid Events
ATTACH;FMTTYPE=image/png:https://www.darulislah.org/wp-content/uploads/2025/09/Sisters-Tajweed-Class-7.png
END:VEVENT
BEGIN:VEVENT
DTSTART;TZID=America/New_York:20280102T054500
DTEND;TZID=America/New_York:20280102T063000
DTSTAMP:20260425T120403
CREATED:20250902T175939Z
LAST-MODIFIED:20250902T180641Z
UID:10000879-1830404700-1830407400@www.darulislah.org
SUMMARY:Journey through the Quran
DESCRIPTION:Fajr Khatirah with Imam Saeed Qureshi
URL:https://www.darulislah.org/events/journey-through-the-quran/2028-01-02/
CATEGORIES:Masjid Events
ATTACH;FMTTYPE=image/png:https://www.darulislah.org/wp-content/uploads/2025/04/Fajr-Khatiras-1.png
END:VEVENT
BEGIN:VEVENT
DTSTART;TZID=America/New_York:20280105T193000
DTEND;TZID=America/New_York:20280105T200000
DTSTAMP:20260425T120403
CREATED:20260217T203400Z
LAST-MODIFIED:20260326T145414Z
UID:10001402-1830713400-1830715200@www.darulislah.org
SUMMARY:Sh. Waleed's Post Maghrib Khatira
DESCRIPTION:
URL:https://www.darulislah.org/events/sh-waleeds-post-maghrib-khatira-2-2/2028-01-05/
CATEGORIES:Masjid Events
ATTACH;FMTTYPE=image/png:https://www.darulislah.org/wp-content/uploads/2025/09/Weekdays-With-Sheikh-2.png
END:VEVENT
BEGIN:VEVENT
DTSTART;TZID=America/New_York:20280107T130000
DTEND;TZID=America/New_York:20280107T150000
DTSTAMP:20260425T120403
CREATED:20250902T175228Z
LAST-MODIFIED:20250902T175229Z
UID:10000359-1830862800-1830870000@www.darulislah.org
SUMMARY:Jummah
DESCRIPTION:
URL:https://www.darulislah.org/events/jummah-3/2028-01-07/
CATEGORIES:Masjid Events
END:VEVENT
BEGIN:VEVENT
DTSTART;TZID=America/New_York:20280107T170000
DTEND;TZID=America/New_York:20280107T183000
DTSTAMP:20260425T120403
CREATED:20250911T163416Z
LAST-MODIFIED:20250911T163418Z
UID:10002185-1830877200-1830882600@www.darulislah.org
SUMMARY:DI Juniors (Girls)
DESCRIPTION:
URL:https://www.darulislah.org/events/di-juniors-girls-2/2028-01-07/
CATEGORIES:Masjid Events
END:VEVENT
BEGIN:VEVENT
DTSTART;TZID=America/New_York:20280107T190000
DTEND;TZID=America/New_York:20280107T200000
DTSTAMP:20260425T120403
CREATED:20260217T203504Z
LAST-MODIFIED:20260326T145420Z
UID:10001663-1830884400-1830888000@www.darulislah.org
SUMMARY:Sisters' Halaqa
DESCRIPTION:
URL:https://www.darulislah.org/events/sisters-halaqa-2/2028-01-07/
CATEGORIES:Masjid Events
ATTACH;FMTTYPE=image/png:https://www.darulislah.org/wp-content/uploads/2025/09/Sr.-Sherins-Halaqa-Real-Estate-Flyer-11.png
END:VEVENT
BEGIN:VEVENT
DTSTART;TZID=America/New_York:20280108T054500
DTEND;TZID=America/New_York:20280108T183000
DTSTAMP:20260425T120403
CREATED:20260217T203709Z
LAST-MODIFIED:20260326T145434Z
UID:10000620-1830923100-1830969000@www.darulislah.org
SUMMARY:Journey Through the Hadith
DESCRIPTION:
URL:https://www.darulislah.org/events/journey-through-the-hadith-2/2028-01-08/
CATEGORIES:Masjid Events
ATTACH;FMTTYPE=image/png:https://www.darulislah.org/wp-content/uploads/2025/09/Fajr-Khatiras-1.png
END:VEVENT
BEGIN:VEVENT
DTSTART;TZID=America/New_York:20280108T120000
DTEND;TZID=America/New_York:20280108T130000
DTSTAMP:20260425T120403
CREATED:20250902T201934Z
LAST-MODIFIED:20250902T201934Z
UID:10001924-1830945600-1830949200@www.darulislah.org
SUMMARY:Sisters' Tajweed Class
DESCRIPTION:
URL:https://www.darulislah.org/events/sisters-tajweed-class/2028-01-08/
CATEGORIES:Masjid Events
ATTACH;FMTTYPE=image/png:https://www.darulislah.org/wp-content/uploads/2025/09/Sisters-Tajweed-Class-7.png
END:VEVENT
BEGIN:VEVENT
DTSTART;TZID=America/New_York:20280109T054500
DTEND;TZID=America/New_York:20280109T063000
DTSTAMP:20260425T120403
CREATED:20250902T175939Z
LAST-MODIFIED:20250902T180641Z
UID:10000880-1831009500-1831012200@www.darulislah.org
SUMMARY:Journey through the Quran
DESCRIPTION:Fajr Khatirah with Imam Saeed Qureshi
URL:https://www.darulislah.org/events/journey-through-the-quran/2028-01-09/
CATEGORIES:Masjid Events
ATTACH;FMTTYPE=image/png:https://www.darulislah.org/wp-content/uploads/2025/04/Fajr-Khatiras-1.png
END:VEVENT
BEGIN:VEVENT
DTSTART;TZID=America/New_York:20280112T193000
DTEND;TZID=America/New_York:20280112T200000
DTSTAMP:20260425T120403
CREATED:20260217T203400Z
LAST-MODIFIED:20260326T145414Z
UID:10001403-1831318200-1831320000@www.darulislah.org
SUMMARY:Sh. Waleed's Post Maghrib Khatira
DESCRIPTION:
URL:https://www.darulislah.org/events/sh-waleeds-post-maghrib-khatira-2-2/2028-01-12/
CATEGORIES:Masjid Events
ATTACH;FMTTYPE=image/png:https://www.darulislah.org/wp-content/uploads/2025/09/Weekdays-With-Sheikh-2.png
END:VEVENT
BEGIN:VEVENT
DTSTART;TZID=America/New_York:20280114T130000
DTEND;TZID=America/New_York:20280114T150000
DTSTAMP:20260425T120403
CREATED:20250902T175228Z
LAST-MODIFIED:20250902T175229Z
UID:10000360-1831467600-1831474800@www.darulislah.org
SUMMARY:Jummah
DESCRIPTION:
URL:https://www.darulislah.org/events/jummah-3/2028-01-14/
CATEGORIES:Masjid Events
END:VEVENT
BEGIN:VEVENT
DTSTART;TZID=America/New_York:20280114T170000
DTEND;TZID=America/New_York:20280114T183000
DTSTAMP:20260425T120403
CREATED:20250911T163416Z
LAST-MODIFIED:20250911T163418Z
UID:10002186-1831482000-1831487400@www.darulislah.org
SUMMARY:DI Juniors (Girls)
DESCRIPTION:
URL:https://www.darulislah.org/events/di-juniors-girls-2/2028-01-14/
CATEGORIES:Masjid Events
END:VEVENT
BEGIN:VEVENT
DTSTART;TZID=America/New_York:20280114T190000
DTEND;TZID=America/New_York:20280114T200000
DTSTAMP:20260425T120403
CREATED:20260217T203504Z
LAST-MODIFIED:20260326T145420Z
UID:10001664-1831489200-1831492800@www.darulislah.org
SUMMARY:Sisters' Halaqa
DESCRIPTION:
URL:https://www.darulislah.org/events/sisters-halaqa-2/2028-01-14/
CATEGORIES:Masjid Events
ATTACH;FMTTYPE=image/png:https://www.darulislah.org/wp-content/uploads/2025/09/Sr.-Sherins-Halaqa-Real-Estate-Flyer-11.png
END:VEVENT
BEGIN:VEVENT
DTSTART;TZID=America/New_York:20280115T054500
DTEND;TZID=America/New_York:20280115T183000
DTSTAMP:20260425T120403
CREATED:20260217T203709Z
LAST-MODIFIED:20260326T145434Z
UID:10000621-1831527900-1831573800@www.darulislah.org
SUMMARY:Journey Through the Hadith
DESCRIPTION:
URL:https://www.darulislah.org/events/journey-through-the-hadith-2/2028-01-15/
CATEGORIES:Masjid Events
ATTACH;FMTTYPE=image/png:https://www.darulislah.org/wp-content/uploads/2025/09/Fajr-Khatiras-1.png
END:VEVENT
BEGIN:VEVENT
DTSTART;TZID=America/New_York:20280115T120000
DTEND;TZID=America/New_York:20280115T130000
DTSTAMP:20260425T120403
CREATED:20250902T201934Z
LAST-MODIFIED:20250902T201934Z
UID:10001925-1831550400-1831554000@www.darulislah.org
SUMMARY:Sisters' Tajweed Class
DESCRIPTION:
URL:https://www.darulislah.org/events/sisters-tajweed-class/2028-01-15/
CATEGORIES:Masjid Events
ATTACH;FMTTYPE=image/png:https://www.darulislah.org/wp-content/uploads/2025/09/Sisters-Tajweed-Class-7.png
END:VEVENT
BEGIN:VEVENT
DTSTART;TZID=America/New_York:20280116T054500
DTEND;TZID=America/New_York:20280116T063000
DTSTAMP:20260425T120403
CREATED:20250902T175939Z
LAST-MODIFIED:20250902T180641Z
UID:10000881-1831614300-1831617000@www.darulislah.org
SUMMARY:Journey through the Quran
DESCRIPTION:Fajr Khatirah with Imam Saeed Qureshi
URL:https://www.darulislah.org/events/journey-through-the-quran/2028-01-16/
CATEGORIES:Masjid Events
ATTACH;FMTTYPE=image/png:https://www.darulislah.org/wp-content/uploads/2025/04/Fajr-Khatiras-1.png
END:VEVENT
BEGIN:VEVENT
DTSTART;TZID=America/New_York:20280119T193000
DTEND;TZID=America/New_York:20280119T200000
DTSTAMP:20260425T120403
CREATED:20260217T203400Z
LAST-MODIFIED:20260326T145414Z
UID:10001404-1831923000-1831924800@www.darulislah.org
SUMMARY:Sh. Waleed's Post Maghrib Khatira
DESCRIPTION:
URL:https://www.darulislah.org/events/sh-waleeds-post-maghrib-khatira-2-2/2028-01-19/
CATEGORIES:Masjid Events
ATTACH;FMTTYPE=image/png:https://www.darulislah.org/wp-content/uploads/2025/09/Weekdays-With-Sheikh-2.png
END:VEVENT
BEGIN:VEVENT
DTSTART;TZID=America/New_York:20280121T130000
DTEND;TZID=America/New_York:20280121T150000
DTSTAMP:20260425T120403
CREATED:20250902T175228Z
LAST-MODIFIED:20250902T175229Z
UID:10000361-1832072400-1832079600@www.darulislah.org
SUMMARY:Jummah
DESCRIPTION:
URL:https://www.darulislah.org/events/jummah-3/2028-01-21/
CATEGORIES:Masjid Events
END:VEVENT
END:VCALENDAR