BEGIN:VCALENDAR
VERSION:2.0
PRODID:-//Darul Islah | Muslim Society of Bergen County - ECPv6.15.20//NONSGML v1.0//EN
CALSCALE:GREGORIAN
METHOD:PUBLISH
X-WR-CALNAME:Darul Islah | Muslim Society of Bergen County
X-ORIGINAL-URL:https://www.darulislah.org
X-WR-CALDESC:Events for Darul Islah | Muslim Society of Bergen County
REFRESH-INTERVAL;VALUE=DURATION:PT1H
X-Robots-Tag:noindex
X-PUBLISHED-TTL:PT1H
BEGIN:VTIMEZONE
TZID:America/New_York
BEGIN:DAYLIGHT
TZOFFSETFROM:-0500
TZOFFSETTO:-0400
TZNAME:EDT
DTSTART:20280312T070000
END:DAYLIGHT
BEGIN:STANDARD
TZOFFSETFROM:-0400
TZOFFSETTO:-0500
TZNAME:EST
DTSTART:20281105T060000
END:STANDARD
BEGIN:DAYLIGHT
TZOFFSETFROM:-0500
TZOFFSETTO:-0400
TZNAME:EDT
DTSTART:20290311T070000
END:DAYLIGHT
BEGIN:STANDARD
TZOFFSETFROM:-0400
TZOFFSETTO:-0500
TZNAME:EST
DTSTART:20291104T060000
END:STANDARD
BEGIN:DAYLIGHT
TZOFFSETFROM:-0500
TZOFFSETTO:-0400
TZNAME:EDT
DTSTART:20300310T070000
END:DAYLIGHT
BEGIN:STANDARD
TZOFFSETFROM:-0400
TZOFFSETTO:-0500
TZNAME:EST
DTSTART:20301103T060000
END:STANDARD
END:VTIMEZONE
BEGIN:VEVENT
DTSTART;TZID=America/New_York:20290801T193000
DTEND;TZID=America/New_York:20290801T200000
DTSTAMP:20260425T232131
CREATED:20260217T203400Z
LAST-MODIFIED:20260326T145414Z
UID:10001484-1880307000-1880308800@www.darulislah.org
SUMMARY:Sh. Waleed's Post Maghrib Khatira
DESCRIPTION:
URL:https://www.darulislah.org/events/sh-waleeds-post-maghrib-khatira-2-2/2029-08-01/
CATEGORIES:Masjid Events
ATTACH;FMTTYPE=image/png:https://www.darulislah.org/wp-content/uploads/2025/09/Weekdays-With-Sheikh-2.png
END:VEVENT
BEGIN:VEVENT
DTSTART;TZID=America/New_York:20290803T130000
DTEND;TZID=America/New_York:20290803T150000
DTSTAMP:20260425T232131
CREATED:20250902T175228Z
LAST-MODIFIED:20250902T175229Z
UID:10000441-1880456400-1880463600@www.darulislah.org
SUMMARY:Jummah
DESCRIPTION:
URL:https://www.darulislah.org/events/jummah-3/2029-08-03/
CATEGORIES:Masjid Events
END:VEVENT
BEGIN:VEVENT
DTSTART;TZID=America/New_York:20290803T170000
DTEND;TZID=America/New_York:20290803T183000
DTSTAMP:20260425T232131
CREATED:20250911T163416Z
LAST-MODIFIED:20250911T163418Z
UID:10002267-1880470800-1880476200@www.darulislah.org
SUMMARY:DI Juniors (Girls)
DESCRIPTION:
URL:https://www.darulislah.org/events/di-juniors-girls-2/2029-08-03/
CATEGORIES:Masjid Events
END:VEVENT
BEGIN:VEVENT
DTSTART;TZID=America/New_York:20290803T190000
DTEND;TZID=America/New_York:20290803T200000
DTSTAMP:20260425T232131
CREATED:20260217T203504Z
LAST-MODIFIED:20260326T145420Z
UID:10001745-1880478000-1880481600@www.darulislah.org
SUMMARY:Sisters' Halaqa
DESCRIPTION:
URL:https://www.darulislah.org/events/sisters-halaqa-2/2029-08-03/
CATEGORIES:Masjid Events
ATTACH;FMTTYPE=image/png:https://www.darulislah.org/wp-content/uploads/2025/09/Sr.-Sherins-Halaqa-Real-Estate-Flyer-11.png
END:VEVENT
BEGIN:VEVENT
DTSTART;TZID=America/New_York:20290804T054500
DTEND;TZID=America/New_York:20290804T183000
DTSTAMP:20260425T232131
CREATED:20260217T203709Z
LAST-MODIFIED:20260326T145434Z
UID:10000702-1880516700-1880562600@www.darulislah.org
SUMMARY:Journey Through the Hadith
DESCRIPTION:
URL:https://www.darulislah.org/events/journey-through-the-hadith-2/2029-08-04/
CATEGORIES:Masjid Events
ATTACH;FMTTYPE=image/png:https://www.darulislah.org/wp-content/uploads/2025/09/Fajr-Khatiras-1.png
END:VEVENT
BEGIN:VEVENT
DTSTART;TZID=America/New_York:20290804T120000
DTEND;TZID=America/New_York:20290804T130000
DTSTAMP:20260425T232131
CREATED:20250902T201934Z
LAST-MODIFIED:20250902T201934Z
UID:10002006-1880539200-1880542800@www.darulislah.org
SUMMARY:Sisters' Tajweed Class
DESCRIPTION:
URL:https://www.darulislah.org/events/sisters-tajweed-class/2029-08-04/
CATEGORIES:Masjid Events
ATTACH;FMTTYPE=image/png:https://www.darulislah.org/wp-content/uploads/2025/09/Sisters-Tajweed-Class-7.png
END:VEVENT
BEGIN:VEVENT
DTSTART;TZID=America/New_York:20290805T054500
DTEND;TZID=America/New_York:20290805T063000
DTSTAMP:20260425T232131
CREATED:20250902T175939Z
LAST-MODIFIED:20250902T180641Z
UID:10000962-1880603100-1880605800@www.darulislah.org
SUMMARY:Journey through the Quran
DESCRIPTION:Fajr Khatirah with Imam Saeed Qureshi
URL:https://www.darulislah.org/events/journey-through-the-quran/2029-08-05/
CATEGORIES:Masjid Events
ATTACH;FMTTYPE=image/png:https://www.darulislah.org/wp-content/uploads/2025/04/Fajr-Khatiras-1.png
END:VEVENT
BEGIN:VEVENT
DTSTART;TZID=America/New_York:20290808T193000
DTEND;TZID=America/New_York:20290808T200000
DTSTAMP:20260425T232131
CREATED:20260217T203400Z
LAST-MODIFIED:20260326T145414Z
UID:10001485-1880911800-1880913600@www.darulislah.org
SUMMARY:Sh. Waleed's Post Maghrib Khatira
DESCRIPTION:
URL:https://www.darulislah.org/events/sh-waleeds-post-maghrib-khatira-2-2/2029-08-08/
CATEGORIES:Masjid Events
ATTACH;FMTTYPE=image/png:https://www.darulislah.org/wp-content/uploads/2025/09/Weekdays-With-Sheikh-2.png
END:VEVENT
BEGIN:VEVENT
DTSTART;TZID=America/New_York:20290810T130000
DTEND;TZID=America/New_York:20290810T150000
DTSTAMP:20260425T232131
CREATED:20250902T175228Z
LAST-MODIFIED:20250902T175229Z
UID:10000442-1881061200-1881068400@www.darulislah.org
SUMMARY:Jummah
DESCRIPTION:
URL:https://www.darulislah.org/events/jummah-3/2029-08-10/
CATEGORIES:Masjid Events
END:VEVENT
BEGIN:VEVENT
DTSTART;TZID=America/New_York:20290810T170000
DTEND;TZID=America/New_York:20290810T183000
DTSTAMP:20260425T232131
CREATED:20250911T163416Z
LAST-MODIFIED:20250911T163418Z
UID:10002268-1881075600-1881081000@www.darulislah.org
SUMMARY:DI Juniors (Girls)
DESCRIPTION:
URL:https://www.darulislah.org/events/di-juniors-girls-2/2029-08-10/
CATEGORIES:Masjid Events
END:VEVENT
BEGIN:VEVENT
DTSTART;TZID=America/New_York:20290810T190000
DTEND;TZID=America/New_York:20290810T200000
DTSTAMP:20260425T232131
CREATED:20260217T203504Z
LAST-MODIFIED:20260326T145420Z
UID:10001746-1881082800-1881086400@www.darulislah.org
SUMMARY:Sisters' Halaqa
DESCRIPTION:
URL:https://www.darulislah.org/events/sisters-halaqa-2/2029-08-10/
CATEGORIES:Masjid Events
ATTACH;FMTTYPE=image/png:https://www.darulislah.org/wp-content/uploads/2025/09/Sr.-Sherins-Halaqa-Real-Estate-Flyer-11.png
END:VEVENT
BEGIN:VEVENT
DTSTART;TZID=America/New_York:20290811T054500
DTEND;TZID=America/New_York:20290811T183000
DTSTAMP:20260425T232131
CREATED:20260217T203709Z
LAST-MODIFIED:20260326T145434Z
UID:10000703-1881121500-1881167400@www.darulislah.org
SUMMARY:Journey Through the Hadith
DESCRIPTION:
URL:https://www.darulislah.org/events/journey-through-the-hadith-2/2029-08-11/
CATEGORIES:Masjid Events
ATTACH;FMTTYPE=image/png:https://www.darulislah.org/wp-content/uploads/2025/09/Fajr-Khatiras-1.png
END:VEVENT
BEGIN:VEVENT
DTSTART;TZID=America/New_York:20290811T120000
DTEND;TZID=America/New_York:20290811T130000
DTSTAMP:20260425T232131
CREATED:20250902T201934Z
LAST-MODIFIED:20250902T201934Z
UID:10002007-1881144000-1881147600@www.darulislah.org
SUMMARY:Sisters' Tajweed Class
DESCRIPTION:
URL:https://www.darulislah.org/events/sisters-tajweed-class/2029-08-11/
CATEGORIES:Masjid Events
ATTACH;FMTTYPE=image/png:https://www.darulislah.org/wp-content/uploads/2025/09/Sisters-Tajweed-Class-7.png
END:VEVENT
BEGIN:VEVENT
DTSTART;TZID=America/New_York:20290812T054500
DTEND;TZID=America/New_York:20290812T063000
DTSTAMP:20260425T232131
CREATED:20250902T175939Z
LAST-MODIFIED:20250902T180641Z
UID:10000963-1881207900-1881210600@www.darulislah.org
SUMMARY:Journey through the Quran
DESCRIPTION:Fajr Khatirah with Imam Saeed Qureshi
URL:https://www.darulislah.org/events/journey-through-the-quran/2029-08-12/
CATEGORIES:Masjid Events
ATTACH;FMTTYPE=image/png:https://www.darulislah.org/wp-content/uploads/2025/04/Fajr-Khatiras-1.png
END:VEVENT
BEGIN:VEVENT
DTSTART;TZID=America/New_York:20290815T193000
DTEND;TZID=America/New_York:20290815T200000
DTSTAMP:20260425T232131
CREATED:20260217T203400Z
LAST-MODIFIED:20260326T145414Z
UID:10001486-1881516600-1881518400@www.darulislah.org
SUMMARY:Sh. Waleed's Post Maghrib Khatira
DESCRIPTION:
URL:https://www.darulislah.org/events/sh-waleeds-post-maghrib-khatira-2-2/2029-08-15/
CATEGORIES:Masjid Events
ATTACH;FMTTYPE=image/png:https://www.darulislah.org/wp-content/uploads/2025/09/Weekdays-With-Sheikh-2.png
END:VEVENT
BEGIN:VEVENT
DTSTART;TZID=America/New_York:20290817T130000
DTEND;TZID=America/New_York:20290817T150000
DTSTAMP:20260425T232131
CREATED:20250902T175228Z
LAST-MODIFIED:20250902T175229Z
UID:10000443-1881666000-1881673200@www.darulislah.org
SUMMARY:Jummah
DESCRIPTION:
URL:https://www.darulislah.org/events/jummah-3/2029-08-17/
CATEGORIES:Masjid Events
END:VEVENT
BEGIN:VEVENT
DTSTART;TZID=America/New_York:20290817T170000
DTEND;TZID=America/New_York:20290817T183000
DTSTAMP:20260425T232131
CREATED:20250911T163416Z
LAST-MODIFIED:20250911T163418Z
UID:10002269-1881680400-1881685800@www.darulislah.org
SUMMARY:DI Juniors (Girls)
DESCRIPTION:
URL:https://www.darulislah.org/events/di-juniors-girls-2/2029-08-17/
CATEGORIES:Masjid Events
END:VEVENT
BEGIN:VEVENT
DTSTART;TZID=America/New_York:20290817T190000
DTEND;TZID=America/New_York:20290817T200000
DTSTAMP:20260425T232131
CREATED:20260217T203504Z
LAST-MODIFIED:20260326T145420Z
UID:10001747-1881687600-1881691200@www.darulislah.org
SUMMARY:Sisters' Halaqa
DESCRIPTION:
URL:https://www.darulislah.org/events/sisters-halaqa-2/2029-08-17/
CATEGORIES:Masjid Events
ATTACH;FMTTYPE=image/png:https://www.darulislah.org/wp-content/uploads/2025/09/Sr.-Sherins-Halaqa-Real-Estate-Flyer-11.png
END:VEVENT
BEGIN:VEVENT
DTSTART;TZID=America/New_York:20290818T054500
DTEND;TZID=America/New_York:20290818T183000
DTSTAMP:20260425T232131
CREATED:20260217T203709Z
LAST-MODIFIED:20260326T145434Z
UID:10000704-1881726300-1881772200@www.darulislah.org
SUMMARY:Journey Through the Hadith
DESCRIPTION:
URL:https://www.darulislah.org/events/journey-through-the-hadith-2/2029-08-18/
CATEGORIES:Masjid Events
ATTACH;FMTTYPE=image/png:https://www.darulislah.org/wp-content/uploads/2025/09/Fajr-Khatiras-1.png
END:VEVENT
BEGIN:VEVENT
DTSTART;TZID=America/New_York:20290818T120000
DTEND;TZID=America/New_York:20290818T130000
DTSTAMP:20260425T232131
CREATED:20250902T201934Z
LAST-MODIFIED:20250902T201934Z
UID:10002008-1881748800-1881752400@www.darulislah.org
SUMMARY:Sisters' Tajweed Class
DESCRIPTION:
URL:https://www.darulislah.org/events/sisters-tajweed-class/2029-08-18/
CATEGORIES:Masjid Events
ATTACH;FMTTYPE=image/png:https://www.darulislah.org/wp-content/uploads/2025/09/Sisters-Tajweed-Class-7.png
END:VEVENT
BEGIN:VEVENT
DTSTART;TZID=America/New_York:20290819T054500
DTEND;TZID=America/New_York:20290819T063000
DTSTAMP:20260425T232131
CREATED:20250902T175939Z
LAST-MODIFIED:20250902T180641Z
UID:10000964-1881812700-1881815400@www.darulislah.org
SUMMARY:Journey through the Quran
DESCRIPTION:Fajr Khatirah with Imam Saeed Qureshi
URL:https://www.darulislah.org/events/journey-through-the-quran/2029-08-19/
CATEGORIES:Masjid Events
ATTACH;FMTTYPE=image/png:https://www.darulislah.org/wp-content/uploads/2025/04/Fajr-Khatiras-1.png
END:VEVENT
BEGIN:VEVENT
DTSTART;TZID=America/New_York:20290822T193000
DTEND;TZID=America/New_York:20290822T200000
DTSTAMP:20260425T232131
CREATED:20260217T203400Z
LAST-MODIFIED:20260326T145414Z
UID:10001487-1882121400-1882123200@www.darulislah.org
SUMMARY:Sh. Waleed's Post Maghrib Khatira
DESCRIPTION:
URL:https://www.darulislah.org/events/sh-waleeds-post-maghrib-khatira-2-2/2029-08-22/
CATEGORIES:Masjid Events
ATTACH;FMTTYPE=image/png:https://www.darulislah.org/wp-content/uploads/2025/09/Weekdays-With-Sheikh-2.png
END:VEVENT
BEGIN:VEVENT
DTSTART;TZID=America/New_York:20290824T130000
DTEND;TZID=America/New_York:20290824T150000
DTSTAMP:20260425T232131
CREATED:20250902T175228Z
LAST-MODIFIED:20250902T175229Z
UID:10000444-1882270800-1882278000@www.darulislah.org
SUMMARY:Jummah
DESCRIPTION:
URL:https://www.darulislah.org/events/jummah-3/2029-08-24/
CATEGORIES:Masjid Events
END:VEVENT
BEGIN:VEVENT
DTSTART;TZID=America/New_York:20290824T170000
DTEND;TZID=America/New_York:20290824T183000
DTSTAMP:20260425T232131
CREATED:20250911T163416Z
LAST-MODIFIED:20250911T163418Z
UID:10002270-1882285200-1882290600@www.darulislah.org
SUMMARY:DI Juniors (Girls)
DESCRIPTION:
URL:https://www.darulislah.org/events/di-juniors-girls-2/2029-08-24/
CATEGORIES:Masjid Events
END:VEVENT
BEGIN:VEVENT
DTSTART;TZID=America/New_York:20290824T190000
DTEND;TZID=America/New_York:20290824T200000
DTSTAMP:20260425T232131
CREATED:20260217T203504Z
LAST-MODIFIED:20260326T145420Z
UID:10001748-1882292400-1882296000@www.darulislah.org
SUMMARY:Sisters' Halaqa
DESCRIPTION:
URL:https://www.darulislah.org/events/sisters-halaqa-2/2029-08-24/
CATEGORIES:Masjid Events
ATTACH;FMTTYPE=image/png:https://www.darulislah.org/wp-content/uploads/2025/09/Sr.-Sherins-Halaqa-Real-Estate-Flyer-11.png
END:VEVENT
BEGIN:VEVENT
DTSTART;TZID=America/New_York:20290825T054500
DTEND;TZID=America/New_York:20290825T183000
DTSTAMP:20260425T232131
CREATED:20260217T203709Z
LAST-MODIFIED:20260326T145434Z
UID:10000705-1882331100-1882377000@www.darulislah.org
SUMMARY:Journey Through the Hadith
DESCRIPTION:
URL:https://www.darulislah.org/events/journey-through-the-hadith-2/2029-08-25/
CATEGORIES:Masjid Events
ATTACH;FMTTYPE=image/png:https://www.darulislah.org/wp-content/uploads/2025/09/Fajr-Khatiras-1.png
END:VEVENT
BEGIN:VEVENT
DTSTART;TZID=America/New_York:20290825T120000
DTEND;TZID=America/New_York:20290825T130000
DTSTAMP:20260425T232131
CREATED:20250902T201934Z
LAST-MODIFIED:20250902T201934Z
UID:10002009-1882353600-1882357200@www.darulislah.org
SUMMARY:Sisters' Tajweed Class
DESCRIPTION:
URL:https://www.darulislah.org/events/sisters-tajweed-class/2029-08-25/
CATEGORIES:Masjid Events
ATTACH;FMTTYPE=image/png:https://www.darulislah.org/wp-content/uploads/2025/09/Sisters-Tajweed-Class-7.png
END:VEVENT
BEGIN:VEVENT
DTSTART;TZID=America/New_York:20290826T054500
DTEND;TZID=America/New_York:20290826T063000
DTSTAMP:20260425T232131
CREATED:20250902T175939Z
LAST-MODIFIED:20250902T180641Z
UID:10000965-1882417500-1882420200@www.darulislah.org
SUMMARY:Journey through the Quran
DESCRIPTION:Fajr Khatirah with Imam Saeed Qureshi
URL:https://www.darulislah.org/events/journey-through-the-quran/2029-08-26/
CATEGORIES:Masjid Events
ATTACH;FMTTYPE=image/png:https://www.darulislah.org/wp-content/uploads/2025/04/Fajr-Khatiras-1.png
END:VEVENT
BEGIN:VEVENT
DTSTART;TZID=America/New_York:20290829T193000
DTEND;TZID=America/New_York:20290829T200000
DTSTAMP:20260425T232131
CREATED:20260217T203400Z
LAST-MODIFIED:20260326T145414Z
UID:10001488-1882726200-1882728000@www.darulislah.org
SUMMARY:Sh. Waleed's Post Maghrib Khatira
DESCRIPTION:
URL:https://www.darulislah.org/events/sh-waleeds-post-maghrib-khatira-2-2/2029-08-29/
CATEGORIES:Masjid Events
ATTACH;FMTTYPE=image/png:https://www.darulislah.org/wp-content/uploads/2025/09/Weekdays-With-Sheikh-2.png
END:VEVENT
BEGIN:VEVENT
DTSTART;TZID=America/New_York:20290831T130000
DTEND;TZID=America/New_York:20290831T150000
DTSTAMP:20260425T232131
CREATED:20250902T175228Z
LAST-MODIFIED:20250902T175229Z
UID:10000445-1882875600-1882882800@www.darulislah.org
SUMMARY:Jummah
DESCRIPTION:
URL:https://www.darulislah.org/events/jummah-3/2029-08-31/
CATEGORIES:Masjid Events
END:VEVENT
END:VCALENDAR