BEGIN:VCALENDAR
VERSION:2.0
PRODID:-//Darul Islah | Muslim Society of Bergen County - ECPv6.15.20//NONSGML v1.0//EN
CALSCALE:GREGORIAN
METHOD:PUBLISH
X-WR-CALNAME:Darul Islah | Muslim Society of Bergen County
X-ORIGINAL-URL:https://www.darulislah.org
X-WR-CALDESC:Events for Darul Islah | Muslim Society of Bergen County
REFRESH-INTERVAL;VALUE=DURATION:PT1H
X-Robots-Tag:noindex
X-PUBLISHED-TTL:PT1H
BEGIN:VTIMEZONE
TZID:America/New_York
BEGIN:DAYLIGHT
TZOFFSETFROM:-0500
TZOFFSETTO:-0400
TZNAME:EDT
DTSTART:20280312T070000
END:DAYLIGHT
BEGIN:STANDARD
TZOFFSETFROM:-0400
TZOFFSETTO:-0500
TZNAME:EST
DTSTART:20281105T060000
END:STANDARD
BEGIN:DAYLIGHT
TZOFFSETFROM:-0500
TZOFFSETTO:-0400
TZNAME:EDT
DTSTART:20290311T070000
END:DAYLIGHT
BEGIN:STANDARD
TZOFFSETFROM:-0400
TZOFFSETTO:-0500
TZNAME:EST
DTSTART:20291104T060000
END:STANDARD
BEGIN:DAYLIGHT
TZOFFSETFROM:-0500
TZOFFSETTO:-0400
TZNAME:EDT
DTSTART:20300310T070000
END:DAYLIGHT
BEGIN:STANDARD
TZOFFSETFROM:-0400
TZOFFSETTO:-0500
TZNAME:EST
DTSTART:20301103T060000
END:STANDARD
END:VTIMEZONE
BEGIN:VEVENT
DTSTART;TZID=America/New_York:20290502T193000
DTEND;TZID=America/New_York:20290502T200000
DTSTAMP:20260425T190114
CREATED:20260217T203400Z
LAST-MODIFIED:20260326T145414Z
UID:10001471-1872444600-1872446400@www.darulislah.org
SUMMARY:Sh. Waleed's Post Maghrib Khatira
DESCRIPTION:
URL:https://www.darulislah.org/events/sh-waleeds-post-maghrib-khatira-2-2/2029-05-02/
CATEGORIES:Masjid Events
ATTACH;FMTTYPE=image/png:https://www.darulislah.org/wp-content/uploads/2025/09/Weekdays-With-Sheikh-2.png
END:VEVENT
BEGIN:VEVENT
DTSTART;TZID=America/New_York:20290504T130000
DTEND;TZID=America/New_York:20290504T150000
DTSTAMP:20260425T190114
CREATED:20250902T175228Z
LAST-MODIFIED:20250902T175229Z
UID:10000428-1872594000-1872601200@www.darulislah.org
SUMMARY:Jummah
DESCRIPTION:
URL:https://www.darulislah.org/events/jummah-3/2029-05-04/
CATEGORIES:Masjid Events
END:VEVENT
BEGIN:VEVENT
DTSTART;TZID=America/New_York:20290504T170000
DTEND;TZID=America/New_York:20290504T183000
DTSTAMP:20260425T190114
CREATED:20250911T163416Z
LAST-MODIFIED:20250911T163418Z
UID:10002254-1872608400-1872613800@www.darulislah.org
SUMMARY:DI Juniors (Girls)
DESCRIPTION:
URL:https://www.darulislah.org/events/di-juniors-girls-2/2029-05-04/
CATEGORIES:Masjid Events
END:VEVENT
BEGIN:VEVENT
DTSTART;TZID=America/New_York:20290504T190000
DTEND;TZID=America/New_York:20290504T200000
DTSTAMP:20260425T190114
CREATED:20260217T203504Z
LAST-MODIFIED:20260326T145420Z
UID:10001732-1872615600-1872619200@www.darulislah.org
SUMMARY:Sisters' Halaqa
DESCRIPTION:
URL:https://www.darulislah.org/events/sisters-halaqa-2/2029-05-04/
CATEGORIES:Masjid Events
ATTACH;FMTTYPE=image/png:https://www.darulislah.org/wp-content/uploads/2025/09/Sr.-Sherins-Halaqa-Real-Estate-Flyer-11.png
END:VEVENT
BEGIN:VEVENT
DTSTART;TZID=America/New_York:20290505T054500
DTEND;TZID=America/New_York:20290505T183000
DTSTAMP:20260425T190114
CREATED:20260217T203709Z
LAST-MODIFIED:20260326T145434Z
UID:10000689-1872654300-1872700200@www.darulislah.org
SUMMARY:Journey Through the Hadith
DESCRIPTION:
URL:https://www.darulislah.org/events/journey-through-the-hadith-2/2029-05-05/
CATEGORIES:Masjid Events
ATTACH;FMTTYPE=image/png:https://www.darulislah.org/wp-content/uploads/2025/09/Fajr-Khatiras-1.png
END:VEVENT
BEGIN:VEVENT
DTSTART;TZID=America/New_York:20290505T120000
DTEND;TZID=America/New_York:20290505T130000
DTSTAMP:20260425T190114
CREATED:20250902T201934Z
LAST-MODIFIED:20250902T201934Z
UID:10001993-1872676800-1872680400@www.darulislah.org
SUMMARY:Sisters' Tajweed Class
DESCRIPTION:
URL:https://www.darulislah.org/events/sisters-tajweed-class/2029-05-05/
CATEGORIES:Masjid Events
ATTACH;FMTTYPE=image/png:https://www.darulislah.org/wp-content/uploads/2025/09/Sisters-Tajweed-Class-7.png
END:VEVENT
BEGIN:VEVENT
DTSTART;TZID=America/New_York:20290506T054500
DTEND;TZID=America/New_York:20290506T063000
DTSTAMP:20260425T190114
CREATED:20250902T175939Z
LAST-MODIFIED:20250902T180641Z
UID:10000949-1872740700-1872743400@www.darulislah.org
SUMMARY:Journey through the Quran
DESCRIPTION:Fajr Khatirah with Imam Saeed Qureshi
URL:https://www.darulislah.org/events/journey-through-the-quran/2029-05-06/
CATEGORIES:Masjid Events
ATTACH;FMTTYPE=image/png:https://www.darulislah.org/wp-content/uploads/2025/04/Fajr-Khatiras-1.png
END:VEVENT
BEGIN:VEVENT
DTSTART;TZID=America/New_York:20290509T193000
DTEND;TZID=America/New_York:20290509T200000
DTSTAMP:20260425T190114
CREATED:20260217T203400Z
LAST-MODIFIED:20260326T145414Z
UID:10001472-1873049400-1873051200@www.darulislah.org
SUMMARY:Sh. Waleed's Post Maghrib Khatira
DESCRIPTION:
URL:https://www.darulislah.org/events/sh-waleeds-post-maghrib-khatira-2-2/2029-05-09/
CATEGORIES:Masjid Events
ATTACH;FMTTYPE=image/png:https://www.darulislah.org/wp-content/uploads/2025/09/Weekdays-With-Sheikh-2.png
END:VEVENT
BEGIN:VEVENT
DTSTART;TZID=America/New_York:20290511T130000
DTEND;TZID=America/New_York:20290511T150000
DTSTAMP:20260425T190114
CREATED:20250902T175228Z
LAST-MODIFIED:20250902T175229Z
UID:10000429-1873198800-1873206000@www.darulislah.org
SUMMARY:Jummah
DESCRIPTION:
URL:https://www.darulislah.org/events/jummah-3/2029-05-11/
CATEGORIES:Masjid Events
END:VEVENT
BEGIN:VEVENT
DTSTART;TZID=America/New_York:20290511T170000
DTEND;TZID=America/New_York:20290511T183000
DTSTAMP:20260425T190114
CREATED:20250911T163416Z
LAST-MODIFIED:20250911T163418Z
UID:10002255-1873213200-1873218600@www.darulislah.org
SUMMARY:DI Juniors (Girls)
DESCRIPTION:
URL:https://www.darulislah.org/events/di-juniors-girls-2/2029-05-11/
CATEGORIES:Masjid Events
END:VEVENT
BEGIN:VEVENT
DTSTART;TZID=America/New_York:20290511T190000
DTEND;TZID=America/New_York:20290511T200000
DTSTAMP:20260425T190114
CREATED:20260217T203504Z
LAST-MODIFIED:20260326T145420Z
UID:10001733-1873220400-1873224000@www.darulislah.org
SUMMARY:Sisters' Halaqa
DESCRIPTION:
URL:https://www.darulislah.org/events/sisters-halaqa-2/2029-05-11/
CATEGORIES:Masjid Events
ATTACH;FMTTYPE=image/png:https://www.darulislah.org/wp-content/uploads/2025/09/Sr.-Sherins-Halaqa-Real-Estate-Flyer-11.png
END:VEVENT
BEGIN:VEVENT
DTSTART;TZID=America/New_York:20290512T054500
DTEND;TZID=America/New_York:20290512T183000
DTSTAMP:20260425T190114
CREATED:20260217T203709Z
LAST-MODIFIED:20260326T145434Z
UID:10000690-1873259100-1873305000@www.darulislah.org
SUMMARY:Journey Through the Hadith
DESCRIPTION:
URL:https://www.darulislah.org/events/journey-through-the-hadith-2/2029-05-12/
CATEGORIES:Masjid Events
ATTACH;FMTTYPE=image/png:https://www.darulislah.org/wp-content/uploads/2025/09/Fajr-Khatiras-1.png
END:VEVENT
BEGIN:VEVENT
DTSTART;TZID=America/New_York:20290512T120000
DTEND;TZID=America/New_York:20290512T130000
DTSTAMP:20260425T190114
CREATED:20250902T201934Z
LAST-MODIFIED:20250902T201934Z
UID:10001994-1873281600-1873285200@www.darulislah.org
SUMMARY:Sisters' Tajweed Class
DESCRIPTION:
URL:https://www.darulislah.org/events/sisters-tajweed-class/2029-05-12/
CATEGORIES:Masjid Events
ATTACH;FMTTYPE=image/png:https://www.darulislah.org/wp-content/uploads/2025/09/Sisters-Tajweed-Class-7.png
END:VEVENT
BEGIN:VEVENT
DTSTART;TZID=America/New_York:20290513T054500
DTEND;TZID=America/New_York:20290513T063000
DTSTAMP:20260425T190114
CREATED:20250902T175939Z
LAST-MODIFIED:20250902T180641Z
UID:10000950-1873345500-1873348200@www.darulislah.org
SUMMARY:Journey through the Quran
DESCRIPTION:Fajr Khatirah with Imam Saeed Qureshi
URL:https://www.darulislah.org/events/journey-through-the-quran/2029-05-13/
CATEGORIES:Masjid Events
ATTACH;FMTTYPE=image/png:https://www.darulislah.org/wp-content/uploads/2025/04/Fajr-Khatiras-1.png
END:VEVENT
BEGIN:VEVENT
DTSTART;TZID=America/New_York:20290516T193000
DTEND;TZID=America/New_York:20290516T200000
DTSTAMP:20260425T190114
CREATED:20260217T203400Z
LAST-MODIFIED:20260326T145414Z
UID:10001473-1873654200-1873656000@www.darulislah.org
SUMMARY:Sh. Waleed's Post Maghrib Khatira
DESCRIPTION:
URL:https://www.darulislah.org/events/sh-waleeds-post-maghrib-khatira-2-2/2029-05-16/
CATEGORIES:Masjid Events
ATTACH;FMTTYPE=image/png:https://www.darulislah.org/wp-content/uploads/2025/09/Weekdays-With-Sheikh-2.png
END:VEVENT
BEGIN:VEVENT
DTSTART;TZID=America/New_York:20290518T130000
DTEND;TZID=America/New_York:20290518T150000
DTSTAMP:20260425T190114
CREATED:20250902T175228Z
LAST-MODIFIED:20250902T175229Z
UID:10000430-1873803600-1873810800@www.darulislah.org
SUMMARY:Jummah
DESCRIPTION:
URL:https://www.darulislah.org/events/jummah-3/2029-05-18/
CATEGORIES:Masjid Events
END:VEVENT
BEGIN:VEVENT
DTSTART;TZID=America/New_York:20290518T170000
DTEND;TZID=America/New_York:20290518T183000
DTSTAMP:20260425T190114
CREATED:20250911T163416Z
LAST-MODIFIED:20250911T163418Z
UID:10002256-1873818000-1873823400@www.darulislah.org
SUMMARY:DI Juniors (Girls)
DESCRIPTION:
URL:https://www.darulislah.org/events/di-juniors-girls-2/2029-05-18/
CATEGORIES:Masjid Events
END:VEVENT
BEGIN:VEVENT
DTSTART;TZID=America/New_York:20290518T190000
DTEND;TZID=America/New_York:20290518T200000
DTSTAMP:20260425T190114
CREATED:20260217T203504Z
LAST-MODIFIED:20260326T145420Z
UID:10001734-1873825200-1873828800@www.darulislah.org
SUMMARY:Sisters' Halaqa
DESCRIPTION:
URL:https://www.darulislah.org/events/sisters-halaqa-2/2029-05-18/
CATEGORIES:Masjid Events
ATTACH;FMTTYPE=image/png:https://www.darulislah.org/wp-content/uploads/2025/09/Sr.-Sherins-Halaqa-Real-Estate-Flyer-11.png
END:VEVENT
BEGIN:VEVENT
DTSTART;TZID=America/New_York:20290519T054500
DTEND;TZID=America/New_York:20290519T183000
DTSTAMP:20260425T190114
CREATED:20260217T203709Z
LAST-MODIFIED:20260326T145434Z
UID:10000691-1873863900-1873909800@www.darulislah.org
SUMMARY:Journey Through the Hadith
DESCRIPTION:
URL:https://www.darulislah.org/events/journey-through-the-hadith-2/2029-05-19/
CATEGORIES:Masjid Events
ATTACH;FMTTYPE=image/png:https://www.darulislah.org/wp-content/uploads/2025/09/Fajr-Khatiras-1.png
END:VEVENT
BEGIN:VEVENT
DTSTART;TZID=America/New_York:20290519T120000
DTEND;TZID=America/New_York:20290519T130000
DTSTAMP:20260425T190114
CREATED:20250902T201934Z
LAST-MODIFIED:20250902T201934Z
UID:10001995-1873886400-1873890000@www.darulislah.org
SUMMARY:Sisters' Tajweed Class
DESCRIPTION:
URL:https://www.darulislah.org/events/sisters-tajweed-class/2029-05-19/
CATEGORIES:Masjid Events
ATTACH;FMTTYPE=image/png:https://www.darulislah.org/wp-content/uploads/2025/09/Sisters-Tajweed-Class-7.png
END:VEVENT
BEGIN:VEVENT
DTSTART;TZID=America/New_York:20290520T054500
DTEND;TZID=America/New_York:20290520T063000
DTSTAMP:20260425T190114
CREATED:20250902T175939Z
LAST-MODIFIED:20250902T180641Z
UID:10000951-1873950300-1873953000@www.darulislah.org
SUMMARY:Journey through the Quran
DESCRIPTION:Fajr Khatirah with Imam Saeed Qureshi
URL:https://www.darulislah.org/events/journey-through-the-quran/2029-05-20/
CATEGORIES:Masjid Events
ATTACH;FMTTYPE=image/png:https://www.darulislah.org/wp-content/uploads/2025/04/Fajr-Khatiras-1.png
END:VEVENT
BEGIN:VEVENT
DTSTART;TZID=America/New_York:20290523T193000
DTEND;TZID=America/New_York:20290523T200000
DTSTAMP:20260425T190114
CREATED:20260217T203400Z
LAST-MODIFIED:20260326T145414Z
UID:10001474-1874259000-1874260800@www.darulislah.org
SUMMARY:Sh. Waleed's Post Maghrib Khatira
DESCRIPTION:
URL:https://www.darulislah.org/events/sh-waleeds-post-maghrib-khatira-2-2/2029-05-23/
CATEGORIES:Masjid Events
ATTACH;FMTTYPE=image/png:https://www.darulislah.org/wp-content/uploads/2025/09/Weekdays-With-Sheikh-2.png
END:VEVENT
BEGIN:VEVENT
DTSTART;TZID=America/New_York:20290525T130000
DTEND;TZID=America/New_York:20290525T150000
DTSTAMP:20260425T190114
CREATED:20250902T175228Z
LAST-MODIFIED:20250902T175229Z
UID:10000431-1874408400-1874415600@www.darulislah.org
SUMMARY:Jummah
DESCRIPTION:
URL:https://www.darulislah.org/events/jummah-3/2029-05-25/
CATEGORIES:Masjid Events
END:VEVENT
BEGIN:VEVENT
DTSTART;TZID=America/New_York:20290525T170000
DTEND;TZID=America/New_York:20290525T183000
DTSTAMP:20260425T190114
CREATED:20250911T163416Z
LAST-MODIFIED:20250911T163418Z
UID:10002257-1874422800-1874428200@www.darulislah.org
SUMMARY:DI Juniors (Girls)
DESCRIPTION:
URL:https://www.darulislah.org/events/di-juniors-girls-2/2029-05-25/
CATEGORIES:Masjid Events
END:VEVENT
BEGIN:VEVENT
DTSTART;TZID=America/New_York:20290525T190000
DTEND;TZID=America/New_York:20290525T200000
DTSTAMP:20260425T190114
CREATED:20260217T203504Z
LAST-MODIFIED:20260326T145420Z
UID:10001735-1874430000-1874433600@www.darulislah.org
SUMMARY:Sisters' Halaqa
DESCRIPTION:
URL:https://www.darulislah.org/events/sisters-halaqa-2/2029-05-25/
CATEGORIES:Masjid Events
ATTACH;FMTTYPE=image/png:https://www.darulislah.org/wp-content/uploads/2025/09/Sr.-Sherins-Halaqa-Real-Estate-Flyer-11.png
END:VEVENT
BEGIN:VEVENT
DTSTART;TZID=America/New_York:20290526T054500
DTEND;TZID=America/New_York:20290526T183000
DTSTAMP:20260425T190114
CREATED:20260217T203709Z
LAST-MODIFIED:20260326T145434Z
UID:10000692-1874468700-1874514600@www.darulislah.org
SUMMARY:Journey Through the Hadith
DESCRIPTION:
URL:https://www.darulislah.org/events/journey-through-the-hadith-2/2029-05-26/
CATEGORIES:Masjid Events
ATTACH;FMTTYPE=image/png:https://www.darulislah.org/wp-content/uploads/2025/09/Fajr-Khatiras-1.png
END:VEVENT
BEGIN:VEVENT
DTSTART;TZID=America/New_York:20290526T120000
DTEND;TZID=America/New_York:20290526T130000
DTSTAMP:20260425T190114
CREATED:20250902T201934Z
LAST-MODIFIED:20250902T201934Z
UID:10001996-1874491200-1874494800@www.darulislah.org
SUMMARY:Sisters' Tajweed Class
DESCRIPTION:
URL:https://www.darulislah.org/events/sisters-tajweed-class/2029-05-26/
CATEGORIES:Masjid Events
ATTACH;FMTTYPE=image/png:https://www.darulislah.org/wp-content/uploads/2025/09/Sisters-Tajweed-Class-7.png
END:VEVENT
BEGIN:VEVENT
DTSTART;TZID=America/New_York:20290527T054500
DTEND;TZID=America/New_York:20290527T063000
DTSTAMP:20260425T190114
CREATED:20250902T175939Z
LAST-MODIFIED:20250902T180641Z
UID:10000952-1874555100-1874557800@www.darulislah.org
SUMMARY:Journey through the Quran
DESCRIPTION:Fajr Khatirah with Imam Saeed Qureshi
URL:https://www.darulislah.org/events/journey-through-the-quran/2029-05-27/
CATEGORIES:Masjid Events
ATTACH;FMTTYPE=image/png:https://www.darulislah.org/wp-content/uploads/2025/04/Fajr-Khatiras-1.png
END:VEVENT
BEGIN:VEVENT
DTSTART;TZID=America/New_York:20290530T193000
DTEND;TZID=America/New_York:20290530T200000
DTSTAMP:20260425T190114
CREATED:20260217T203400Z
LAST-MODIFIED:20260326T145414Z
UID:10001475-1874863800-1874865600@www.darulislah.org
SUMMARY:Sh. Waleed's Post Maghrib Khatira
DESCRIPTION:
URL:https://www.darulislah.org/events/sh-waleeds-post-maghrib-khatira-2-2/2029-05-30/
CATEGORIES:Masjid Events
ATTACH;FMTTYPE=image/png:https://www.darulislah.org/wp-content/uploads/2025/09/Weekdays-With-Sheikh-2.png
END:VEVENT
END:VCALENDAR