BEGIN:VCALENDAR
VERSION:2.0
PRODID:-//Darul Islah | Muslim Society of Bergen County - ECPv6.15.20//NONSGML v1.0//EN
CALSCALE:GREGORIAN
METHOD:PUBLISH
X-ORIGINAL-URL:https://www.darulislah.org
X-WR-CALDESC:Events for Darul Islah | Muslim Society of Bergen County
REFRESH-INTERVAL;VALUE=DURATION:PT1H
X-Robots-Tag:noindex
X-PUBLISHED-TTL:PT1H
BEGIN:VTIMEZONE
TZID:America/New_York
BEGIN:DAYLIGHT
TZOFFSETFROM:-0500
TZOFFSETTO:-0400
TZNAME:EDT
DTSTART:20270314T070000
END:DAYLIGHT
BEGIN:STANDARD
TZOFFSETFROM:-0400
TZOFFSETTO:-0500
TZNAME:EST
DTSTART:20271107T060000
END:STANDARD
BEGIN:DAYLIGHT
TZOFFSETFROM:-0500
TZOFFSETTO:-0400
TZNAME:EDT
DTSTART:20280312T070000
END:DAYLIGHT
BEGIN:STANDARD
TZOFFSETFROM:-0400
TZOFFSETTO:-0500
TZNAME:EST
DTSTART:20281105T060000
END:STANDARD
BEGIN:DAYLIGHT
TZOFFSETFROM:-0500
TZOFFSETTO:-0400
TZNAME:EDT
DTSTART:20290311T070000
END:DAYLIGHT
BEGIN:STANDARD
TZOFFSETFROM:-0400
TZOFFSETTO:-0500
TZNAME:EST
DTSTART:20291104T060000
END:STANDARD
END:VTIMEZONE
BEGIN:VEVENT
DTSTART;TZID=America/New_York:20281201T130000
DTEND;TZID=America/New_York:20281201T150000
DTSTAMP:20260425T113536
CREATED:20250902T175228Z
LAST-MODIFIED:20250902T175229Z
UID:10000406-1859288400-1859295600@www.darulislah.org
SUMMARY:Jummah
DESCRIPTION:
URL:https://www.darulislah.org/events/jummah-3/2028-12-01/
CATEGORIES:Masjid Events
END:VEVENT
BEGIN:VEVENT
DTSTART;TZID=America/New_York:20281201T170000
DTEND;TZID=America/New_York:20281201T183000
DTSTAMP:20260425T113536
CREATED:20250911T163416Z
LAST-MODIFIED:20250911T163418Z
UID:10002232-1859302800-1859308200@www.darulislah.org
SUMMARY:DI Juniors (Girls)
DESCRIPTION:
URL:https://www.darulislah.org/events/di-juniors-girls-2/2028-12-01/
CATEGORIES:Masjid Events
END:VEVENT
BEGIN:VEVENT
DTSTART;TZID=America/New_York:20281201T190000
DTEND;TZID=America/New_York:20281201T200000
DTSTAMP:20260425T113536
CREATED:20260217T203504Z
LAST-MODIFIED:20260326T145420Z
UID:10001710-1859310000-1859313600@www.darulislah.org
SUMMARY:Sisters' Halaqa
DESCRIPTION:
URL:https://www.darulislah.org/events/sisters-halaqa-2/2028-12-01/
CATEGORIES:Masjid Events
ATTACH;FMTTYPE=image/png:https://www.darulislah.org/wp-content/uploads/2025/09/Sr.-Sherins-Halaqa-Real-Estate-Flyer-11.png
END:VEVENT
BEGIN:VEVENT
DTSTART;TZID=America/New_York:20281202T054500
DTEND;TZID=America/New_York:20281202T183000
DTSTAMP:20260425T113536
CREATED:20260217T203709Z
LAST-MODIFIED:20260326T145434Z
UID:10000667-1859348700-1859394600@www.darulislah.org
SUMMARY:Journey Through the Hadith
DESCRIPTION:
URL:https://www.darulislah.org/events/journey-through-the-hadith-2/2028-12-02/
CATEGORIES:Masjid Events
ATTACH;FMTTYPE=image/png:https://www.darulislah.org/wp-content/uploads/2025/09/Fajr-Khatiras-1.png
END:VEVENT
BEGIN:VEVENT
DTSTART;TZID=America/New_York:20281202T120000
DTEND;TZID=America/New_York:20281202T130000
DTSTAMP:20260425T113536
CREATED:20250902T201934Z
LAST-MODIFIED:20250902T201934Z
UID:10001971-1859371200-1859374800@www.darulislah.org
SUMMARY:Sisters' Tajweed Class
DESCRIPTION:
URL:https://www.darulislah.org/events/sisters-tajweed-class/2028-12-02/
CATEGORIES:Masjid Events
ATTACH;FMTTYPE=image/png:https://www.darulislah.org/wp-content/uploads/2025/09/Sisters-Tajweed-Class-7.png
END:VEVENT
BEGIN:VEVENT
DTSTART;TZID=America/New_York:20281203T054500
DTEND;TZID=America/New_York:20281203T063000
DTSTAMP:20260425T113536
CREATED:20250902T175939Z
LAST-MODIFIED:20250902T180641Z
UID:10000927-1859435100-1859437800@www.darulislah.org
SUMMARY:Journey through the Quran
DESCRIPTION:Fajr Khatirah with Imam Saeed Qureshi
URL:https://www.darulislah.org/events/journey-through-the-quran/2028-12-03/
CATEGORIES:Masjid Events
ATTACH;FMTTYPE=image/png:https://www.darulislah.org/wp-content/uploads/2025/04/Fajr-Khatiras-1.png
END:VEVENT
BEGIN:VEVENT
DTSTART;TZID=America/New_York:20281206T193000
DTEND;TZID=America/New_York:20281206T200000
DTSTAMP:20260425T113536
CREATED:20260217T203400Z
LAST-MODIFIED:20260326T145414Z
UID:10001450-1859743800-1859745600@www.darulislah.org
SUMMARY:Sh. Waleed's Post Maghrib Khatira
DESCRIPTION:
URL:https://www.darulislah.org/events/sh-waleeds-post-maghrib-khatira-2-2/2028-12-06/
CATEGORIES:Masjid Events
ATTACH;FMTTYPE=image/png:https://www.darulislah.org/wp-content/uploads/2025/09/Weekdays-With-Sheikh-2.png
END:VEVENT
BEGIN:VEVENT
DTSTART;TZID=America/New_York:20281208T130000
DTEND;TZID=America/New_York:20281208T150000
DTSTAMP:20260425T113536
CREATED:20250902T175228Z
LAST-MODIFIED:20250902T175229Z
UID:10000407-1859893200-1859900400@www.darulislah.org
SUMMARY:Jummah
DESCRIPTION:
URL:https://www.darulislah.org/events/jummah-3/2028-12-08/
CATEGORIES:Masjid Events
END:VEVENT
BEGIN:VEVENT
DTSTART;TZID=America/New_York:20281208T170000
DTEND;TZID=America/New_York:20281208T183000
DTSTAMP:20260425T113536
CREATED:20250911T163416Z
LAST-MODIFIED:20250911T163418Z
UID:10002233-1859907600-1859913000@www.darulislah.org
SUMMARY:DI Juniors (Girls)
DESCRIPTION:
URL:https://www.darulislah.org/events/di-juniors-girls-2/2028-12-08/
CATEGORIES:Masjid Events
END:VEVENT
BEGIN:VEVENT
DTSTART;TZID=America/New_York:20281208T190000
DTEND;TZID=America/New_York:20281208T200000
DTSTAMP:20260425T113536
CREATED:20260217T203504Z
LAST-MODIFIED:20260326T145420Z
UID:10001711-1859914800-1859918400@www.darulislah.org
SUMMARY:Sisters' Halaqa
DESCRIPTION:
URL:https://www.darulislah.org/events/sisters-halaqa-2/2028-12-08/
CATEGORIES:Masjid Events
ATTACH;FMTTYPE=image/png:https://www.darulislah.org/wp-content/uploads/2025/09/Sr.-Sherins-Halaqa-Real-Estate-Flyer-11.png
END:VEVENT
BEGIN:VEVENT
DTSTART;TZID=America/New_York:20281209T054500
DTEND;TZID=America/New_York:20281209T183000
DTSTAMP:20260425T113536
CREATED:20260217T203709Z
LAST-MODIFIED:20260326T145434Z
UID:10000668-1859953500-1859999400@www.darulislah.org
SUMMARY:Journey Through the Hadith
DESCRIPTION:
URL:https://www.darulislah.org/events/journey-through-the-hadith-2/2028-12-09/
CATEGORIES:Masjid Events
ATTACH;FMTTYPE=image/png:https://www.darulislah.org/wp-content/uploads/2025/09/Fajr-Khatiras-1.png
END:VEVENT
BEGIN:VEVENT
DTSTART;TZID=America/New_York:20281209T120000
DTEND;TZID=America/New_York:20281209T130000
DTSTAMP:20260425T113536
CREATED:20250902T201934Z
LAST-MODIFIED:20250902T201934Z
UID:10001972-1859976000-1859979600@www.darulislah.org
SUMMARY:Sisters' Tajweed Class
DESCRIPTION:
URL:https://www.darulislah.org/events/sisters-tajweed-class/2028-12-09/
CATEGORIES:Masjid Events
ATTACH;FMTTYPE=image/png:https://www.darulislah.org/wp-content/uploads/2025/09/Sisters-Tajweed-Class-7.png
END:VEVENT
BEGIN:VEVENT
DTSTART;TZID=America/New_York:20281210T054500
DTEND;TZID=America/New_York:20281210T063000
DTSTAMP:20260425T113536
CREATED:20250902T175939Z
LAST-MODIFIED:20250902T180641Z
UID:10000928-1860039900-1860042600@www.darulislah.org
SUMMARY:Journey through the Quran
DESCRIPTION:Fajr Khatirah with Imam Saeed Qureshi
URL:https://www.darulislah.org/events/journey-through-the-quran/2028-12-10/
CATEGORIES:Masjid Events
ATTACH;FMTTYPE=image/png:https://www.darulislah.org/wp-content/uploads/2025/04/Fajr-Khatiras-1.png
END:VEVENT
BEGIN:VEVENT
DTSTART;TZID=America/New_York:20281213T193000
DTEND;TZID=America/New_York:20281213T200000
DTSTAMP:20260425T113536
CREATED:20260217T203400Z
LAST-MODIFIED:20260326T145414Z
UID:10001451-1860348600-1860350400@www.darulislah.org
SUMMARY:Sh. Waleed's Post Maghrib Khatira
DESCRIPTION:
URL:https://www.darulislah.org/events/sh-waleeds-post-maghrib-khatira-2-2/2028-12-13/
CATEGORIES:Masjid Events
ATTACH;FMTTYPE=image/png:https://www.darulislah.org/wp-content/uploads/2025/09/Weekdays-With-Sheikh-2.png
END:VEVENT
BEGIN:VEVENT
DTSTART;TZID=America/New_York:20281215T130000
DTEND;TZID=America/New_York:20281215T150000
DTSTAMP:20260425T113536
CREATED:20250902T175228Z
LAST-MODIFIED:20250902T175229Z
UID:10000408-1860498000-1860505200@www.darulislah.org
SUMMARY:Jummah
DESCRIPTION:
URL:https://www.darulislah.org/events/jummah-3/2028-12-15/
CATEGORIES:Masjid Events
END:VEVENT
BEGIN:VEVENT
DTSTART;TZID=America/New_York:20281215T170000
DTEND;TZID=America/New_York:20281215T183000
DTSTAMP:20260425T113536
CREATED:20250911T163416Z
LAST-MODIFIED:20250911T163418Z
UID:10002234-1860512400-1860517800@www.darulislah.org
SUMMARY:DI Juniors (Girls)
DESCRIPTION:
URL:https://www.darulislah.org/events/di-juniors-girls-2/2028-12-15/
CATEGORIES:Masjid Events
END:VEVENT
BEGIN:VEVENT
DTSTART;TZID=America/New_York:20281215T190000
DTEND;TZID=America/New_York:20281215T200000
DTSTAMP:20260425T113536
CREATED:20260217T203504Z
LAST-MODIFIED:20260326T145420Z
UID:10001712-1860519600-1860523200@www.darulislah.org
SUMMARY:Sisters' Halaqa
DESCRIPTION:
URL:https://www.darulislah.org/events/sisters-halaqa-2/2028-12-15/
CATEGORIES:Masjid Events
ATTACH;FMTTYPE=image/png:https://www.darulislah.org/wp-content/uploads/2025/09/Sr.-Sherins-Halaqa-Real-Estate-Flyer-11.png
END:VEVENT
BEGIN:VEVENT
DTSTART;TZID=America/New_York:20281216T054500
DTEND;TZID=America/New_York:20281216T183000
DTSTAMP:20260425T113536
CREATED:20260217T203709Z
LAST-MODIFIED:20260326T145434Z
UID:10000669-1860558300-1860604200@www.darulislah.org
SUMMARY:Journey Through the Hadith
DESCRIPTION:
URL:https://www.darulislah.org/events/journey-through-the-hadith-2/2028-12-16/
CATEGORIES:Masjid Events
ATTACH;FMTTYPE=image/png:https://www.darulislah.org/wp-content/uploads/2025/09/Fajr-Khatiras-1.png
END:VEVENT
BEGIN:VEVENT
DTSTART;TZID=America/New_York:20281216T120000
DTEND;TZID=America/New_York:20281216T130000
DTSTAMP:20260425T113536
CREATED:20250902T201934Z
LAST-MODIFIED:20250902T201934Z
UID:10001973-1860580800-1860584400@www.darulislah.org
SUMMARY:Sisters' Tajweed Class
DESCRIPTION:
URL:https://www.darulislah.org/events/sisters-tajweed-class/2028-12-16/
CATEGORIES:Masjid Events
ATTACH;FMTTYPE=image/png:https://www.darulislah.org/wp-content/uploads/2025/09/Sisters-Tajweed-Class-7.png
END:VEVENT
BEGIN:VEVENT
DTSTART;TZID=America/New_York:20281217T054500
DTEND;TZID=America/New_York:20281217T063000
DTSTAMP:20260425T113536
CREATED:20250902T175939Z
LAST-MODIFIED:20250902T180641Z
UID:10000929-1860644700-1860647400@www.darulislah.org
SUMMARY:Journey through the Quran
DESCRIPTION:Fajr Khatirah with Imam Saeed Qureshi
URL:https://www.darulislah.org/events/journey-through-the-quran/2028-12-17/
CATEGORIES:Masjid Events
ATTACH;FMTTYPE=image/png:https://www.darulislah.org/wp-content/uploads/2025/04/Fajr-Khatiras-1.png
END:VEVENT
BEGIN:VEVENT
DTSTART;TZID=America/New_York:20281220T193000
DTEND;TZID=America/New_York:20281220T200000
DTSTAMP:20260425T113536
CREATED:20260217T203400Z
LAST-MODIFIED:20260326T145414Z
UID:10001452-1860953400-1860955200@www.darulislah.org
SUMMARY:Sh. Waleed's Post Maghrib Khatira
DESCRIPTION:
URL:https://www.darulislah.org/events/sh-waleeds-post-maghrib-khatira-2-2/2028-12-20/
CATEGORIES:Masjid Events
ATTACH;FMTTYPE=image/png:https://www.darulislah.org/wp-content/uploads/2025/09/Weekdays-With-Sheikh-2.png
END:VEVENT
BEGIN:VEVENT
DTSTART;TZID=America/New_York:20281222T130000
DTEND;TZID=America/New_York:20281222T150000
DTSTAMP:20260425T113536
CREATED:20250902T175228Z
LAST-MODIFIED:20250902T175229Z
UID:10000409-1861102800-1861110000@www.darulislah.org
SUMMARY:Jummah
DESCRIPTION:
URL:https://www.darulislah.org/events/jummah-3/2028-12-22/
CATEGORIES:Masjid Events
END:VEVENT
BEGIN:VEVENT
DTSTART;TZID=America/New_York:20281222T170000
DTEND;TZID=America/New_York:20281222T183000
DTSTAMP:20260425T113536
CREATED:20250911T163416Z
LAST-MODIFIED:20250911T163418Z
UID:10002235-1861117200-1861122600@www.darulislah.org
SUMMARY:DI Juniors (Girls)
DESCRIPTION:
URL:https://www.darulislah.org/events/di-juniors-girls-2/2028-12-22/
CATEGORIES:Masjid Events
END:VEVENT
BEGIN:VEVENT
DTSTART;TZID=America/New_York:20281222T190000
DTEND;TZID=America/New_York:20281222T200000
DTSTAMP:20260425T113536
CREATED:20260217T203504Z
LAST-MODIFIED:20260326T145420Z
UID:10001713-1861124400-1861128000@www.darulislah.org
SUMMARY:Sisters' Halaqa
DESCRIPTION:
URL:https://www.darulislah.org/events/sisters-halaqa-2/2028-12-22/
CATEGORIES:Masjid Events
ATTACH;FMTTYPE=image/png:https://www.darulislah.org/wp-content/uploads/2025/09/Sr.-Sherins-Halaqa-Real-Estate-Flyer-11.png
END:VEVENT
BEGIN:VEVENT
DTSTART;TZID=America/New_York:20281223T054500
DTEND;TZID=America/New_York:20281223T183000
DTSTAMP:20260425T113536
CREATED:20260217T203709Z
LAST-MODIFIED:20260326T145434Z
UID:10000670-1861163100-1861209000@www.darulislah.org
SUMMARY:Journey Through the Hadith
DESCRIPTION:
URL:https://www.darulislah.org/events/journey-through-the-hadith-2/2028-12-23/
CATEGORIES:Masjid Events
ATTACH;FMTTYPE=image/png:https://www.darulislah.org/wp-content/uploads/2025/09/Fajr-Khatiras-1.png
END:VEVENT
BEGIN:VEVENT
DTSTART;TZID=America/New_York:20281223T120000
DTEND;TZID=America/New_York:20281223T130000
DTSTAMP:20260425T113536
CREATED:20250902T201934Z
LAST-MODIFIED:20250902T201934Z
UID:10001974-1861185600-1861189200@www.darulislah.org
SUMMARY:Sisters' Tajweed Class
DESCRIPTION:
URL:https://www.darulislah.org/events/sisters-tajweed-class/2028-12-23/
CATEGORIES:Masjid Events
ATTACH;FMTTYPE=image/png:https://www.darulislah.org/wp-content/uploads/2025/09/Sisters-Tajweed-Class-7.png
END:VEVENT
BEGIN:VEVENT
DTSTART;TZID=America/New_York:20281224T054500
DTEND;TZID=America/New_York:20281224T063000
DTSTAMP:20260425T113536
CREATED:20250902T175939Z
LAST-MODIFIED:20250902T180641Z
UID:10000930-1861249500-1861252200@www.darulislah.org
SUMMARY:Journey through the Quran
DESCRIPTION:Fajr Khatirah with Imam Saeed Qureshi
URL:https://www.darulislah.org/events/journey-through-the-quran/2028-12-24/
CATEGORIES:Masjid Events
ATTACH;FMTTYPE=image/png:https://www.darulislah.org/wp-content/uploads/2025/04/Fajr-Khatiras-1.png
END:VEVENT
BEGIN:VEVENT
DTSTART;TZID=America/New_York:20281227T193000
DTEND;TZID=America/New_York:20281227T200000
DTSTAMP:20260425T113536
CREATED:20260217T203400Z
LAST-MODIFIED:20260326T145414Z
UID:10001453-1861558200-1861560000@www.darulislah.org
SUMMARY:Sh. Waleed's Post Maghrib Khatira
DESCRIPTION:
URL:https://www.darulislah.org/events/sh-waleeds-post-maghrib-khatira-2-2/2028-12-27/
CATEGORIES:Masjid Events
ATTACH;FMTTYPE=image/png:https://www.darulislah.org/wp-content/uploads/2025/09/Weekdays-With-Sheikh-2.png
END:VEVENT
BEGIN:VEVENT
DTSTART;TZID=America/New_York:20281229T130000
DTEND;TZID=America/New_York:20281229T150000
DTSTAMP:20260425T113536
CREATED:20250902T175228Z
LAST-MODIFIED:20250902T175229Z
UID:10000410-1861707600-1861714800@www.darulislah.org
SUMMARY:Jummah
DESCRIPTION:
URL:https://www.darulislah.org/events/jummah-3/2028-12-29/
CATEGORIES:Masjid Events
END:VEVENT
BEGIN:VEVENT
DTSTART;TZID=America/New_York:20281229T170000
DTEND;TZID=America/New_York:20281229T183000
DTSTAMP:20260425T113536
CREATED:20250911T163416Z
LAST-MODIFIED:20250911T163418Z
UID:10002236-1861722000-1861727400@www.darulislah.org
SUMMARY:DI Juniors (Girls)
DESCRIPTION:
URL:https://www.darulislah.org/events/di-juniors-girls-2/2028-12-29/
CATEGORIES:Masjid Events
END:VEVENT
END:VCALENDAR