BEGIN:VCALENDAR
VERSION:2.0
PRODID:-//Darul Islah | Muslim Society of Bergen County - ECPv6.15.20//NONSGML v1.0//EN
CALSCALE:GREGORIAN
METHOD:PUBLISH
X-WR-CALNAME:Darul Islah | Muslim Society of Bergen County
X-ORIGINAL-URL:https://www.darulislah.org
X-WR-CALDESC:Events for Darul Islah | Muslim Society of Bergen County
REFRESH-INTERVAL;VALUE=DURATION:PT1H
X-Robots-Tag:noindex
X-PUBLISHED-TTL:PT1H
BEGIN:VTIMEZONE
TZID:America/New_York
BEGIN:DAYLIGHT
TZOFFSETFROM:-0500
TZOFFSETTO:-0400
TZNAME:EDT
DTSTART:20270314T070000
END:DAYLIGHT
BEGIN:STANDARD
TZOFFSETFROM:-0400
TZOFFSETTO:-0500
TZNAME:EST
DTSTART:20271107T060000
END:STANDARD
BEGIN:DAYLIGHT
TZOFFSETFROM:-0500
TZOFFSETTO:-0400
TZNAME:EDT
DTSTART:20280312T070000
END:DAYLIGHT
BEGIN:STANDARD
TZOFFSETFROM:-0400
TZOFFSETTO:-0500
TZNAME:EST
DTSTART:20281105T060000
END:STANDARD
BEGIN:DAYLIGHT
TZOFFSETFROM:-0500
TZOFFSETTO:-0400
TZNAME:EDT
DTSTART:20290311T070000
END:DAYLIGHT
BEGIN:STANDARD
TZOFFSETFROM:-0400
TZOFFSETTO:-0500
TZNAME:EST
DTSTART:20291104T060000
END:STANDARD
END:VTIMEZONE
BEGIN:VEVENT
DTSTART;TZID=America/New_York:20281001T054500
DTEND;TZID=America/New_York:20281001T063000
DTSTAMP:20260425T082116
CREATED:20250902T175939Z
LAST-MODIFIED:20250902T180641Z
UID:10000918-1853991900-1853994600@www.darulislah.org
SUMMARY:Journey through the Quran
DESCRIPTION:Fajr Khatirah with Imam Saeed Qureshi
URL:https://www.darulislah.org/events/journey-through-the-quran/2028-10-01/
CATEGORIES:Masjid Events
ATTACH;FMTTYPE=image/png:https://www.darulislah.org/wp-content/uploads/2025/04/Fajr-Khatiras-1.png
END:VEVENT
BEGIN:VEVENT
DTSTART;TZID=America/New_York:20281004T193000
DTEND;TZID=America/New_York:20281004T200000
DTSTAMP:20260425T082116
CREATED:20260217T203400Z
LAST-MODIFIED:20260326T145414Z
UID:10001441-1854300600-1854302400@www.darulislah.org
SUMMARY:Sh. Waleed's Post Maghrib Khatira
DESCRIPTION:
URL:https://www.darulislah.org/events/sh-waleeds-post-maghrib-khatira-2-2/2028-10-04/
CATEGORIES:Masjid Events
ATTACH;FMTTYPE=image/png:https://www.darulislah.org/wp-content/uploads/2025/09/Weekdays-With-Sheikh-2.png
END:VEVENT
BEGIN:VEVENT
DTSTART;TZID=America/New_York:20281006T130000
DTEND;TZID=America/New_York:20281006T150000
DTSTAMP:20260425T082116
CREATED:20250902T175228Z
LAST-MODIFIED:20250902T175229Z
UID:10000398-1854450000-1854457200@www.darulislah.org
SUMMARY:Jummah
DESCRIPTION:
URL:https://www.darulislah.org/events/jummah-3/2028-10-06/
CATEGORIES:Masjid Events
END:VEVENT
BEGIN:VEVENT
DTSTART;TZID=America/New_York:20281006T170000
DTEND;TZID=America/New_York:20281006T183000
DTSTAMP:20260425T082116
CREATED:20250911T163416Z
LAST-MODIFIED:20250911T163418Z
UID:10002224-1854464400-1854469800@www.darulislah.org
SUMMARY:DI Juniors (Girls)
DESCRIPTION:
URL:https://www.darulislah.org/events/di-juniors-girls-2/2028-10-06/
CATEGORIES:Masjid Events
END:VEVENT
BEGIN:VEVENT
DTSTART;TZID=America/New_York:20281006T190000
DTEND;TZID=America/New_York:20281006T200000
DTSTAMP:20260425T082116
CREATED:20260217T203504Z
LAST-MODIFIED:20260326T145420Z
UID:10001702-1854471600-1854475200@www.darulislah.org
SUMMARY:Sisters' Halaqa
DESCRIPTION:
URL:https://www.darulislah.org/events/sisters-halaqa-2/2028-10-06/
CATEGORIES:Masjid Events
ATTACH;FMTTYPE=image/png:https://www.darulislah.org/wp-content/uploads/2025/09/Sr.-Sherins-Halaqa-Real-Estate-Flyer-11.png
END:VEVENT
BEGIN:VEVENT
DTSTART;TZID=America/New_York:20281007T054500
DTEND;TZID=America/New_York:20281007T183000
DTSTAMP:20260425T082116
CREATED:20260217T203709Z
LAST-MODIFIED:20260326T145434Z
UID:10000659-1854510300-1854556200@www.darulislah.org
SUMMARY:Journey Through the Hadith
DESCRIPTION:
URL:https://www.darulislah.org/events/journey-through-the-hadith-2/2028-10-07/
CATEGORIES:Masjid Events
ATTACH;FMTTYPE=image/png:https://www.darulislah.org/wp-content/uploads/2025/09/Fajr-Khatiras-1.png
END:VEVENT
BEGIN:VEVENT
DTSTART;TZID=America/New_York:20281007T120000
DTEND;TZID=America/New_York:20281007T130000
DTSTAMP:20260425T082116
CREATED:20250902T201934Z
LAST-MODIFIED:20250902T201934Z
UID:10001963-1854532800-1854536400@www.darulislah.org
SUMMARY:Sisters' Tajweed Class
DESCRIPTION:
URL:https://www.darulislah.org/events/sisters-tajweed-class/2028-10-07/
CATEGORIES:Masjid Events
ATTACH;FMTTYPE=image/png:https://www.darulislah.org/wp-content/uploads/2025/09/Sisters-Tajweed-Class-7.png
END:VEVENT
BEGIN:VEVENT
DTSTART;TZID=America/New_York:20281008T054500
DTEND;TZID=America/New_York:20281008T063000
DTSTAMP:20260425T082116
CREATED:20250902T175939Z
LAST-MODIFIED:20250902T180641Z
UID:10000919-1854596700-1854599400@www.darulislah.org
SUMMARY:Journey through the Quran
DESCRIPTION:Fajr Khatirah with Imam Saeed Qureshi
URL:https://www.darulislah.org/events/journey-through-the-quran/2028-10-08/
CATEGORIES:Masjid Events
ATTACH;FMTTYPE=image/png:https://www.darulislah.org/wp-content/uploads/2025/04/Fajr-Khatiras-1.png
END:VEVENT
BEGIN:VEVENT
DTSTART;TZID=America/New_York:20281011T193000
DTEND;TZID=America/New_York:20281011T200000
DTSTAMP:20260425T082116
CREATED:20260217T203400Z
LAST-MODIFIED:20260326T145414Z
UID:10001442-1854905400-1854907200@www.darulislah.org
SUMMARY:Sh. Waleed's Post Maghrib Khatira
DESCRIPTION:
URL:https://www.darulislah.org/events/sh-waleeds-post-maghrib-khatira-2-2/2028-10-11/
CATEGORIES:Masjid Events
ATTACH;FMTTYPE=image/png:https://www.darulislah.org/wp-content/uploads/2025/09/Weekdays-With-Sheikh-2.png
END:VEVENT
BEGIN:VEVENT
DTSTART;TZID=America/New_York:20281013T130000
DTEND;TZID=America/New_York:20281013T150000
DTSTAMP:20260425T082116
CREATED:20250902T175228Z
LAST-MODIFIED:20250902T175229Z
UID:10000399-1855054800-1855062000@www.darulislah.org
SUMMARY:Jummah
DESCRIPTION:
URL:https://www.darulislah.org/events/jummah-3/2028-10-13/
CATEGORIES:Masjid Events
END:VEVENT
BEGIN:VEVENT
DTSTART;TZID=America/New_York:20281013T170000
DTEND;TZID=America/New_York:20281013T183000
DTSTAMP:20260425T082116
CREATED:20250911T163416Z
LAST-MODIFIED:20250911T163418Z
UID:10002225-1855069200-1855074600@www.darulislah.org
SUMMARY:DI Juniors (Girls)
DESCRIPTION:
URL:https://www.darulislah.org/events/di-juniors-girls-2/2028-10-13/
CATEGORIES:Masjid Events
END:VEVENT
BEGIN:VEVENT
DTSTART;TZID=America/New_York:20281013T190000
DTEND;TZID=America/New_York:20281013T200000
DTSTAMP:20260425T082116
CREATED:20260217T203504Z
LAST-MODIFIED:20260326T145420Z
UID:10001703-1855076400-1855080000@www.darulislah.org
SUMMARY:Sisters' Halaqa
DESCRIPTION:
URL:https://www.darulislah.org/events/sisters-halaqa-2/2028-10-13/
CATEGORIES:Masjid Events
ATTACH;FMTTYPE=image/png:https://www.darulislah.org/wp-content/uploads/2025/09/Sr.-Sherins-Halaqa-Real-Estate-Flyer-11.png
END:VEVENT
BEGIN:VEVENT
DTSTART;TZID=America/New_York:20281014T054500
DTEND;TZID=America/New_York:20281014T183000
DTSTAMP:20260425T082116
CREATED:20260217T203709Z
LAST-MODIFIED:20260326T145434Z
UID:10000660-1855115100-1855161000@www.darulislah.org
SUMMARY:Journey Through the Hadith
DESCRIPTION:
URL:https://www.darulislah.org/events/journey-through-the-hadith-2/2028-10-14/
CATEGORIES:Masjid Events
ATTACH;FMTTYPE=image/png:https://www.darulislah.org/wp-content/uploads/2025/09/Fajr-Khatiras-1.png
END:VEVENT
BEGIN:VEVENT
DTSTART;TZID=America/New_York:20281014T120000
DTEND;TZID=America/New_York:20281014T130000
DTSTAMP:20260425T082116
CREATED:20250902T201934Z
LAST-MODIFIED:20250902T201934Z
UID:10001964-1855137600-1855141200@www.darulislah.org
SUMMARY:Sisters' Tajweed Class
DESCRIPTION:
URL:https://www.darulislah.org/events/sisters-tajweed-class/2028-10-14/
CATEGORIES:Masjid Events
ATTACH;FMTTYPE=image/png:https://www.darulislah.org/wp-content/uploads/2025/09/Sisters-Tajweed-Class-7.png
END:VEVENT
BEGIN:VEVENT
DTSTART;TZID=America/New_York:20281015T054500
DTEND;TZID=America/New_York:20281015T063000
DTSTAMP:20260425T082116
CREATED:20250902T175939Z
LAST-MODIFIED:20250902T180641Z
UID:10000920-1855201500-1855204200@www.darulislah.org
SUMMARY:Journey through the Quran
DESCRIPTION:Fajr Khatirah with Imam Saeed Qureshi
URL:https://www.darulislah.org/events/journey-through-the-quran/2028-10-15/
CATEGORIES:Masjid Events
ATTACH;FMTTYPE=image/png:https://www.darulislah.org/wp-content/uploads/2025/04/Fajr-Khatiras-1.png
END:VEVENT
BEGIN:VEVENT
DTSTART;TZID=America/New_York:20281018T193000
DTEND;TZID=America/New_York:20281018T200000
DTSTAMP:20260425T082116
CREATED:20260217T203400Z
LAST-MODIFIED:20260326T145414Z
UID:10001443-1855510200-1855512000@www.darulislah.org
SUMMARY:Sh. Waleed's Post Maghrib Khatira
DESCRIPTION:
URL:https://www.darulislah.org/events/sh-waleeds-post-maghrib-khatira-2-2/2028-10-18/
CATEGORIES:Masjid Events
ATTACH;FMTTYPE=image/png:https://www.darulislah.org/wp-content/uploads/2025/09/Weekdays-With-Sheikh-2.png
END:VEVENT
BEGIN:VEVENT
DTSTART;TZID=America/New_York:20281020T130000
DTEND;TZID=America/New_York:20281020T150000
DTSTAMP:20260425T082116
CREATED:20250902T175228Z
LAST-MODIFIED:20250902T175229Z
UID:10000400-1855659600-1855666800@www.darulislah.org
SUMMARY:Jummah
DESCRIPTION:
URL:https://www.darulislah.org/events/jummah-3/2028-10-20/
CATEGORIES:Masjid Events
END:VEVENT
BEGIN:VEVENT
DTSTART;TZID=America/New_York:20281020T170000
DTEND;TZID=America/New_York:20281020T183000
DTSTAMP:20260425T082116
CREATED:20250911T163416Z
LAST-MODIFIED:20250911T163418Z
UID:10002226-1855674000-1855679400@www.darulislah.org
SUMMARY:DI Juniors (Girls)
DESCRIPTION:
URL:https://www.darulislah.org/events/di-juniors-girls-2/2028-10-20/
CATEGORIES:Masjid Events
END:VEVENT
BEGIN:VEVENT
DTSTART;TZID=America/New_York:20281020T190000
DTEND;TZID=America/New_York:20281020T200000
DTSTAMP:20260425T082116
CREATED:20260217T203504Z
LAST-MODIFIED:20260326T145420Z
UID:10001704-1855681200-1855684800@www.darulislah.org
SUMMARY:Sisters' Halaqa
DESCRIPTION:
URL:https://www.darulislah.org/events/sisters-halaqa-2/2028-10-20/
CATEGORIES:Masjid Events
ATTACH;FMTTYPE=image/png:https://www.darulislah.org/wp-content/uploads/2025/09/Sr.-Sherins-Halaqa-Real-Estate-Flyer-11.png
END:VEVENT
BEGIN:VEVENT
DTSTART;TZID=America/New_York:20281021T054500
DTEND;TZID=America/New_York:20281021T183000
DTSTAMP:20260425T082116
CREATED:20260217T203709Z
LAST-MODIFIED:20260326T145434Z
UID:10000661-1855719900-1855765800@www.darulislah.org
SUMMARY:Journey Through the Hadith
DESCRIPTION:
URL:https://www.darulislah.org/events/journey-through-the-hadith-2/2028-10-21/
CATEGORIES:Masjid Events
ATTACH;FMTTYPE=image/png:https://www.darulislah.org/wp-content/uploads/2025/09/Fajr-Khatiras-1.png
END:VEVENT
BEGIN:VEVENT
DTSTART;TZID=America/New_York:20281021T120000
DTEND;TZID=America/New_York:20281021T130000
DTSTAMP:20260425T082116
CREATED:20250902T201934Z
LAST-MODIFIED:20250902T201934Z
UID:10001965-1855742400-1855746000@www.darulislah.org
SUMMARY:Sisters' Tajweed Class
DESCRIPTION:
URL:https://www.darulislah.org/events/sisters-tajweed-class/2028-10-21/
CATEGORIES:Masjid Events
ATTACH;FMTTYPE=image/png:https://www.darulislah.org/wp-content/uploads/2025/09/Sisters-Tajweed-Class-7.png
END:VEVENT
BEGIN:VEVENT
DTSTART;TZID=America/New_York:20281022T054500
DTEND;TZID=America/New_York:20281022T063000
DTSTAMP:20260425T082116
CREATED:20250902T175939Z
LAST-MODIFIED:20250902T180641Z
UID:10000921-1855806300-1855809000@www.darulislah.org
SUMMARY:Journey through the Quran
DESCRIPTION:Fajr Khatirah with Imam Saeed Qureshi
URL:https://www.darulislah.org/events/journey-through-the-quran/2028-10-22/
CATEGORIES:Masjid Events
ATTACH;FMTTYPE=image/png:https://www.darulislah.org/wp-content/uploads/2025/04/Fajr-Khatiras-1.png
END:VEVENT
BEGIN:VEVENT
DTSTART;TZID=America/New_York:20281025T193000
DTEND;TZID=America/New_York:20281025T200000
DTSTAMP:20260425T082116
CREATED:20260217T203400Z
LAST-MODIFIED:20260326T145414Z
UID:10001444-1856115000-1856116800@www.darulislah.org
SUMMARY:Sh. Waleed's Post Maghrib Khatira
DESCRIPTION:
URL:https://www.darulislah.org/events/sh-waleeds-post-maghrib-khatira-2-2/2028-10-25/
CATEGORIES:Masjid Events
ATTACH;FMTTYPE=image/png:https://www.darulislah.org/wp-content/uploads/2025/09/Weekdays-With-Sheikh-2.png
END:VEVENT
BEGIN:VEVENT
DTSTART;TZID=America/New_York:20281027T130000
DTEND;TZID=America/New_York:20281027T150000
DTSTAMP:20260425T082116
CREATED:20250902T175228Z
LAST-MODIFIED:20250902T175229Z
UID:10000401-1856264400-1856271600@www.darulislah.org
SUMMARY:Jummah
DESCRIPTION:
URL:https://www.darulislah.org/events/jummah-3/2028-10-27/
CATEGORIES:Masjid Events
END:VEVENT
BEGIN:VEVENT
DTSTART;TZID=America/New_York:20281027T170000
DTEND;TZID=America/New_York:20281027T183000
DTSTAMP:20260425T082116
CREATED:20250911T163416Z
LAST-MODIFIED:20250911T163418Z
UID:10002227-1856278800-1856284200@www.darulislah.org
SUMMARY:DI Juniors (Girls)
DESCRIPTION:
URL:https://www.darulislah.org/events/di-juniors-girls-2/2028-10-27/
CATEGORIES:Masjid Events
END:VEVENT
BEGIN:VEVENT
DTSTART;TZID=America/New_York:20281027T190000
DTEND;TZID=America/New_York:20281027T200000
DTSTAMP:20260425T082116
CREATED:20260217T203504Z
LAST-MODIFIED:20260326T145420Z
UID:10001705-1856286000-1856289600@www.darulislah.org
SUMMARY:Sisters' Halaqa
DESCRIPTION:
URL:https://www.darulislah.org/events/sisters-halaqa-2/2028-10-27/
CATEGORIES:Masjid Events
ATTACH;FMTTYPE=image/png:https://www.darulislah.org/wp-content/uploads/2025/09/Sr.-Sherins-Halaqa-Real-Estate-Flyer-11.png
END:VEVENT
BEGIN:VEVENT
DTSTART;TZID=America/New_York:20281028T054500
DTEND;TZID=America/New_York:20281028T183000
DTSTAMP:20260425T082116
CREATED:20260217T203709Z
LAST-MODIFIED:20260326T145434Z
UID:10000662-1856324700-1856370600@www.darulislah.org
SUMMARY:Journey Through the Hadith
DESCRIPTION:
URL:https://www.darulislah.org/events/journey-through-the-hadith-2/2028-10-28/
CATEGORIES:Masjid Events
ATTACH;FMTTYPE=image/png:https://www.darulislah.org/wp-content/uploads/2025/09/Fajr-Khatiras-1.png
END:VEVENT
BEGIN:VEVENT
DTSTART;TZID=America/New_York:20281028T120000
DTEND;TZID=America/New_York:20281028T130000
DTSTAMP:20260425T082116
CREATED:20250902T201934Z
LAST-MODIFIED:20250902T201934Z
UID:10001966-1856347200-1856350800@www.darulislah.org
SUMMARY:Sisters' Tajweed Class
DESCRIPTION:
URL:https://www.darulislah.org/events/sisters-tajweed-class/2028-10-28/
CATEGORIES:Masjid Events
ATTACH;FMTTYPE=image/png:https://www.darulislah.org/wp-content/uploads/2025/09/Sisters-Tajweed-Class-7.png
END:VEVENT
BEGIN:VEVENT
DTSTART;TZID=America/New_York:20281029T054500
DTEND;TZID=America/New_York:20281029T063000
DTSTAMP:20260425T082116
CREATED:20250902T175939Z
LAST-MODIFIED:20250902T180641Z
UID:10000922-1856411100-1856413800@www.darulislah.org
SUMMARY:Journey through the Quran
DESCRIPTION:Fajr Khatirah with Imam Saeed Qureshi
URL:https://www.darulislah.org/events/journey-through-the-quran/2028-10-29/
CATEGORIES:Masjid Events
ATTACH;FMTTYPE=image/png:https://www.darulislah.org/wp-content/uploads/2025/04/Fajr-Khatiras-1.png
END:VEVENT
END:VCALENDAR