BEGIN:VCALENDAR
VERSION:2.0
PRODID:-//Darul Islah | Muslim Society of Bergen County - ECPv6.15.20//NONSGML v1.0//EN
CALSCALE:GREGORIAN
METHOD:PUBLISH
X-ORIGINAL-URL:https://www.darulislah.org
X-WR-CALDESC:Events for Darul Islah | Muslim Society of Bergen County
REFRESH-INTERVAL;VALUE=DURATION:PT1H
X-Robots-Tag:noindex
X-PUBLISHED-TTL:PT1H
BEGIN:VTIMEZONE
TZID:America/New_York
BEGIN:DAYLIGHT
TZOFFSETFROM:-0500
TZOFFSETTO:-0400
TZNAME:EDT
DTSTART:20250309T070000
END:DAYLIGHT
BEGIN:STANDARD
TZOFFSETFROM:-0400
TZOFFSETTO:-0500
TZNAME:EST
DTSTART:20251102T060000
END:STANDARD
BEGIN:DAYLIGHT
TZOFFSETFROM:-0500
TZOFFSETTO:-0400
TZNAME:EDT
DTSTART:20260308T070000
END:DAYLIGHT
BEGIN:STANDARD
TZOFFSETFROM:-0400
TZOFFSETTO:-0500
TZNAME:EST
DTSTART:20261101T060000
END:STANDARD
BEGIN:DAYLIGHT
TZOFFSETFROM:-0500
TZOFFSETTO:-0400
TZNAME:EDT
DTSTART:20270314T070000
END:DAYLIGHT
BEGIN:STANDARD
TZOFFSETFROM:-0400
TZOFFSETTO:-0500
TZNAME:EST
DTSTART:20271107T060000
END:STANDARD
END:VTIMEZONE
BEGIN:VEVENT
DTSTART;TZID=America/New_York:20260701T193000
DTEND;TZID=America/New_York:20260701T200000
DTSTAMP:20260423T162423
CREATED:20260217T203400Z
LAST-MODIFIED:20260326T145414Z
UID:10001323-1782934200-1782936000@www.darulislah.org
SUMMARY:Sh. Waleed's Post Maghrib Khatira
DESCRIPTION:
URL:https://www.darulislah.org/events/sh-waleeds-post-maghrib-khatira-2-2/2026-07-01/
CATEGORIES:Masjid Events
ATTACH;FMTTYPE=image/png:https://www.darulislah.org/wp-content/uploads/2025/09/Weekdays-With-Sheikh-2.png
END:VEVENT
BEGIN:VEVENT
DTSTART;TZID=America/New_York:20260703T130000
DTEND;TZID=America/New_York:20260703T150000
DTSTAMP:20260423T162423
CREATED:20250902T175228Z
LAST-MODIFIED:20250902T175229Z
UID:10000280-1783083600-1783090800@www.darulislah.org
SUMMARY:Jummah
DESCRIPTION:
URL:https://www.darulislah.org/events/jummah-3/2026-07-03/
CATEGORIES:Masjid Events
END:VEVENT
BEGIN:VEVENT
DTSTART;TZID=America/New_York:20260703T170000
DTEND;TZID=America/New_York:20260703T183000
DTSTAMP:20260423T162423
CREATED:20250911T163416Z
LAST-MODIFIED:20250911T163418Z
UID:10002106-1783098000-1783103400@www.darulislah.org
SUMMARY:DI Juniors (Girls)
DESCRIPTION:
URL:https://www.darulislah.org/events/di-juniors-girls-2/2026-07-03/
CATEGORIES:Masjid Events
END:VEVENT
BEGIN:VEVENT
DTSTART;TZID=America/New_York:20260703T190000
DTEND;TZID=America/New_York:20260703T200000
DTSTAMP:20260423T162423
CREATED:20260217T203504Z
LAST-MODIFIED:20260326T145420Z
UID:10001584-1783105200-1783108800@www.darulislah.org
SUMMARY:Sisters' Halaqa
DESCRIPTION:
URL:https://www.darulislah.org/events/sisters-halaqa-2/2026-07-03/
CATEGORIES:Masjid Events
ATTACH;FMTTYPE=image/png:https://www.darulislah.org/wp-content/uploads/2025/09/Sr.-Sherins-Halaqa-Real-Estate-Flyer-11.png
END:VEVENT
BEGIN:VEVENT
DTSTART;TZID=America/New_York:20260704T054500
DTEND;TZID=America/New_York:20260704T183000
DTSTAMP:20260423T162423
CREATED:20260217T203709Z
LAST-MODIFIED:20260326T145434Z
UID:10000541-1783143900-1783189800@www.darulislah.org
SUMMARY:Journey Through the Hadith
DESCRIPTION:
URL:https://www.darulislah.org/events/journey-through-the-hadith-2/2026-07-04/
CATEGORIES:Masjid Events
ATTACH;FMTTYPE=image/png:https://www.darulislah.org/wp-content/uploads/2025/09/Fajr-Khatiras-1.png
END:VEVENT
BEGIN:VEVENT
DTSTART;TZID=America/New_York:20260704T120000
DTEND;TZID=America/New_York:20260704T130000
DTSTAMP:20260423T162423
CREATED:20250902T201934Z
LAST-MODIFIED:20250902T201934Z
UID:10001845-1783166400-1783170000@www.darulislah.org
SUMMARY:Sisters' Tajweed Class
DESCRIPTION:
URL:https://www.darulislah.org/events/sisters-tajweed-class/2026-07-04/
CATEGORIES:Masjid Events
ATTACH;FMTTYPE=image/png:https://www.darulislah.org/wp-content/uploads/2025/09/Sisters-Tajweed-Class-7.png
END:VEVENT
BEGIN:VEVENT
DTSTART;TZID=America/New_York:20260705T054500
DTEND;TZID=America/New_York:20260705T063000
DTSTAMP:20260423T162423
CREATED:20250902T175939Z
LAST-MODIFIED:20250902T180641Z
UID:10000801-1783230300-1783233000@www.darulislah.org
SUMMARY:Journey through the Quran
DESCRIPTION:Fajr Khatirah with Imam Saeed Qureshi
URL:https://www.darulislah.org/events/journey-through-the-quran/2026-07-05/
CATEGORIES:Masjid Events
ATTACH;FMTTYPE=image/png:https://www.darulislah.org/wp-content/uploads/2025/04/Fajr-Khatiras-1.png
END:VEVENT
BEGIN:VEVENT
DTSTART;TZID=America/New_York:20260708T193000
DTEND;TZID=America/New_York:20260708T200000
DTSTAMP:20260423T162423
CREATED:20260217T203400Z
LAST-MODIFIED:20260326T145414Z
UID:10001324-1783539000-1783540800@www.darulislah.org
SUMMARY:Sh. Waleed's Post Maghrib Khatira
DESCRIPTION:
URL:https://www.darulislah.org/events/sh-waleeds-post-maghrib-khatira-2-2/2026-07-08/
CATEGORIES:Masjid Events
ATTACH;FMTTYPE=image/png:https://www.darulislah.org/wp-content/uploads/2025/09/Weekdays-With-Sheikh-2.png
END:VEVENT
BEGIN:VEVENT
DTSTART;TZID=America/New_York:20260710T130000
DTEND;TZID=America/New_York:20260710T150000
DTSTAMP:20260423T162423
CREATED:20250902T175228Z
LAST-MODIFIED:20250902T175229Z
UID:10000281-1783688400-1783695600@www.darulislah.org
SUMMARY:Jummah
DESCRIPTION:
URL:https://www.darulislah.org/events/jummah-3/2026-07-10/
CATEGORIES:Masjid Events
END:VEVENT
BEGIN:VEVENT
DTSTART;TZID=America/New_York:20260710T170000
DTEND;TZID=America/New_York:20260710T183000
DTSTAMP:20260423T162423
CREATED:20250911T163416Z
LAST-MODIFIED:20250911T163418Z
UID:10002107-1783702800-1783708200@www.darulislah.org
SUMMARY:DI Juniors (Girls)
DESCRIPTION:
URL:https://www.darulislah.org/events/di-juniors-girls-2/2026-07-10/
CATEGORIES:Masjid Events
END:VEVENT
BEGIN:VEVENT
DTSTART;TZID=America/New_York:20260710T190000
DTEND;TZID=America/New_York:20260710T200000
DTSTAMP:20260423T162423
CREATED:20260217T203504Z
LAST-MODIFIED:20260326T145420Z
UID:10001585-1783710000-1783713600@www.darulislah.org
SUMMARY:Sisters' Halaqa
DESCRIPTION:
URL:https://www.darulislah.org/events/sisters-halaqa-2/2026-07-10/
CATEGORIES:Masjid Events
ATTACH;FMTTYPE=image/png:https://www.darulislah.org/wp-content/uploads/2025/09/Sr.-Sherins-Halaqa-Real-Estate-Flyer-11.png
END:VEVENT
BEGIN:VEVENT
DTSTART;TZID=America/New_York:20260711T054500
DTEND;TZID=America/New_York:20260711T183000
DTSTAMP:20260423T162423
CREATED:20260217T203709Z
LAST-MODIFIED:20260326T145434Z
UID:10000542-1783748700-1783794600@www.darulislah.org
SUMMARY:Journey Through the Hadith
DESCRIPTION:
URL:https://www.darulislah.org/events/journey-through-the-hadith-2/2026-07-11/
CATEGORIES:Masjid Events
ATTACH;FMTTYPE=image/png:https://www.darulislah.org/wp-content/uploads/2025/09/Fajr-Khatiras-1.png
END:VEVENT
BEGIN:VEVENT
DTSTART;TZID=America/New_York:20260711T120000
DTEND;TZID=America/New_York:20260711T130000
DTSTAMP:20260423T162423
CREATED:20250902T201934Z
LAST-MODIFIED:20250902T201934Z
UID:10001846-1783771200-1783774800@www.darulislah.org
SUMMARY:Sisters' Tajweed Class
DESCRIPTION:
URL:https://www.darulislah.org/events/sisters-tajweed-class/2026-07-11/
CATEGORIES:Masjid Events
ATTACH;FMTTYPE=image/png:https://www.darulislah.org/wp-content/uploads/2025/09/Sisters-Tajweed-Class-7.png
END:VEVENT
BEGIN:VEVENT
DTSTART;TZID=America/New_York:20260712T054500
DTEND;TZID=America/New_York:20260712T063000
DTSTAMP:20260423T162423
CREATED:20250902T175939Z
LAST-MODIFIED:20250902T180641Z
UID:10000802-1783835100-1783837800@www.darulislah.org
SUMMARY:Journey through the Quran
DESCRIPTION:Fajr Khatirah with Imam Saeed Qureshi
URL:https://www.darulislah.org/events/journey-through-the-quran/2026-07-12/
CATEGORIES:Masjid Events
ATTACH;FMTTYPE=image/png:https://www.darulislah.org/wp-content/uploads/2025/04/Fajr-Khatiras-1.png
END:VEVENT
BEGIN:VEVENT
DTSTART;TZID=America/New_York:20260715T193000
DTEND;TZID=America/New_York:20260715T200000
DTSTAMP:20260423T162423
CREATED:20260217T203400Z
LAST-MODIFIED:20260326T145414Z
UID:10001325-1784143800-1784145600@www.darulislah.org
SUMMARY:Sh. Waleed's Post Maghrib Khatira
DESCRIPTION:
URL:https://www.darulislah.org/events/sh-waleeds-post-maghrib-khatira-2-2/2026-07-15/
CATEGORIES:Masjid Events
ATTACH;FMTTYPE=image/png:https://www.darulislah.org/wp-content/uploads/2025/09/Weekdays-With-Sheikh-2.png
END:VEVENT
BEGIN:VEVENT
DTSTART;TZID=America/New_York:20260717T130000
DTEND;TZID=America/New_York:20260717T150000
DTSTAMP:20260423T162423
CREATED:20250902T175228Z
LAST-MODIFIED:20250902T175229Z
UID:10000282-1784293200-1784300400@www.darulislah.org
SUMMARY:Jummah
DESCRIPTION:
URL:https://www.darulislah.org/events/jummah-3/2026-07-17/
CATEGORIES:Masjid Events
END:VEVENT
BEGIN:VEVENT
DTSTART;TZID=America/New_York:20260717T170000
DTEND;TZID=America/New_York:20260717T183000
DTSTAMP:20260423T162423
CREATED:20250911T163416Z
LAST-MODIFIED:20250911T163418Z
UID:10002108-1784307600-1784313000@www.darulislah.org
SUMMARY:DI Juniors (Girls)
DESCRIPTION:
URL:https://www.darulislah.org/events/di-juniors-girls-2/2026-07-17/
CATEGORIES:Masjid Events
END:VEVENT
BEGIN:VEVENT
DTSTART;TZID=America/New_York:20260717T190000
DTEND;TZID=America/New_York:20260717T200000
DTSTAMP:20260423T162423
CREATED:20260217T203504Z
LAST-MODIFIED:20260326T145420Z
UID:10001586-1784314800-1784318400@www.darulislah.org
SUMMARY:Sisters' Halaqa
DESCRIPTION:
URL:https://www.darulislah.org/events/sisters-halaqa-2/2026-07-17/
CATEGORIES:Masjid Events
ATTACH;FMTTYPE=image/png:https://www.darulislah.org/wp-content/uploads/2025/09/Sr.-Sherins-Halaqa-Real-Estate-Flyer-11.png
END:VEVENT
BEGIN:VEVENT
DTSTART;TZID=America/New_York:20260718T054500
DTEND;TZID=America/New_York:20260718T183000
DTSTAMP:20260423T162423
CREATED:20260217T203709Z
LAST-MODIFIED:20260326T145434Z
UID:10000543-1784353500-1784399400@www.darulislah.org
SUMMARY:Journey Through the Hadith
DESCRIPTION:
URL:https://www.darulislah.org/events/journey-through-the-hadith-2/2026-07-18/
CATEGORIES:Masjid Events
ATTACH;FMTTYPE=image/png:https://www.darulislah.org/wp-content/uploads/2025/09/Fajr-Khatiras-1.png
END:VEVENT
BEGIN:VEVENT
DTSTART;TZID=America/New_York:20260718T120000
DTEND;TZID=America/New_York:20260718T130000
DTSTAMP:20260423T162423
CREATED:20250902T201934Z
LAST-MODIFIED:20250902T201934Z
UID:10001847-1784376000-1784379600@www.darulislah.org
SUMMARY:Sisters' Tajweed Class
DESCRIPTION:
URL:https://www.darulislah.org/events/sisters-tajweed-class/2026-07-18/
CATEGORIES:Masjid Events
ATTACH;FMTTYPE=image/png:https://www.darulislah.org/wp-content/uploads/2025/09/Sisters-Tajweed-Class-7.png
END:VEVENT
BEGIN:VEVENT
DTSTART;TZID=America/New_York:20260719T054500
DTEND;TZID=America/New_York:20260719T063000
DTSTAMP:20260423T162423
CREATED:20250902T175939Z
LAST-MODIFIED:20250902T180641Z
UID:10000803-1784439900-1784442600@www.darulislah.org
SUMMARY:Journey through the Quran
DESCRIPTION:Fajr Khatirah with Imam Saeed Qureshi
URL:https://www.darulislah.org/events/journey-through-the-quran/2026-07-19/
CATEGORIES:Masjid Events
ATTACH;FMTTYPE=image/png:https://www.darulislah.org/wp-content/uploads/2025/04/Fajr-Khatiras-1.png
END:VEVENT
BEGIN:VEVENT
DTSTART;TZID=America/New_York:20260722T193000
DTEND;TZID=America/New_York:20260722T200000
DTSTAMP:20260423T162423
CREATED:20260217T203400Z
LAST-MODIFIED:20260326T145414Z
UID:10001326-1784748600-1784750400@www.darulislah.org
SUMMARY:Sh. Waleed's Post Maghrib Khatira
DESCRIPTION:
URL:https://www.darulislah.org/events/sh-waleeds-post-maghrib-khatira-2-2/2026-07-22/
CATEGORIES:Masjid Events
ATTACH;FMTTYPE=image/png:https://www.darulislah.org/wp-content/uploads/2025/09/Weekdays-With-Sheikh-2.png
END:VEVENT
BEGIN:VEVENT
DTSTART;TZID=America/New_York:20260724T130000
DTEND;TZID=America/New_York:20260724T150000
DTSTAMP:20260423T162423
CREATED:20250902T175228Z
LAST-MODIFIED:20250902T175229Z
UID:10000283-1784898000-1784905200@www.darulislah.org
SUMMARY:Jummah
DESCRIPTION:
URL:https://www.darulislah.org/events/jummah-3/2026-07-24/
CATEGORIES:Masjid Events
END:VEVENT
BEGIN:VEVENT
DTSTART;TZID=America/New_York:20260724T170000
DTEND;TZID=America/New_York:20260724T183000
DTSTAMP:20260423T162423
CREATED:20250911T163416Z
LAST-MODIFIED:20250911T163418Z
UID:10002109-1784912400-1784917800@www.darulislah.org
SUMMARY:DI Juniors (Girls)
DESCRIPTION:
URL:https://www.darulislah.org/events/di-juniors-girls-2/2026-07-24/
CATEGORIES:Masjid Events
END:VEVENT
BEGIN:VEVENT
DTSTART;TZID=America/New_York:20260724T190000
DTEND;TZID=America/New_York:20260724T200000
DTSTAMP:20260423T162423
CREATED:20260217T203504Z
LAST-MODIFIED:20260326T145420Z
UID:10001587-1784919600-1784923200@www.darulislah.org
SUMMARY:Sisters' Halaqa
DESCRIPTION:
URL:https://www.darulislah.org/events/sisters-halaqa-2/2026-07-24/
CATEGORIES:Masjid Events
ATTACH;FMTTYPE=image/png:https://www.darulislah.org/wp-content/uploads/2025/09/Sr.-Sherins-Halaqa-Real-Estate-Flyer-11.png
END:VEVENT
BEGIN:VEVENT
DTSTART;TZID=America/New_York:20260725T054500
DTEND;TZID=America/New_York:20260725T183000
DTSTAMP:20260423T162423
CREATED:20260217T203709Z
LAST-MODIFIED:20260326T145434Z
UID:10000544-1784958300-1785004200@www.darulislah.org
SUMMARY:Journey Through the Hadith
DESCRIPTION:
URL:https://www.darulislah.org/events/journey-through-the-hadith-2/2026-07-25/
CATEGORIES:Masjid Events
ATTACH;FMTTYPE=image/png:https://www.darulislah.org/wp-content/uploads/2025/09/Fajr-Khatiras-1.png
END:VEVENT
BEGIN:VEVENT
DTSTART;TZID=America/New_York:20260725T120000
DTEND;TZID=America/New_York:20260725T130000
DTSTAMP:20260423T162423
CREATED:20250902T201934Z
LAST-MODIFIED:20250902T201934Z
UID:10001848-1784980800-1784984400@www.darulislah.org
SUMMARY:Sisters' Tajweed Class
DESCRIPTION:
URL:https://www.darulislah.org/events/sisters-tajweed-class/2026-07-25/
CATEGORIES:Masjid Events
ATTACH;FMTTYPE=image/png:https://www.darulislah.org/wp-content/uploads/2025/09/Sisters-Tajweed-Class-7.png
END:VEVENT
BEGIN:VEVENT
DTSTART;TZID=America/New_York:20260726T054500
DTEND;TZID=America/New_York:20260726T063000
DTSTAMP:20260423T162423
CREATED:20250902T175939Z
LAST-MODIFIED:20250902T180641Z
UID:10000804-1785044700-1785047400@www.darulislah.org
SUMMARY:Journey through the Quran
DESCRIPTION:Fajr Khatirah with Imam Saeed Qureshi
URL:https://www.darulislah.org/events/journey-through-the-quran/2026-07-26/
CATEGORIES:Masjid Events
ATTACH;FMTTYPE=image/png:https://www.darulislah.org/wp-content/uploads/2025/04/Fajr-Khatiras-1.png
END:VEVENT
BEGIN:VEVENT
DTSTART;TZID=America/New_York:20260729T193000
DTEND;TZID=America/New_York:20260729T200000
DTSTAMP:20260423T162423
CREATED:20260217T203400Z
LAST-MODIFIED:20260326T145414Z
UID:10001327-1785353400-1785355200@www.darulislah.org
SUMMARY:Sh. Waleed's Post Maghrib Khatira
DESCRIPTION:
URL:https://www.darulislah.org/events/sh-waleeds-post-maghrib-khatira-2-2/2026-07-29/
CATEGORIES:Masjid Events
ATTACH;FMTTYPE=image/png:https://www.darulislah.org/wp-content/uploads/2025/09/Weekdays-With-Sheikh-2.png
END:VEVENT
BEGIN:VEVENT
DTSTART;TZID=America/New_York:20260731T130000
DTEND;TZID=America/New_York:20260731T150000
DTSTAMP:20260423T162423
CREATED:20250902T175228Z
LAST-MODIFIED:20250902T175229Z
UID:10000284-1785502800-1785510000@www.darulislah.org
SUMMARY:Jummah
DESCRIPTION:
URL:https://www.darulislah.org/events/jummah-3/2026-07-31/
CATEGORIES:Masjid Events
END:VEVENT
END:VCALENDAR