BEGIN:VCALENDAR
VERSION:2.0
PRODID:-//Darul Islah | Muslim Society of Bergen County - ECPv6.15.20//NONSGML v1.0//EN
CALSCALE:GREGORIAN
METHOD:PUBLISH
X-WR-CALNAME:Darul Islah | Muslim Society of Bergen County
X-ORIGINAL-URL:https://www.darulislah.org
X-WR-CALDESC:Events for Darul Islah | Muslim Society of Bergen County
REFRESH-INTERVAL;VALUE=DURATION:PT1H
X-Robots-Tag:noindex
X-PUBLISHED-TTL:PT1H
BEGIN:VTIMEZONE
TZID:America/New_York
BEGIN:DAYLIGHT
TZOFFSETFROM:-0500
TZOFFSETTO:-0400
TZNAME:EDT
DTSTART:20240310T070000
END:DAYLIGHT
BEGIN:STANDARD
TZOFFSETFROM:-0400
TZOFFSETTO:-0500
TZNAME:EST
DTSTART:20241103T060000
END:STANDARD
BEGIN:DAYLIGHT
TZOFFSETFROM:-0500
TZOFFSETTO:-0400
TZNAME:EDT
DTSTART:20250309T070000
END:DAYLIGHT
BEGIN:STANDARD
TZOFFSETFROM:-0400
TZOFFSETTO:-0500
TZNAME:EST
DTSTART:20251102T060000
END:STANDARD
BEGIN:DAYLIGHT
TZOFFSETFROM:-0500
TZOFFSETTO:-0400
TZNAME:EDT
DTSTART:20260308T070000
END:DAYLIGHT
BEGIN:STANDARD
TZOFFSETFROM:-0400
TZOFFSETTO:-0500
TZNAME:EST
DTSTART:20261101T060000
END:STANDARD
END:VTIMEZONE
BEGIN:VEVENT
DTSTART;TZID=America/New_York:20251101T054500
DTEND;TZID=America/New_York:20251101T183000
DTSTAMP:20260423T185311
CREATED:20250902T180345Z
LAST-MODIFIED:20250902T194454Z
UID:10000506-1761975900-1762021800@www.darulislah.org
SUMMARY:Journey Through the Hadith
DESCRIPTION:
URL:https://www.darulislah.org/events/journey-through-the-hadith/2025-11-01/
CATEGORIES:Masjid Events
ATTACH;FMTTYPE=image/png:https://www.darulislah.org/wp-content/uploads/2025/09/Fajr-Khatiras-1.png
END:VEVENT
BEGIN:VEVENT
DTSTART;TZID=America/New_York:20251101T120000
DTEND;TZID=America/New_York:20251101T130000
DTSTAMP:20260423T185311
CREATED:20250902T201934Z
LAST-MODIFIED:20250902T201934Z
UID:10001810-1761998400-1762002000@www.darulislah.org
SUMMARY:Sisters' Tajweed Class
DESCRIPTION:
URL:https://www.darulislah.org/events/sisters-tajweed-class/2025-11-01/
CATEGORIES:Masjid Events
ATTACH;FMTTYPE=image/png:https://www.darulislah.org/wp-content/uploads/2025/09/Sisters-Tajweed-Class-7.png
END:VEVENT
BEGIN:VEVENT
DTSTART;TZID=America/New_York:20251101T180000
DTEND;TZID=America/New_York:20251101T200000
DTSTAMP:20260423T185311
CREATED:20251022T144932Z
LAST-MODIFIED:20251022T144940Z
UID:10002358-1762020000-1762027200@www.darulislah.org
SUMMARY:Honoring Our Elders\, Housing with Heat
DESCRIPTION:Our Senior Housing Fundraiser will be held on Saturday\, November 1st after Maghrib Salah\, followed by a community dinner.
URL:https://www.darulislah.org/events/honoring-our-elders-housing-with-heat/
CATEGORIES:Masjid Events
ATTACH;FMTTYPE=image/png:https://www.darulislah.org/wp-content/uploads/2025/10/DI-Fundraiser-Flyer-5.png
END:VEVENT
BEGIN:VEVENT
DTSTART;TZID=America/New_York:20251101T183000
DTEND;TZID=America/New_York:20251101T200000
DTSTAMP:20260423T185311
CREATED:20250917T225127Z
LAST-MODIFIED:20251003T200111Z
UID:10002326-1762021800-1762027200@www.darulislah.org
SUMMARY:Honoring Our Elders\, Housing with Heart
DESCRIPTION:Darul Islah invites you to Honoring Our Elders\, Housing with Heart! Join us for a special fundraiser in support of our Senior Housing Project\, where we will share important updates and enjoy a community dinner together. We warmly encourage everyone to attend and support this vital initiative.
URL:https://www.darulislah.org/events/seniorhousingfundraiser/
CATEGORIES:Masjid Events
ATTACH;FMTTYPE=image/png:https://www.darulislah.org/wp-content/uploads/2025/09/DI-Fundraiser-Flyer-4.png
END:VEVENT
BEGIN:VEVENT
DTSTART;TZID=America/New_York:20251102T054500
DTEND;TZID=America/New_York:20251102T063000
DTSTAMP:20260423T185311
CREATED:20250902T175939Z
LAST-MODIFIED:20250902T180641Z
UID:10000766-1762062300-1762065000@www.darulislah.org
SUMMARY:Journey through the Quran
DESCRIPTION:Fajr Khatirah with Imam Saeed Qureshi
URL:https://www.darulislah.org/events/journey-through-the-quran/2025-11-02/
CATEGORIES:Masjid Events
ATTACH;FMTTYPE=image/png:https://www.darulislah.org/wp-content/uploads/2025/04/Fajr-Khatiras-1.png
END:VEVENT
BEGIN:VEVENT
DTSTART;TZID=America/New_York:20251103T190000
DTEND;TZID=America/New_York:20251103T200000
DTSTAMP:20260423T185311
CREATED:20250902T195429Z
LAST-MODIFIED:20251007T164202Z
UID:10001027-1762196400-1762200000@www.darulislah.org
SUMMARY:40 Hadith for Youth with Sh. Waleed
DESCRIPTION:
URL:https://www.darulislah.org/events/40hadith/2025-11-03/
CATEGORIES:Masjid Events
ATTACH;FMTTYPE=image/png:https://www.darulislah.org/wp-content/uploads/2025/09/Weekdays-With-Sheikh-2.png
END:VEVENT
BEGIN:VEVENT
DTSTART;TZID=America/New_York:20251105T193000
DTEND;TZID=America/New_York:20251105T200000
DTSTAMP:20260423T185311
CREATED:20251007T164318Z
LAST-MODIFIED:20251007T164324Z
UID:10001289-1762371000-1762372800@www.darulislah.org
SUMMARY:Sh. Waleed's Post Maghrib Khatira
DESCRIPTION:
URL:https://www.darulislah.org/events/sh-waleeds-post-maghrib-khatira-2/2025-11-05/
CATEGORIES:Masjid Events
ATTACH;FMTTYPE=image/png:https://www.darulislah.org/wp-content/uploads/2025/09/Weekdays-With-Sheikh-2.png
END:VEVENT
BEGIN:VEVENT
DTSTART;TZID=America/New_York:20251107T130000
DTEND;TZID=America/New_York:20251107T150000
DTSTAMP:20260423T185311
CREATED:20250902T175228Z
LAST-MODIFIED:20250902T175229Z
UID:10000246-1762520400-1762527600@www.darulislah.org
SUMMARY:Jummah
DESCRIPTION:
URL:https://www.darulislah.org/events/jummah-3/2025-11-07/
CATEGORIES:Masjid Events
END:VEVENT
BEGIN:VEVENT
DTSTART;TZID=America/New_York:20251107T170000
DTEND;TZID=America/New_York:20251107T183000
DTSTAMP:20260423T185311
CREATED:20250911T163416Z
LAST-MODIFIED:20250911T163418Z
UID:10002072-1762534800-1762540200@www.darulislah.org
SUMMARY:DI Juniors (Girls)
DESCRIPTION:
URL:https://www.darulislah.org/events/di-juniors-girls-2/2025-11-07/
CATEGORIES:Masjid Events
END:VEVENT
BEGIN:VEVENT
DTSTART;TZID=America/New_York:20251107T190000
DTEND;TZID=America/New_York:20251107T200000
DTSTAMP:20260423T185311
CREATED:20250902T201159Z
LAST-MODIFIED:20250902T201159Z
UID:10001550-1762542000-1762545600@www.darulislah.org
SUMMARY:Sisters' Halaqa
DESCRIPTION:
URL:https://www.darulislah.org/events/sisters-halaqa/2025-11-07/
CATEGORIES:Masjid Events
ATTACH;FMTTYPE=image/png:https://www.darulislah.org/wp-content/uploads/2025/09/Sr.-Sherins-Halaqa-Real-Estate-Flyer-11.png
END:VEVENT
BEGIN:VEVENT
DTSTART;TZID=America/New_York:20251108T054500
DTEND;TZID=America/New_York:20251108T183000
DTSTAMP:20260423T185311
CREATED:20250902T180345Z
LAST-MODIFIED:20250902T194454Z
UID:10000507-1762580700-1762626600@www.darulislah.org
SUMMARY:Journey Through the Hadith
DESCRIPTION:
URL:https://www.darulislah.org/events/journey-through-the-hadith/2025-11-08/
CATEGORIES:Masjid Events
ATTACH;FMTTYPE=image/png:https://www.darulislah.org/wp-content/uploads/2025/09/Fajr-Khatiras-1.png
END:VEVENT
BEGIN:VEVENT
DTSTART;TZID=America/New_York:20251108T120000
DTEND;TZID=America/New_York:20251108T130000
DTSTAMP:20260423T185311
CREATED:20250902T201934Z
LAST-MODIFIED:20250902T201934Z
UID:10001811-1762603200-1762606800@www.darulislah.org
SUMMARY:Sisters' Tajweed Class
DESCRIPTION:
URL:https://www.darulislah.org/events/sisters-tajweed-class/2025-11-08/
CATEGORIES:Masjid Events
ATTACH;FMTTYPE=image/png:https://www.darulislah.org/wp-content/uploads/2025/09/Sisters-Tajweed-Class-7.png
END:VEVENT
BEGIN:VEVENT
DTSTART;TZID=America/New_York:20251109T054500
DTEND;TZID=America/New_York:20251109T063000
DTSTAMP:20260423T185311
CREATED:20250902T175939Z
LAST-MODIFIED:20250902T180641Z
UID:10000767-1762667100-1762669800@www.darulislah.org
SUMMARY:Journey through the Quran
DESCRIPTION:Fajr Khatirah with Imam Saeed Qureshi
URL:https://www.darulislah.org/events/journey-through-the-quran/2025-11-09/
CATEGORIES:Masjid Events
ATTACH;FMTTYPE=image/png:https://www.darulislah.org/wp-content/uploads/2025/04/Fajr-Khatiras-1.png
END:VEVENT
BEGIN:VEVENT
DTSTART;TZID=America/New_York:20251110T190000
DTEND;TZID=America/New_York:20251110T200000
DTSTAMP:20260423T185311
CREATED:20250902T195429Z
LAST-MODIFIED:20251007T164202Z
UID:10001028-1762801200-1762804800@www.darulislah.org
SUMMARY:40 Hadith for Youth with Sh. Waleed
DESCRIPTION:
URL:https://www.darulislah.org/events/40hadith/2025-11-10/
CATEGORIES:Masjid Events
ATTACH;FMTTYPE=image/png:https://www.darulislah.org/wp-content/uploads/2025/09/Weekdays-With-Sheikh-2.png
END:VEVENT
BEGIN:VEVENT
DTSTART;TZID=America/New_York:20251112T193000
DTEND;TZID=America/New_York:20251112T200000
DTSTAMP:20260423T185311
CREATED:20251007T164318Z
LAST-MODIFIED:20251007T164324Z
UID:10001290-1762975800-1762977600@www.darulislah.org
SUMMARY:Sh. Waleed's Post Maghrib Khatira
DESCRIPTION:
URL:https://www.darulislah.org/events/sh-waleeds-post-maghrib-khatira-2/2025-11-12/
CATEGORIES:Masjid Events
ATTACH;FMTTYPE=image/png:https://www.darulislah.org/wp-content/uploads/2025/09/Weekdays-With-Sheikh-2.png
END:VEVENT
BEGIN:VEVENT
DTSTART;TZID=America/New_York:20251113T080000
DTEND;TZID=America/New_York:20251113T170000
DTSTAMP:20260423T185311
CREATED:20251113T160717Z
LAST-MODIFIED:20251113T160717Z
UID:10002368-1763020800-1763053200@www.darulislah.org
SUMMARY:Breathing Matters: The Essential Talk on Lung Health\, Asthma\, Smoking/Vaping (COPD)
DESCRIPTION:
URL:https://www.darulislah.org/events/breathing-matters-the-essential-talk-on-lung-health-asthma-smoking-vaping-copd/
CATEGORIES:Masjid Events
ATTACH;FMTTYPE=image/jpeg:https://www.darulislah.org/wp-content/uploads/2025/11/WhatsApp-Image-2025-11-11-at-11.08.51-PM.jpeg
END:VEVENT
BEGIN:VEVENT
DTSTART;TZID=America/New_York:20251114T130000
DTEND;TZID=America/New_York:20251114T150000
DTSTAMP:20260423T185311
CREATED:20251112T040641Z
LAST-MODIFIED:20251112T040643Z
UID:10000247-1763125200-1763132400@www.darulislah.org
SUMMARY:Jummah
DESCRIPTION:
URL:https://www.darulislah.org/events/jummah-3-8/
CATEGORIES:Masjid Events
ATTACH;FMTTYPE=image/png:https://www.darulislah.org/wp-content/uploads/2025/09/Jumuah-49.png
END:VEVENT
BEGIN:VEVENT
DTSTART;TZID=America/New_York:20251114T170000
DTEND;TZID=America/New_York:20251114T183000
DTSTAMP:20260423T185311
CREATED:20251112T040740Z
LAST-MODIFIED:20251112T040747Z
UID:10002073-1763139600-1763145000@www.darulislah.org
SUMMARY:DI Juniors (Girls)
DESCRIPTION:
URL:https://www.darulislah.org/events/di-juniors-girls-2-8/
CATEGORIES:Masjid Events
ATTACH;FMTTYPE=image/jpeg:https://www.darulislah.org/wp-content/uploads/2025/09/WhatsApp-Image-2025-11-10-at-9.01.21-AM.jpeg
END:VEVENT
BEGIN:VEVENT
DTSTART;TZID=America/New_York:20251114T190000
DTEND;TZID=America/New_York:20251114T200000
DTSTAMP:20260423T185311
CREATED:20250902T201159Z
LAST-MODIFIED:20250902T201159Z
UID:10001551-1763146800-1763150400@www.darulislah.org
SUMMARY:Sisters' Halaqa
DESCRIPTION:
URL:https://www.darulislah.org/events/sisters-halaqa/2025-11-14/
CATEGORIES:Masjid Events
ATTACH;FMTTYPE=image/png:https://www.darulislah.org/wp-content/uploads/2025/09/Sr.-Sherins-Halaqa-Real-Estate-Flyer-11.png
END:VEVENT
BEGIN:VEVENT
DTSTART;TZID=America/New_York:20251115T054500
DTEND;TZID=America/New_York:20251115T183000
DTSTAMP:20260423T185311
CREATED:20250902T180345Z
LAST-MODIFIED:20250902T194454Z
UID:10000508-1763185500-1763231400@www.darulislah.org
SUMMARY:Journey Through the Hadith
DESCRIPTION:
URL:https://www.darulislah.org/events/journey-through-the-hadith/2025-11-15/
CATEGORIES:Masjid Events
ATTACH;FMTTYPE=image/png:https://www.darulislah.org/wp-content/uploads/2025/09/Fajr-Khatiras-1.png
END:VEVENT
BEGIN:VEVENT
DTSTART;TZID=America/New_York:20251115T120000
DTEND;TZID=America/New_York:20251115T130000
DTSTAMP:20260423T185311
CREATED:20250902T201934Z
LAST-MODIFIED:20250902T201934Z
UID:10001812-1763208000-1763211600@www.darulislah.org
SUMMARY:Sisters' Tajweed Class
DESCRIPTION:
URL:https://www.darulislah.org/events/sisters-tajweed-class/2025-11-15/
CATEGORIES:Masjid Events
ATTACH;FMTTYPE=image/png:https://www.darulislah.org/wp-content/uploads/2025/09/Sisters-Tajweed-Class-7.png
END:VEVENT
BEGIN:VEVENT
DTSTART;TZID=America/New_York:20251116T054500
DTEND;TZID=America/New_York:20251116T063000
DTSTAMP:20260423T185311
CREATED:20250902T175939Z
LAST-MODIFIED:20250902T180641Z
UID:10000768-1763271900-1763274600@www.darulislah.org
SUMMARY:Journey through the Quran
DESCRIPTION:Fajr Khatirah with Imam Saeed Qureshi
URL:https://www.darulislah.org/events/journey-through-the-quran/2025-11-16/
CATEGORIES:Masjid Events
ATTACH;FMTTYPE=image/png:https://www.darulislah.org/wp-content/uploads/2025/04/Fajr-Khatiras-1.png
END:VEVENT
BEGIN:VEVENT
DTSTART;TZID=America/New_York:20251117T190000
DTEND;TZID=America/New_York:20251117T200000
DTSTAMP:20260423T185311
CREATED:20250902T195429Z
LAST-MODIFIED:20251007T164202Z
UID:10001029-1763406000-1763409600@www.darulislah.org
SUMMARY:40 Hadith for Youth with Sh. Waleed
DESCRIPTION:
URL:https://www.darulislah.org/events/40hadith/2025-11-17/
CATEGORIES:Masjid Events
ATTACH;FMTTYPE=image/png:https://www.darulislah.org/wp-content/uploads/2025/09/Weekdays-With-Sheikh-2.png
END:VEVENT
BEGIN:VEVENT
DTSTART;TZID=America/New_York:20251119T193000
DTEND;TZID=America/New_York:20251119T200000
DTSTAMP:20260423T185311
CREATED:20251007T164318Z
LAST-MODIFIED:20251007T164324Z
UID:10001291-1763580600-1763582400@www.darulislah.org
SUMMARY:Sh. Waleed's Post Maghrib Khatira
DESCRIPTION:
URL:https://www.darulislah.org/events/sh-waleeds-post-maghrib-khatira-2/2025-11-19/
CATEGORIES:Masjid Events
ATTACH;FMTTYPE=image/png:https://www.darulislah.org/wp-content/uploads/2025/09/Weekdays-With-Sheikh-2.png
END:VEVENT
BEGIN:VEVENT
DTSTART;TZID=America/New_York:20251121T130000
DTEND;TZID=America/New_York:20251121T150000
DTSTAMP:20260423T185311
CREATED:20250902T175228Z
LAST-MODIFIED:20250902T175229Z
UID:10000248-1763730000-1763737200@www.darulislah.org
SUMMARY:Jummah
DESCRIPTION:
URL:https://www.darulislah.org/events/jummah-3/2025-11-21/
CATEGORIES:Masjid Events
END:VEVENT
BEGIN:VEVENT
DTSTART;TZID=America/New_York:20251121T170000
DTEND;TZID=America/New_York:20251121T183000
DTSTAMP:20260423T185311
CREATED:20250911T163416Z
LAST-MODIFIED:20250911T163418Z
UID:10002074-1763744400-1763749800@www.darulislah.org
SUMMARY:DI Juniors (Girls)
DESCRIPTION:
URL:https://www.darulislah.org/events/di-juniors-girls-2/2025-11-21/
CATEGORIES:Masjid Events
END:VEVENT
BEGIN:VEVENT
DTSTART;TZID=America/New_York:20251121T190000
DTEND;TZID=America/New_York:20251121T200000
DTSTAMP:20260423T185311
CREATED:20250902T201159Z
LAST-MODIFIED:20250902T201159Z
UID:10001552-1763751600-1763755200@www.darulislah.org
SUMMARY:Sisters' Halaqa
DESCRIPTION:
URL:https://www.darulislah.org/events/sisters-halaqa/2025-11-21/
CATEGORIES:Masjid Events
ATTACH;FMTTYPE=image/png:https://www.darulislah.org/wp-content/uploads/2025/09/Sr.-Sherins-Halaqa-Real-Estate-Flyer-11.png
END:VEVENT
BEGIN:VEVENT
DTSTART;TZID=America/New_York:20251122T054500
DTEND;TZID=America/New_York:20251122T183000
DTSTAMP:20260423T185311
CREATED:20250902T180345Z
LAST-MODIFIED:20250902T194454Z
UID:10000509-1763790300-1763836200@www.darulislah.org
SUMMARY:Journey Through the Hadith
DESCRIPTION:
URL:https://www.darulislah.org/events/journey-through-the-hadith/2025-11-22/
CATEGORIES:Masjid Events
ATTACH;FMTTYPE=image/png:https://www.darulislah.org/wp-content/uploads/2025/09/Fajr-Khatiras-1.png
END:VEVENT
BEGIN:VEVENT
DTSTART;TZID=America/New_York:20251122T120000
DTEND;TZID=America/New_York:20251122T130000
DTSTAMP:20260423T185311
CREATED:20250902T201934Z
LAST-MODIFIED:20250902T201934Z
UID:10001813-1763812800-1763816400@www.darulislah.org
SUMMARY:Sisters' Tajweed Class
DESCRIPTION:
URL:https://www.darulislah.org/events/sisters-tajweed-class/2025-11-22/
CATEGORIES:Masjid Events
ATTACH;FMTTYPE=image/png:https://www.darulislah.org/wp-content/uploads/2025/09/Sisters-Tajweed-Class-7.png
END:VEVENT
BEGIN:VEVENT
DTSTART;TZID=America/New_York:20251123T054500
DTEND;TZID=America/New_York:20251123T063000
DTSTAMP:20260423T185311
CREATED:20250902T175939Z
LAST-MODIFIED:20250902T180641Z
UID:10000769-1763876700-1763879400@www.darulislah.org
SUMMARY:Journey through the Quran
DESCRIPTION:Fajr Khatirah with Imam Saeed Qureshi
URL:https://www.darulislah.org/events/journey-through-the-quran/2025-11-23/
CATEGORIES:Masjid Events
ATTACH;FMTTYPE=image/png:https://www.darulislah.org/wp-content/uploads/2025/04/Fajr-Khatiras-1.png
END:VEVENT
END:VCALENDAR